BEGIN:VCALENDAR
VERSION:2.0
PRODID:-//Christ Baptist Church - Burlington, NJ - ECPv6.15.20//NONSGML v1.0//EN
CALSCALE:GREGORIAN
METHOD:PUBLISH
X-WR-CALNAME:Christ Baptist Church - Burlington, NJ
X-ORIGINAL-URL:https://cbcburlingtonnj.org
X-WR-CALDESC:Events for Christ Baptist Church - Burlington, NJ
REFRESH-INTERVAL;VALUE=DURATION:PT1H
X-Robots-Tag:noindex
X-PUBLISHED-TTL:PT1H
BEGIN:VTIMEZONE
TZID:America/New_York
BEGIN:DAYLIGHT
TZOFFSETFROM:-0500
TZOFFSETTO:-0400
TZNAME:EDT
DTSTART:20280312T070000
END:DAYLIGHT
BEGIN:STANDARD
TZOFFSETFROM:-0400
TZOFFSETTO:-0500
TZNAME:EST
DTSTART:20281105T060000
END:STANDARD
BEGIN:DAYLIGHT
TZOFFSETFROM:-0500
TZOFFSETTO:-0400
TZNAME:EDT
DTSTART:20290311T070000
END:DAYLIGHT
BEGIN:STANDARD
TZOFFSETFROM:-0400
TZOFFSETTO:-0500
TZNAME:EST
DTSTART:20291104T060000
END:STANDARD
BEGIN:DAYLIGHT
TZOFFSETFROM:-0500
TZOFFSETTO:-0400
TZNAME:EDT
DTSTART:20300310T070000
END:DAYLIGHT
BEGIN:STANDARD
TZOFFSETFROM:-0400
TZOFFSETTO:-0500
TZNAME:EST
DTSTART:20301103T060000
END:STANDARD
BEGIN:DAYLIGHT
TZOFFSETFROM:-0500
TZOFFSETTO:-0400
TZNAME:EDT
DTSTART:20310309T070000
END:DAYLIGHT
BEGIN:STANDARD
TZOFFSETFROM:-0400
TZOFFSETTO:-0500
TZNAME:EST
DTSTART:20311102T060000
END:STANDARD
END:VTIMEZONE
BEGIN:VEVENT
DTSTART;TZID=America/New_York:20290715T190000
DTEND;TZID=America/New_York:20290715T200000
DTSTAMP:20260424T075301
CREATED:20251013T165115Z
LAST-MODIFIED:20251013T165115Z
UID:10003218-1878836400-1878840000@cbcburlingtonnj.org
SUMMARY:Fuel for Courage
DESCRIPTION:Join Us Every Sunday at 7:00 p.m. You may participate on a “phone only” basis by calling 1 929 205 6099. Then\, when prompted\, enter the same I.D. number and access code listed above. \nZoom Meeting ID: 538 277 6972\nPasscode 160051
URL:https://cbcburlingtonnj.org/event/fuel-for-courage/2029-07-15/
LOCATION:Virtual
CATEGORIES:Bible Study
END:VEVENT
BEGIN:VEVENT
DTSTART;TZID=America/New_York:20290722T190000
DTEND;TZID=America/New_York:20290722T200000
DTSTAMP:20260424T075301
CREATED:20251013T165115Z
LAST-MODIFIED:20251013T165115Z
UID:10003219-1879441200-1879444800@cbcburlingtonnj.org
SUMMARY:Fuel for Courage
DESCRIPTION:Join Us Every Sunday at 7:00 p.m. You may participate on a “phone only” basis by calling 1 929 205 6099. Then\, when prompted\, enter the same I.D. number and access code listed above. \nZoom Meeting ID: 538 277 6972\nPasscode 160051
URL:https://cbcburlingtonnj.org/event/fuel-for-courage/2029-07-22/
LOCATION:Virtual
CATEGORIES:Bible Study
END:VEVENT
BEGIN:VEVENT
DTSTART;TZID=America/New_York:20290729T190000
DTEND;TZID=America/New_York:20290729T200000
DTSTAMP:20260424T075301
CREATED:20251013T165115Z
LAST-MODIFIED:20251013T165115Z
UID:10003220-1880046000-1880049600@cbcburlingtonnj.org
SUMMARY:Fuel for Courage
DESCRIPTION:Join Us Every Sunday at 7:00 p.m. You may participate on a “phone only” basis by calling 1 929 205 6099. Then\, when prompted\, enter the same I.D. number and access code listed above. \nZoom Meeting ID: 538 277 6972\nPasscode 160051
URL:https://cbcburlingtonnj.org/event/fuel-for-courage/2029-07-29/
LOCATION:Virtual
CATEGORIES:Bible Study
END:VEVENT
BEGIN:VEVENT
DTSTART;TZID=America/New_York:20290805T190000
DTEND;TZID=America/New_York:20290805T200000
DTSTAMP:20260424T075301
CREATED:20251013T165115Z
LAST-MODIFIED:20251013T165115Z
UID:10003221-1880650800-1880654400@cbcburlingtonnj.org
SUMMARY:Fuel for Courage
DESCRIPTION:Join Us Every Sunday at 7:00 p.m. You may participate on a “phone only” basis by calling 1 929 205 6099. Then\, when prompted\, enter the same I.D. number and access code listed above. \nZoom Meeting ID: 538 277 6972\nPasscode 160051
URL:https://cbcburlingtonnj.org/event/fuel-for-courage/2029-08-05/
LOCATION:Virtual
CATEGORIES:Bible Study
END:VEVENT
BEGIN:VEVENT
DTSTART;TZID=America/New_York:20290812T190000
DTEND;TZID=America/New_York:20290812T200000
DTSTAMP:20260424T075301
CREATED:20251013T165115Z
LAST-MODIFIED:20251013T165115Z
UID:10003222-1881255600-1881259200@cbcburlingtonnj.org
SUMMARY:Fuel for Courage
DESCRIPTION:Join Us Every Sunday at 7:00 p.m. You may participate on a “phone only” basis by calling 1 929 205 6099. Then\, when prompted\, enter the same I.D. number and access code listed above. \nZoom Meeting ID: 538 277 6972\nPasscode 160051
URL:https://cbcburlingtonnj.org/event/fuel-for-courage/2029-08-12/
LOCATION:Virtual
CATEGORIES:Bible Study
END:VEVENT
BEGIN:VEVENT
DTSTART;TZID=America/New_York:20290819T190000
DTEND;TZID=America/New_York:20290819T200000
DTSTAMP:20260424T075301
CREATED:20251013T165115Z
LAST-MODIFIED:20251013T165115Z
UID:10003223-1881860400-1881864000@cbcburlingtonnj.org
SUMMARY:Fuel for Courage
DESCRIPTION:Join Us Every Sunday at 7:00 p.m. You may participate on a “phone only” basis by calling 1 929 205 6099. Then\, when prompted\, enter the same I.D. number and access code listed above. \nZoom Meeting ID: 538 277 6972\nPasscode 160051
URL:https://cbcburlingtonnj.org/event/fuel-for-courage/2029-08-19/
LOCATION:Virtual
CATEGORIES:Bible Study
END:VEVENT
BEGIN:VEVENT
DTSTART;TZID=America/New_York:20290826T190000
DTEND;TZID=America/New_York:20290826T200000
DTSTAMP:20260424T075301
CREATED:20251013T165115Z
LAST-MODIFIED:20251013T165115Z
UID:10003224-1882465200-1882468800@cbcburlingtonnj.org
SUMMARY:Fuel for Courage
DESCRIPTION:Join Us Every Sunday at 7:00 p.m. You may participate on a “phone only” basis by calling 1 929 205 6099. Then\, when prompted\, enter the same I.D. number and access code listed above. \nZoom Meeting ID: 538 277 6972\nPasscode 160051
URL:https://cbcburlingtonnj.org/event/fuel-for-courage/2029-08-26/
LOCATION:Virtual
CATEGORIES:Bible Study
END:VEVENT
BEGIN:VEVENT
DTSTART;TZID=America/New_York:20290902T190000
DTEND;TZID=America/New_York:20290902T200000
DTSTAMP:20260424T075301
CREATED:20251013T165115Z
LAST-MODIFIED:20251013T165115Z
UID:10003225-1883070000-1883073600@cbcburlingtonnj.org
SUMMARY:Fuel for Courage
DESCRIPTION:Join Us Every Sunday at 7:00 p.m. You may participate on a “phone only” basis by calling 1 929 205 6099. Then\, when prompted\, enter the same I.D. number and access code listed above. \nZoom Meeting ID: 538 277 6972\nPasscode 160051
URL:https://cbcburlingtonnj.org/event/fuel-for-courage/2029-09-02/
LOCATION:Virtual
CATEGORIES:Bible Study
END:VEVENT
BEGIN:VEVENT
DTSTART;TZID=America/New_York:20290909T190000
DTEND;TZID=America/New_York:20290909T200000
DTSTAMP:20260424T075301
CREATED:20251013T165115Z
LAST-MODIFIED:20251013T165115Z
UID:10003226-1883674800-1883678400@cbcburlingtonnj.org
SUMMARY:Fuel for Courage
DESCRIPTION:Join Us Every Sunday at 7:00 p.m. You may participate on a “phone only” basis by calling 1 929 205 6099. Then\, when prompted\, enter the same I.D. number and access code listed above. \nZoom Meeting ID: 538 277 6972\nPasscode 160051
URL:https://cbcburlingtonnj.org/event/fuel-for-courage/2029-09-09/
LOCATION:Virtual
CATEGORIES:Bible Study
END:VEVENT
BEGIN:VEVENT
DTSTART;TZID=America/New_York:20290916T190000
DTEND;TZID=America/New_York:20290916T200000
DTSTAMP:20260424T075301
CREATED:20251013T165115Z
LAST-MODIFIED:20251013T165115Z
UID:10003227-1884279600-1884283200@cbcburlingtonnj.org
SUMMARY:Fuel for Courage
DESCRIPTION:Join Us Every Sunday at 7:00 p.m. You may participate on a “phone only” basis by calling 1 929 205 6099. Then\, when prompted\, enter the same I.D. number and access code listed above. \nZoom Meeting ID: 538 277 6972\nPasscode 160051
URL:https://cbcburlingtonnj.org/event/fuel-for-courage/2029-09-16/
LOCATION:Virtual
CATEGORIES:Bible Study
END:VEVENT
BEGIN:VEVENT
DTSTART;TZID=America/New_York:20290923T190000
DTEND;TZID=America/New_York:20290923T200000
DTSTAMP:20260424T075301
CREATED:20251013T165115Z
LAST-MODIFIED:20251013T165115Z
UID:10003228-1884884400-1884888000@cbcburlingtonnj.org
SUMMARY:Fuel for Courage
DESCRIPTION:Join Us Every Sunday at 7:00 p.m. You may participate on a “phone only” basis by calling 1 929 205 6099. Then\, when prompted\, enter the same I.D. number and access code listed above. \nZoom Meeting ID: 538 277 6972\nPasscode 160051
URL:https://cbcburlingtonnj.org/event/fuel-for-courage/2029-09-23/
LOCATION:Virtual
CATEGORIES:Bible Study
END:VEVENT
BEGIN:VEVENT
DTSTART;TZID=America/New_York:20290930T190000
DTEND;TZID=America/New_York:20290930T200000
DTSTAMP:20260424T075301
CREATED:20251013T165115Z
LAST-MODIFIED:20251013T165115Z
UID:10003229-1885489200-1885492800@cbcburlingtonnj.org
SUMMARY:Fuel for Courage
DESCRIPTION:Join Us Every Sunday at 7:00 p.m. You may participate on a “phone only” basis by calling 1 929 205 6099. Then\, when prompted\, enter the same I.D. number and access code listed above. \nZoom Meeting ID: 538 277 6972\nPasscode 160051
URL:https://cbcburlingtonnj.org/event/fuel-for-courage/2029-09-30/
LOCATION:Virtual
CATEGORIES:Bible Study
END:VEVENT
BEGIN:VEVENT
DTSTART;TZID=America/New_York:20291007T190000
DTEND;TZID=America/New_York:20291007T200000
DTSTAMP:20260424T075301
CREATED:20251013T165115Z
LAST-MODIFIED:20251013T165115Z
UID:10003230-1886094000-1886097600@cbcburlingtonnj.org
SUMMARY:Fuel for Courage
DESCRIPTION:Join Us Every Sunday at 7:00 p.m. You may participate on a “phone only” basis by calling 1 929 205 6099. Then\, when prompted\, enter the same I.D. number and access code listed above. \nZoom Meeting ID: 538 277 6972\nPasscode 160051
URL:https://cbcburlingtonnj.org/event/fuel-for-courage/2029-10-07/
LOCATION:Virtual
CATEGORIES:Bible Study
END:VEVENT
BEGIN:VEVENT
DTSTART;TZID=America/New_York:20291014T190000
DTEND;TZID=America/New_York:20291014T200000
DTSTAMP:20260424T075301
CREATED:20251013T165115Z
LAST-MODIFIED:20251013T165115Z
UID:10003231-1886698800-1886702400@cbcburlingtonnj.org
SUMMARY:Fuel for Courage
DESCRIPTION:Join Us Every Sunday at 7:00 p.m. You may participate on a “phone only” basis by calling 1 929 205 6099. Then\, when prompted\, enter the same I.D. number and access code listed above. \nZoom Meeting ID: 538 277 6972\nPasscode 160051
URL:https://cbcburlingtonnj.org/event/fuel-for-courage/2029-10-14/
LOCATION:Virtual
CATEGORIES:Bible Study
END:VEVENT
BEGIN:VEVENT
DTSTART;TZID=America/New_York:20291021T190000
DTEND;TZID=America/New_York:20291021T200000
DTSTAMP:20260424T075301
CREATED:20251013T165115Z
LAST-MODIFIED:20251013T165115Z
UID:10003232-1887303600-1887307200@cbcburlingtonnj.org
SUMMARY:Fuel for Courage
DESCRIPTION:Join Us Every Sunday at 7:00 p.m. You may participate on a “phone only” basis by calling 1 929 205 6099. Then\, when prompted\, enter the same I.D. number and access code listed above. \nZoom Meeting ID: 538 277 6972\nPasscode 160051
URL:https://cbcburlingtonnj.org/event/fuel-for-courage/2029-10-21/
LOCATION:Virtual
CATEGORIES:Bible Study
END:VEVENT
BEGIN:VEVENT
DTSTART;TZID=America/New_York:20291028T190000
DTEND;TZID=America/New_York:20291028T200000
DTSTAMP:20260424T075301
CREATED:20251013T165115Z
LAST-MODIFIED:20251013T165115Z
UID:10003233-1887908400-1887912000@cbcburlingtonnj.org
SUMMARY:Fuel for Courage
DESCRIPTION:Join Us Every Sunday at 7:00 p.m. You may participate on a “phone only” basis by calling 1 929 205 6099. Then\, when prompted\, enter the same I.D. number and access code listed above. \nZoom Meeting ID: 538 277 6972\nPasscode 160051
URL:https://cbcburlingtonnj.org/event/fuel-for-courage/2029-10-28/
LOCATION:Virtual
CATEGORIES:Bible Study
END:VEVENT
BEGIN:VEVENT
DTSTART;TZID=America/New_York:20291104T190000
DTEND;TZID=America/New_York:20291104T200000
DTSTAMP:20260424T075301
CREATED:20251013T165115Z
LAST-MODIFIED:20251013T165115Z
UID:10003234-1888513200-1888516800@cbcburlingtonnj.org
SUMMARY:Fuel for Courage
DESCRIPTION:Join Us Every Sunday at 7:00 p.m. You may participate on a “phone only” basis by calling 1 929 205 6099. Then\, when prompted\, enter the same I.D. number and access code listed above. \nZoom Meeting ID: 538 277 6972\nPasscode 160051
URL:https://cbcburlingtonnj.org/event/fuel-for-courage/2029-11-04/
LOCATION:Virtual
CATEGORIES:Bible Study
END:VEVENT
BEGIN:VEVENT
DTSTART;TZID=America/New_York:20291111T190000
DTEND;TZID=America/New_York:20291111T200000
DTSTAMP:20260424T075301
CREATED:20251013T165115Z
LAST-MODIFIED:20251013T165115Z
UID:10003235-1889118000-1889121600@cbcburlingtonnj.org
SUMMARY:Fuel for Courage
DESCRIPTION:Join Us Every Sunday at 7:00 p.m. You may participate on a “phone only” basis by calling 1 929 205 6099. Then\, when prompted\, enter the same I.D. number and access code listed above. \nZoom Meeting ID: 538 277 6972\nPasscode 160051
URL:https://cbcburlingtonnj.org/event/fuel-for-courage/2029-11-11/
LOCATION:Virtual
CATEGORIES:Bible Study
END:VEVENT
BEGIN:VEVENT
DTSTART;TZID=America/New_York:20291118T190000
DTEND;TZID=America/New_York:20291118T200000
DTSTAMP:20260424T075301
CREATED:20251013T165115Z
LAST-MODIFIED:20251013T165115Z
UID:10003236-1889722800-1889726400@cbcburlingtonnj.org
SUMMARY:Fuel for Courage
DESCRIPTION:Join Us Every Sunday at 7:00 p.m. You may participate on a “phone only” basis by calling 1 929 205 6099. Then\, when prompted\, enter the same I.D. number and access code listed above. \nZoom Meeting ID: 538 277 6972\nPasscode 160051
URL:https://cbcburlingtonnj.org/event/fuel-for-courage/2029-11-18/
LOCATION:Virtual
CATEGORIES:Bible Study
END:VEVENT
BEGIN:VEVENT
DTSTART;TZID=America/New_York:20291125T190000
DTEND;TZID=America/New_York:20291125T200000
DTSTAMP:20260424T075301
CREATED:20251013T165115Z
LAST-MODIFIED:20251013T165115Z
UID:10003237-1890327600-1890331200@cbcburlingtonnj.org
SUMMARY:Fuel for Courage
DESCRIPTION:Join Us Every Sunday at 7:00 p.m. You may participate on a “phone only” basis by calling 1 929 205 6099. Then\, when prompted\, enter the same I.D. number and access code listed above. \nZoom Meeting ID: 538 277 6972\nPasscode 160051
URL:https://cbcburlingtonnj.org/event/fuel-for-courage/2029-11-25/
LOCATION:Virtual
CATEGORIES:Bible Study
END:VEVENT
BEGIN:VEVENT
DTSTART;TZID=America/New_York:20291202T190000
DTEND;TZID=America/New_York:20291202T200000
DTSTAMP:20260424T075301
CREATED:20251013T165115Z
LAST-MODIFIED:20251013T165115Z
UID:10003238-1890932400-1890936000@cbcburlingtonnj.org
SUMMARY:Fuel for Courage
DESCRIPTION:Join Us Every Sunday at 7:00 p.m. You may participate on a “phone only” basis by calling 1 929 205 6099. Then\, when prompted\, enter the same I.D. number and access code listed above. \nZoom Meeting ID: 538 277 6972\nPasscode 160051
URL:https://cbcburlingtonnj.org/event/fuel-for-courage/2029-12-02/
LOCATION:Virtual
CATEGORIES:Bible Study
END:VEVENT
BEGIN:VEVENT
DTSTART;TZID=America/New_York:20291209T190000
DTEND;TZID=America/New_York:20291209T200000
DTSTAMP:20260424T075301
CREATED:20251013T165115Z
LAST-MODIFIED:20251013T165115Z
UID:10003239-1891537200-1891540800@cbcburlingtonnj.org
SUMMARY:Fuel for Courage
DESCRIPTION:Join Us Every Sunday at 7:00 p.m. You may participate on a “phone only” basis by calling 1 929 205 6099. Then\, when prompted\, enter the same I.D. number and access code listed above. \nZoom Meeting ID: 538 277 6972\nPasscode 160051
URL:https://cbcburlingtonnj.org/event/fuel-for-courage/2029-12-09/
LOCATION:Virtual
CATEGORIES:Bible Study
END:VEVENT
BEGIN:VEVENT
DTSTART;TZID=America/New_York:20291216T190000
DTEND;TZID=America/New_York:20291216T200000
DTSTAMP:20260424T075301
CREATED:20251013T165115Z
LAST-MODIFIED:20251013T165115Z
UID:10003240-1892142000-1892145600@cbcburlingtonnj.org
SUMMARY:Fuel for Courage
DESCRIPTION:Join Us Every Sunday at 7:00 p.m. You may participate on a “phone only” basis by calling 1 929 205 6099. Then\, when prompted\, enter the same I.D. number and access code listed above. \nZoom Meeting ID: 538 277 6972\nPasscode 160051
URL:https://cbcburlingtonnj.org/event/fuel-for-courage/2029-12-16/
LOCATION:Virtual
CATEGORIES:Bible Study
END:VEVENT
BEGIN:VEVENT
DTSTART;TZID=America/New_York:20291223T190000
DTEND;TZID=America/New_York:20291223T200000
DTSTAMP:20260424T075301
CREATED:20251013T165115Z
LAST-MODIFIED:20251013T165115Z
UID:10003241-1892746800-1892750400@cbcburlingtonnj.org
SUMMARY:Fuel for Courage
DESCRIPTION:Join Us Every Sunday at 7:00 p.m. You may participate on a “phone only” basis by calling 1 929 205 6099. Then\, when prompted\, enter the same I.D. number and access code listed above. \nZoom Meeting ID: 538 277 6972\nPasscode 160051
URL:https://cbcburlingtonnj.org/event/fuel-for-courage/2029-12-23/
LOCATION:Virtual
CATEGORIES:Bible Study
END:VEVENT
BEGIN:VEVENT
DTSTART;TZID=America/New_York:20291230T190000
DTEND;TZID=America/New_York:20291230T200000
DTSTAMP:20260424T075301
CREATED:20251013T165115Z
LAST-MODIFIED:20251013T165115Z
UID:10003242-1893351600-1893355200@cbcburlingtonnj.org
SUMMARY:Fuel for Courage
DESCRIPTION:Join Us Every Sunday at 7:00 p.m. You may participate on a “phone only” basis by calling 1 929 205 6099. Then\, when prompted\, enter the same I.D. number and access code listed above. \nZoom Meeting ID: 538 277 6972\nPasscode 160051
URL:https://cbcburlingtonnj.org/event/fuel-for-courage/2029-12-30/
LOCATION:Virtual
CATEGORIES:Bible Study
END:VEVENT
BEGIN:VEVENT
DTSTART;TZID=America/New_York:20300106T190000
DTEND;TZID=America/New_York:20300106T200000
DTSTAMP:20260424T075301
CREATED:20251013T165115Z
LAST-MODIFIED:20251013T165115Z
UID:10003243-1893956400-1893960000@cbcburlingtonnj.org
SUMMARY:Fuel for Courage
DESCRIPTION:Join Us Every Sunday at 7:00 p.m. You may participate on a “phone only” basis by calling 1 929 205 6099. Then\, when prompted\, enter the same I.D. number and access code listed above. \nZoom Meeting ID: 538 277 6972\nPasscode 160051
URL:https://cbcburlingtonnj.org/event/fuel-for-courage/2030-01-06/
LOCATION:Virtual
CATEGORIES:Bible Study
END:VEVENT
BEGIN:VEVENT
DTSTART;TZID=America/New_York:20300113T190000
DTEND;TZID=America/New_York:20300113T200000
DTSTAMP:20260424T075301
CREATED:20251013T165115Z
LAST-MODIFIED:20251013T165115Z
UID:10003244-1894561200-1894564800@cbcburlingtonnj.org
SUMMARY:Fuel for Courage
DESCRIPTION:Join Us Every Sunday at 7:00 p.m. You may participate on a “phone only” basis by calling 1 929 205 6099. Then\, when prompted\, enter the same I.D. number and access code listed above. \nZoom Meeting ID: 538 277 6972\nPasscode 160051
URL:https://cbcburlingtonnj.org/event/fuel-for-courage/2030-01-13/
LOCATION:Virtual
CATEGORIES:Bible Study
END:VEVENT
BEGIN:VEVENT
DTSTART;TZID=America/New_York:20300120T190000
DTEND;TZID=America/New_York:20300120T200000
DTSTAMP:20260424T075301
CREATED:20251013T165115Z
LAST-MODIFIED:20251013T165115Z
UID:10003245-1895166000-1895169600@cbcburlingtonnj.org
SUMMARY:Fuel for Courage
DESCRIPTION:Join Us Every Sunday at 7:00 p.m. You may participate on a “phone only” basis by calling 1 929 205 6099. Then\, when prompted\, enter the same I.D. number and access code listed above. \nZoom Meeting ID: 538 277 6972\nPasscode 160051
URL:https://cbcburlingtonnj.org/event/fuel-for-courage/2030-01-20/
LOCATION:Virtual
CATEGORIES:Bible Study
END:VEVENT
BEGIN:VEVENT
DTSTART;TZID=America/New_York:20300127T190000
DTEND;TZID=America/New_York:20300127T200000
DTSTAMP:20260424T075301
CREATED:20251013T165115Z
LAST-MODIFIED:20251013T165115Z
UID:10003246-1895770800-1895774400@cbcburlingtonnj.org
SUMMARY:Fuel for Courage
DESCRIPTION:Join Us Every Sunday at 7:00 p.m. You may participate on a “phone only” basis by calling 1 929 205 6099. Then\, when prompted\, enter the same I.D. number and access code listed above. \nZoom Meeting ID: 538 277 6972\nPasscode 160051
URL:https://cbcburlingtonnj.org/event/fuel-for-courage/2030-01-27/
LOCATION:Virtual
CATEGORIES:Bible Study
END:VEVENT
BEGIN:VEVENT
DTSTART;TZID=America/New_York:20300203T190000
DTEND;TZID=America/New_York:20300203T200000
DTSTAMP:20260424T075301
CREATED:20251013T165115Z
LAST-MODIFIED:20251013T165115Z
UID:10003247-1896375600-1896379200@cbcburlingtonnj.org
SUMMARY:Fuel for Courage
DESCRIPTION:Join Us Every Sunday at 7:00 p.m. You may participate on a “phone only” basis by calling 1 929 205 6099. Then\, when prompted\, enter the same I.D. number and access code listed above. \nZoom Meeting ID: 538 277 6972\nPasscode 160051
URL:https://cbcburlingtonnj.org/event/fuel-for-courage/2030-02-03/
LOCATION:Virtual
CATEGORIES:Bible Study
END:VEVENT
END:VCALENDAR