BEGIN:VCALENDAR
VERSION:2.0
PRODID:-//Christ Baptist Church - Burlington, NJ - ECPv6.15.20//NONSGML v1.0//EN
CALSCALE:GREGORIAN
METHOD:PUBLISH
X-WR-CALNAME:Christ Baptist Church - Burlington, NJ
X-ORIGINAL-URL:https://cbcburlingtonnj.org
X-WR-CALDESC:Events for Christ Baptist Church - Burlington, NJ
REFRESH-INTERVAL;VALUE=DURATION:PT1H
X-Robots-Tag:noindex
X-PUBLISHED-TTL:PT1H
BEGIN:VTIMEZONE
TZID:America/New_York
BEGIN:DAYLIGHT
TZOFFSETFROM:-0500
TZOFFSETTO:-0400
TZNAME:EDT
DTSTART:20230312T070000
END:DAYLIGHT
BEGIN:STANDARD
TZOFFSETFROM:-0400
TZOFFSETTO:-0500
TZNAME:EST
DTSTART:20231105T060000
END:STANDARD
BEGIN:DAYLIGHT
TZOFFSETFROM:-0500
TZOFFSETTO:-0400
TZNAME:EDT
DTSTART:20240310T070000
END:DAYLIGHT
BEGIN:STANDARD
TZOFFSETFROM:-0400
TZOFFSETTO:-0500
TZNAME:EST
DTSTART:20241103T060000
END:STANDARD
BEGIN:DAYLIGHT
TZOFFSETFROM:-0500
TZOFFSETTO:-0400
TZNAME:EDT
DTSTART:20250309T070000
END:DAYLIGHT
BEGIN:STANDARD
TZOFFSETFROM:-0400
TZOFFSETTO:-0500
TZNAME:EST
DTSTART:20251102T060000
END:STANDARD
END:VTIMEZONE
BEGIN:VEVENT
DTSTART;TZID=America/New_York:20240917T190000
DTEND;TZID=America/New_York:20240917T200000
DTSTAMP:20260424T040459
CREATED:20240225T015902Z
LAST-MODIFIED:20240225T015902Z
UID:10001805-1726599600-1726603200@cbcburlingtonnj.org
SUMMARY:Bible Study
DESCRIPTION:
URL:https://cbcburlingtonnj.org/event/bible-study-30/
CATEGORIES:CBC EVENTS
END:VEVENT
BEGIN:VEVENT
DTSTART;TZID=America/New_York:20240910T190000
DTEND;TZID=America/New_York:20240910T200000
DTSTAMP:20260424T040459
CREATED:20240225T015902Z
LAST-MODIFIED:20240225T015902Z
UID:10001804-1725994800-1725998400@cbcburlingtonnj.org
SUMMARY:Bible Study
DESCRIPTION:
URL:https://cbcburlingtonnj.org/event/bible-study-29/
CATEGORIES:CBC EVENTS
END:VEVENT
BEGIN:VEVENT
DTSTART;VALUE=DATE:20240907
DTEND;VALUE=DATE:20240908
DTSTAMP:20260424T040459
CREATED:20240225T015902Z
LAST-MODIFIED:20240804T135711Z
UID:10001803-1725667200-1725753599@cbcburlingtonnj.org
SUMMARY:5K WALK RUN
DESCRIPTION:Register today. We look forward to running/walking with you next month! \n 
URL:https://cbcburlingtonnj.org/event/5k-walk-run/
LOCATION:Christ Baptist Church Burlington NJ\, 950 Jacksonville Road\, Burlington\, NJ\, 08016\, United States
CATEGORIES:CBC EVENTS
ATTACH;FMTTYPE=image/jpeg:https://cbcburlingtonnj.org/wp-content/uploads/2024/07/5k-flyer.-2024.jpg
END:VEVENT
BEGIN:VEVENT
DTSTART;TZID=America/New_York:20240903T190000
DTEND;TZID=America/New_York:20240903T200000
DTSTAMP:20260424T040459
CREATED:20240225T015902Z
LAST-MODIFIED:20240225T015902Z
UID:10001802-1725390000-1725393600@cbcburlingtonnj.org
SUMMARY:Bible Study
DESCRIPTION:
URL:https://cbcburlingtonnj.org/event/bible-study-28/
CATEGORIES:CBC EVENTS
END:VEVENT
BEGIN:VEVENT
DTSTART;VALUE=DATE:20240902
DTEND;VALUE=DATE:20240903
DTSTAMP:20260424T040459
CREATED:20240225T015851Z
LAST-MODIFIED:20240225T015851Z
UID:10001801-1725235200-1725321599@cbcburlingtonnj.org
SUMMARY:LABOR DAY
DESCRIPTION:
URL:https://cbcburlingtonnj.org/event/labor-day/
CATEGORIES:CBC EVENTS
END:VEVENT
BEGIN:VEVENT
DTSTART;TZID=America/New_York:20240827T190000
DTEND;TZID=America/New_York:20240827T200000
DTSTAMP:20260424T040459
CREATED:20240225T015851Z
LAST-MODIFIED:20240225T015851Z
UID:10001800-1724785200-1724788800@cbcburlingtonnj.org
SUMMARY:Bible Study
DESCRIPTION:
URL:https://cbcburlingtonnj.org/event/bible-study-27/
CATEGORIES:CBC EVENTS
END:VEVENT
BEGIN:VEVENT
DTSTART;TZID=America/New_York:20240820T190000
DTEND;TZID=America/New_York:20240820T200000
DTSTAMP:20260424T040459
CREATED:20240225T015851Z
LAST-MODIFIED:20240225T015851Z
UID:10001799-1724180400-1724184000@cbcburlingtonnj.org
SUMMARY:Bible Study
DESCRIPTION:
URL:https://cbcburlingtonnj.org/event/bible-study-26/
CATEGORIES:CBC EVENTS
END:VEVENT
BEGIN:VEVENT
DTSTART;VALUE=DATE:20240817
DTEND;VALUE=DATE:20240818
DTSTAMP:20260424T040459
CREATED:20240225T015850Z
LAST-MODIFIED:20240713T165842Z
UID:10001798-1723852800-1723939199@cbcburlingtonnj.org
SUMMARY:Church cookout
DESCRIPTION:
URL:https://cbcburlingtonnj.org/event/church-cookout/
LOCATION:Christ Baptist Church Burlington NJ\, 950 Jacksonville Road\, Burlington\, NJ\, 08016\, United States
CATEGORIES:CBC EVENTS
ATTACH;FMTTYPE=image/jpeg:https://cbcburlingtonnj.org/wp-content/uploads/2024/02/CBC-Thumbnail-Cookout.jpg
END:VEVENT
BEGIN:VEVENT
DTSTART;TZID=America/New_York:20240813T190000
DTEND;TZID=America/New_York:20240813T200000
DTSTAMP:20260424T040459
CREATED:20240225T015850Z
LAST-MODIFIED:20240225T015850Z
UID:10001797-1723575600-1723579200@cbcburlingtonnj.org
SUMMARY:Bible Study
DESCRIPTION:
URL:https://cbcburlingtonnj.org/event/bible-study-25/
CATEGORIES:CBC EVENTS
END:VEVENT
BEGIN:VEVENT
DTSTART;TZID=America/New_York:20240806T190000
DTEND;TZID=America/New_York:20240806T200000
DTSTAMP:20260424T040459
CREATED:20240225T015850Z
LAST-MODIFIED:20240225T015850Z
UID:10001796-1722970800-1722974400@cbcburlingtonnj.org
SUMMARY:Bible Study
DESCRIPTION:
URL:https://cbcburlingtonnj.org/event/bible-study-24/
CATEGORIES:CBC EVENTS
END:VEVENT
BEGIN:VEVENT
DTSTART;TZID=America/New_York:20240730T190000
DTEND;TZID=America/New_York:20240730T200000
DTSTAMP:20260424T040459
CREATED:20240225T015850Z
LAST-MODIFIED:20240412T230346Z
UID:10001795-1722366000-1722369600@cbcburlingtonnj.org
SUMMARY:Bible Study
DESCRIPTION:
URL:https://cbcburlingtonnj.org/event/bible-study-23/
CATEGORIES:CBC EVENTS
ATTACH;FMTTYPE=image/jpeg:https://cbcburlingtonnj.org/wp-content/uploads/2023/12/293-_DSF2970-1.jpg
END:VEVENT
BEGIN:VEVENT
DTSTART;TZID=America/New_York:20240723T190000
DTEND;TZID=America/New_York:20240723T200000
DTSTAMP:20260424T040459
CREATED:20240225T015850Z
LAST-MODIFIED:20240412T230404Z
UID:10001794-1721761200-1721764800@cbcburlingtonnj.org
SUMMARY:Bible Study
DESCRIPTION:
URL:https://cbcburlingtonnj.org/event/bible-study-22/
CATEGORIES:CBC EVENTS
ATTACH;FMTTYPE=image/jpeg:https://cbcburlingtonnj.org/wp-content/uploads/2023/12/293-_DSF2970.jpg
END:VEVENT
BEGIN:VEVENT
DTSTART;TZID=America/New_York:20240719T173000
DTEND;TZID=America/New_York:20240719T183000
DTSTAMP:20260424T040459
CREATED:20240225T015850Z
LAST-MODIFIED:20240412T230416Z
UID:10001793-1721410200-1721413800@cbcburlingtonnj.org
SUMMARY:OUTREACH VBS
DESCRIPTION:
URL:https://cbcburlingtonnj.org/event/outreach-vbs-5/
CATEGORIES:CBC EVENTS
ATTACH;FMTTYPE=image/jpeg:https://cbcburlingtonnj.org/wp-content/uploads/2023/12/293-_DSF2970.jpg
END:VEVENT
BEGIN:VEVENT
DTSTART;TZID=America/New_York:20240718T173000
DTEND;TZID=America/New_York:20240718T183000
DTSTAMP:20260424T040459
CREATED:20240225T015850Z
LAST-MODIFIED:20240412T230428Z
UID:10001792-1721323800-1721327400@cbcburlingtonnj.org
SUMMARY:OUTREACH VBS
DESCRIPTION:
URL:https://cbcburlingtonnj.org/event/outreach-vbs-4/
CATEGORIES:CBC EVENTS
END:VEVENT
BEGIN:VEVENT
DTSTART;TZID=America/New_York:20240717T173000
DTEND;TZID=America/New_York:20240717T183000
DTSTAMP:20260424T040459
CREATED:20240225T015839Z
LAST-MODIFIED:20240412T230300Z
UID:10001791-1721237400-1721241000@cbcburlingtonnj.org
SUMMARY:OUTREACH VBS
DESCRIPTION:
URL:https://cbcburlingtonnj.org/event/outreach-vbs-3/
CATEGORIES:CBC EVENTS
ATTACH;FMTTYPE=image/jpeg:https://cbcburlingtonnj.org/wp-content/uploads/2023/12/293-_DSF2970.jpg
END:VEVENT
BEGIN:VEVENT
DTSTART;TZID=America/New_York:20240716T190000
DTEND;TZID=America/New_York:20240716T200000
DTSTAMP:20260424T040459
CREATED:20240225T015839Z
LAST-MODIFIED:20240412T230245Z
UID:10001790-1721156400-1721160000@cbcburlingtonnj.org
SUMMARY:Bible Study
DESCRIPTION:
URL:https://cbcburlingtonnj.org/event/bible-study-21/
CATEGORIES:CBC EVENTS
ATTACH;FMTTYPE=image/jpeg:https://cbcburlingtonnj.org/wp-content/uploads/2023/12/293-_DSF2970-1.jpg
END:VEVENT
BEGIN:VEVENT
DTSTART;TZID=America/New_York:20240716T173000
DTEND;TZID=America/New_York:20240716T183000
DTSTAMP:20260424T040459
CREATED:20240225T015839Z
LAST-MODIFIED:20240412T230233Z
UID:10001789-1721151000-1721154600@cbcburlingtonnj.org
SUMMARY:OUTREACH VBS
DESCRIPTION:
URL:https://cbcburlingtonnj.org/event/outreach-vbs-2/
CATEGORIES:CBC EVENTS
ATTACH;FMTTYPE=image/jpeg:https://cbcburlingtonnj.org/wp-content/uploads/2023/12/293-_DSF2970-1.jpg
END:VEVENT
BEGIN:VEVENT
DTSTART;TZID=America/New_York:20240715T173000
DTEND;TZID=America/New_York:20240715T183000
DTSTAMP:20260424T040459
CREATED:20240225T015839Z
LAST-MODIFIED:20240412T230217Z
UID:10001788-1721064600-1721068200@cbcburlingtonnj.org
SUMMARY:OUTREACH-VBS
DESCRIPTION:
URL:https://cbcburlingtonnj.org/event/outreach-vbs/
CATEGORIES:CBC EVENTS
ATTACH;FMTTYPE=image/jpeg:https://cbcburlingtonnj.org/wp-content/uploads/2023/12/293-_DSF2970-1.jpg
END:VEVENT
BEGIN:VEVENT
DTSTART;TZID=America/New_York:20240712T180000
DTEND;TZID=America/New_York:20240712T190000
DTSTAMP:20260424T040459
CREATED:20240225T015839Z
LAST-MODIFIED:20240412T230204Z
UID:10001787-1720807200-1720810800@cbcburlingtonnj.org
SUMMARY:VBS
DESCRIPTION:
URL:https://cbcburlingtonnj.org/event/vbs-5/
CATEGORIES:CBC EVENTS
ATTACH;FMTTYPE=image/jpeg:https://cbcburlingtonnj.org/wp-content/uploads/2023/12/293-_DSF2970-1.jpg
END:VEVENT
BEGIN:VEVENT
DTSTART;TZID=America/New_York:20240711T180000
DTEND;TZID=America/New_York:20240711T190000
DTSTAMP:20260424T040459
CREATED:20240225T015839Z
LAST-MODIFIED:20240412T230152Z
UID:10001786-1720720800-1720724400@cbcburlingtonnj.org
SUMMARY:VBS
DESCRIPTION:
URL:https://cbcburlingtonnj.org/event/vbs-4/
CATEGORIES:CBC EVENTS
ATTACH;FMTTYPE=image/jpeg:https://cbcburlingtonnj.org/wp-content/uploads/2023/12/293-_DSF2970-1.jpg
END:VEVENT
BEGIN:VEVENT
DTSTART;TZID=America/New_York:20240710T180000
DTEND;TZID=America/New_York:20240710T190000
DTSTAMP:20260424T040459
CREATED:20240225T015839Z
LAST-MODIFIED:20240412T230140Z
UID:10001785-1720634400-1720638000@cbcburlingtonnj.org
SUMMARY:VBS
DESCRIPTION:
URL:https://cbcburlingtonnj.org/event/vbs-3/
CATEGORIES:CBC EVENTS
ATTACH;FMTTYPE=image/jpeg:https://cbcburlingtonnj.org/wp-content/uploads/2023/12/293-_DSF2970-1.jpg
END:VEVENT
BEGIN:VEVENT
DTSTART;TZID=America/New_York:20240709T190000
DTEND;TZID=America/New_York:20240709T200000
DTSTAMP:20260424T040459
CREATED:20240225T015839Z
LAST-MODIFIED:20240412T230013Z
UID:10001784-1720551600-1720555200@cbcburlingtonnj.org
SUMMARY:Bible Study
DESCRIPTION:
URL:https://cbcburlingtonnj.org/event/bible-study-20/
CATEGORIES:CBC EVENTS
ATTACH;FMTTYPE=image/jpeg:https://cbcburlingtonnj.org/wp-content/uploads/2023/12/293-_DSF2970-1.jpg
END:VEVENT
BEGIN:VEVENT
DTSTART;TZID=America/New_York:20240708T180000
DTEND;TZID=America/New_York:20240708T190000
DTSTAMP:20260424T040459
CREATED:20240225T015838Z
LAST-MODIFIED:20240412T225949Z
UID:10001782-1720461600-1720465200@cbcburlingtonnj.org
SUMMARY:VBS
DESCRIPTION:
URL:https://cbcburlingtonnj.org/event/vbs/
CATEGORIES:CBC EVENTS
ATTACH;FMTTYPE=image/jpeg:https://cbcburlingtonnj.org/wp-content/uploads/2023/12/293-_DSF2970-1.jpg
END:VEVENT
BEGIN:VEVENT
DTSTART;VALUE=DATE:20240704
DTEND;VALUE=DATE:20240705
DTSTAMP:20260424T040459
CREATED:20240225T015827Z
LAST-MODIFIED:20240412T225933Z
UID:10001781-1720051200-1720137599@cbcburlingtonnj.org
SUMMARY:HOLIDAY INDEPENDENCE DAY
DESCRIPTION:
URL:https://cbcburlingtonnj.org/event/holiday-independence-day/
CATEGORIES:CBC EVENTS
ATTACH;FMTTYPE=image/jpeg:https://cbcburlingtonnj.org/wp-content/uploads/2023/12/293-_DSF2970-1.jpg
END:VEVENT
BEGIN:VEVENT
DTSTART;TZID=America/New_York:20240629T100000
DTEND;TZID=America/New_York:20240629T113000
DTSTAMP:20260424T040459
CREATED:20240225T015827Z
LAST-MODIFIED:20240412T225909Z
UID:10001779-1719655200-1719660600@cbcburlingtonnj.org
SUMMARY:Final Mtg -VBS
DESCRIPTION:
URL:https://cbcburlingtonnj.org/event/final-mtg-vbs/
CATEGORIES:CBC EVENTS
ATTACH;FMTTYPE=image/jpeg:https://cbcburlingtonnj.org/wp-content/uploads/2023/12/293-_DSF2970-1.jpg
END:VEVENT
BEGIN:VEVENT
DTSTART;TZID=America/New_York:20240625T190000
DTEND;TZID=America/New_York:20240625T200000
DTSTAMP:20260424T040459
CREATED:20240225T015827Z
LAST-MODIFIED:20240412T225856Z
UID:10001778-1719342000-1719345600@cbcburlingtonnj.org
SUMMARY:Bible Study
DESCRIPTION:
URL:https://cbcburlingtonnj.org/event/bible-study-18/
CATEGORIES:CBC EVENTS
ATTACH;FMTTYPE=image/jpeg:https://cbcburlingtonnj.org/wp-content/uploads/2023/12/293-_DSF2970-1.jpg
END:VEVENT
BEGIN:VEVENT
DTSTART;TZID=America/New_York:20240618T190000
DTEND;TZID=America/New_York:20240618T200000
DTSTAMP:20260424T040459
CREATED:20240225T015827Z
LAST-MODIFIED:20240412T225845Z
UID:10001777-1718737200-1718740800@cbcburlingtonnj.org
SUMMARY:Bible Study
DESCRIPTION:
URL:https://cbcburlingtonnj.org/event/bible-study-17/
CATEGORIES:CBC EVENTS
ATTACH;FMTTYPE=image/jpeg:https://cbcburlingtonnj.org/wp-content/uploads/2023/12/293-_DSF2970-1.jpg
END:VEVENT
BEGIN:VEVENT
DTSTART;VALUE=DATE:20240616
DTEND;VALUE=DATE:20240617
DTSTAMP:20260424T040459
CREATED:20240225T015827Z
LAST-MODIFIED:20240412T225834Z
UID:10001776-1718496000-1718582399@cbcburlingtonnj.org
SUMMARY:FATHER'S DAY
DESCRIPTION:
URL:https://cbcburlingtonnj.org/event/fathers-day/
CATEGORIES:CBC EVENTS
ATTACH;FMTTYPE=image/jpeg:https://cbcburlingtonnj.org/wp-content/uploads/2023/12/293-_DSF2970-1.jpg
END:VEVENT
BEGIN:VEVENT
DTSTART;TZID=America/New_York:20240615T160000
DTEND;TZID=America/New_York:20240615T180000
DTSTAMP:20260424T040459
CREATED:20240225T015827Z
LAST-MODIFIED:20240225T015827Z
UID:10001775-1718467200-1718474400@cbcburlingtonnj.org
SUMMARY:County Deacons Svc
DESCRIPTION:
URL:https://cbcburlingtonnj.org/event/county-deacons-svc/
CATEGORIES:CBC EVENTS
END:VEVENT
BEGIN:VEVENT
DTSTART;TZID=America/New_York:20240611T190000
DTEND;TZID=America/New_York:20240611T200000
DTSTAMP:20260424T040459
CREATED:20240225T015827Z
LAST-MODIFIED:20240412T225810Z
UID:10001774-1718132400-1718136000@cbcburlingtonnj.org
SUMMARY:Bible Study
DESCRIPTION:
URL:https://cbcburlingtonnj.org/event/bible-study-16/
CATEGORIES:CBC EVENTS
ATTACH;FMTTYPE=image/jpeg:https://cbcburlingtonnj.org/wp-content/uploads/2023/12/293-_DSF2970-1.jpg
END:VEVENT
END:VCALENDAR