BEGIN:VCALENDAR
VERSION:2.0
PRODID:-//Christ Baptist Church - Burlington, NJ - ECPv6.15.20//NONSGML v1.0//EN
CALSCALE:GREGORIAN
METHOD:PUBLISH
X-ORIGINAL-URL:https://cbcburlingtonnj.org
X-WR-CALDESC:Events for Christ Baptist Church - Burlington, NJ
REFRESH-INTERVAL;VALUE=DURATION:PT1H
X-Robots-Tag:noindex
X-PUBLISHED-TTL:PT1H
BEGIN:VTIMEZONE
TZID:America/New_York
BEGIN:DAYLIGHT
TZOFFSETFROM:-0500
TZOFFSETTO:-0400
TZNAME:EDT
DTSTART:20230312T070000
END:DAYLIGHT
BEGIN:STANDARD
TZOFFSETFROM:-0400
TZOFFSETTO:-0500
TZNAME:EST
DTSTART:20231105T060000
END:STANDARD
BEGIN:DAYLIGHT
TZOFFSETFROM:-0500
TZOFFSETTO:-0400
TZNAME:EDT
DTSTART:20240310T070000
END:DAYLIGHT
BEGIN:STANDARD
TZOFFSETFROM:-0400
TZOFFSETTO:-0500
TZNAME:EST
DTSTART:20241103T060000
END:STANDARD
BEGIN:DAYLIGHT
TZOFFSETFROM:-0500
TZOFFSETTO:-0400
TZNAME:EDT
DTSTART:20250309T070000
END:DAYLIGHT
BEGIN:STANDARD
TZOFFSETFROM:-0400
TZOFFSETTO:-0500
TZNAME:EST
DTSTART:20251102T060000
END:STANDARD
END:VTIMEZONE
BEGIN:VEVENT
DTSTART;TZID=America/New_York:20240503T183000
DTEND;TZID=America/New_York:20240503T193000
DTSTAMP:20260424T083727
CREATED:20240308T195441Z
LAST-MODIFIED:20240412T225150Z
UID:10001897-1714761000-1714764600@cbcburlingtonnj.org
SUMMARY:828 Fellowship
DESCRIPTION:
URL:https://cbcburlingtonnj.org/event/828-fellowship-2/
CATEGORIES:CBC EVENTS
ATTACH;FMTTYPE=image/jpeg:https://cbcburlingtonnj.org/wp-content/uploads/2023/12/293-_DSF2970-1.jpg
END:VEVENT
BEGIN:VEVENT
DTSTART;TZID=America/New_York:20240501T190000
DTEND;TZID=America/New_York:20240501T200000
DTSTAMP:20260424T083727
CREATED:20240225T015803Z
LAST-MODIFIED:20240412T225133Z
UID:10001758-1714590000-1714593600@cbcburlingtonnj.org
SUMMARY:Conf. Call/Prayer Service
DESCRIPTION:
URL:https://cbcburlingtonnj.org/event/conf-call-prayer-service-10/
CATEGORIES:CBC EVENTS
ATTACH;FMTTYPE=image/jpeg:https://cbcburlingtonnj.org/wp-content/uploads/2023/12/293-_DSF2970-1.jpg
END:VEVENT
BEGIN:VEVENT
DTSTART;TZID=America/New_York:20240430T190000
DTEND;TZID=America/New_York:20240430T200000
DTSTAMP:20260424T083727
CREATED:20240225T015803Z
LAST-MODIFIED:20240412T225115Z
UID:10001757-1714503600-1714507200@cbcburlingtonnj.org
SUMMARY:Bible Study
DESCRIPTION:
URL:https://cbcburlingtonnj.org/event/bible-study-10/
CATEGORIES:CBC EVENTS
ATTACH;FMTTYPE=image/jpeg:https://cbcburlingtonnj.org/wp-content/uploads/2023/12/293-_DSF2970-1.jpg
END:VEVENT
BEGIN:VEVENT
DTSTART;TZID=America/New_York:20240430T090000
DTEND;TZID=America/New_York:20240430T100000
DTSTAMP:20260424T083727
CREATED:20240308T195428Z
LAST-MODIFIED:20240412T225455Z
UID:10001896-1714467600-1714471200@cbcburlingtonnj.org
SUMMARY:Srs. Chair Workout
DESCRIPTION:
URL:https://cbcburlingtonnj.org/event/srs-chair-workout-4/
CATEGORIES:CBC EVENTS
ATTACH;FMTTYPE=image/jpeg:https://cbcburlingtonnj.org/wp-content/uploads/2023/12/293-_DSF2970-1.jpg
END:VEVENT
BEGIN:VEVENT
DTSTART;TZID=America/New_York:20240427T090000
DTEND;TZID=America/New_York:20240427T100000
DTSTAMP:20260424T083727
CREATED:20240225T015803Z
LAST-MODIFIED:20240412T225100Z
UID:10001756-1714208400-1714212000@cbcburlingtonnj.org
SUMMARY:CPR -Health Min.
DESCRIPTION:
URL:https://cbcburlingtonnj.org/event/cpr-health-min/
CATEGORIES:CBC EVENTS
ATTACH;FMTTYPE=image/jpeg:https://cbcburlingtonnj.org/wp-content/uploads/2023/12/293-_DSF2970-1.jpg
END:VEVENT
BEGIN:VEVENT
DTSTART;TZID=America/New_York:20240425T090000
DTEND;TZID=America/New_York:20240425T100000
DTSTAMP:20260424T083727
CREATED:20240308T195428Z
LAST-MODIFIED:20240412T225046Z
UID:10001895-1714035600-1714039200@cbcburlingtonnj.org
SUMMARY:Srs. Workout
DESCRIPTION:
URL:https://cbcburlingtonnj.org/event/srs-workout-2/
CATEGORIES:CBC EVENTS
ATTACH;FMTTYPE=image/jpeg:https://cbcburlingtonnj.org/wp-content/uploads/2023/12/293-_DSF2970-1.jpg
END:VEVENT
BEGIN:VEVENT
DTSTART;TZID=America/New_York:20240424T190000
DTEND;TZID=America/New_York:20240424T200000
DTSTAMP:20260424T083727
CREATED:20240225T015803Z
LAST-MODIFIED:20240412T225031Z
UID:10001755-1713985200-1713988800@cbcburlingtonnj.org
SUMMARY:Conf. Call/Prayer Service
DESCRIPTION:
URL:https://cbcburlingtonnj.org/event/conf-call-prayer-service-9/
CATEGORIES:CBC EVENTS
ATTACH;FMTTYPE=image/jpeg:https://cbcburlingtonnj.org/wp-content/uploads/2023/12/293-_DSF2970-1.jpg
END:VEVENT
END:VCALENDAR