BEGIN:VCALENDAR
VERSION:2.0
PRODID:-//Christ Baptist Church - Burlington, NJ - ECPv6.15.20//NONSGML v1.0//EN
CALSCALE:GREGORIAN
METHOD:PUBLISH
X-ORIGINAL-URL:https://cbcburlingtonnj.org
X-WR-CALDESC:Events for Christ Baptist Church - Burlington, NJ
REFRESH-INTERVAL;VALUE=DURATION:PT1H
X-Robots-Tag:noindex
X-PUBLISHED-TTL:PT1H
BEGIN:VTIMEZONE
TZID:America/New_York
BEGIN:DAYLIGHT
TZOFFSETFROM:-0500
TZOFFSETTO:-0400
TZNAME:EDT
DTSTART:20240310T070000
END:DAYLIGHT
BEGIN:STANDARD
TZOFFSETFROM:-0400
TZOFFSETTO:-0500
TZNAME:EST
DTSTART:20241103T060000
END:STANDARD
BEGIN:DAYLIGHT
TZOFFSETFROM:-0500
TZOFFSETTO:-0400
TZNAME:EDT
DTSTART:20250309T070000
END:DAYLIGHT
BEGIN:STANDARD
TZOFFSETFROM:-0400
TZOFFSETTO:-0500
TZNAME:EST
DTSTART:20251102T060000
END:STANDARD
BEGIN:DAYLIGHT
TZOFFSETFROM:-0500
TZOFFSETTO:-0400
TZNAME:EDT
DTSTART:20260308T070000
END:DAYLIGHT
BEGIN:STANDARD
TZOFFSETFROM:-0400
TZOFFSETTO:-0500
TZNAME:EST
DTSTART:20261101T060000
END:STANDARD
BEGIN:DAYLIGHT
TZOFFSETFROM:-0500
TZOFFSETTO:-0400
TZNAME:EDT
DTSTART:20270314T070000
END:DAYLIGHT
BEGIN:STANDARD
TZOFFSETFROM:-0400
TZOFFSETTO:-0500
TZNAME:EST
DTSTART:20271107T060000
END:STANDARD
END:VTIMEZONE
BEGIN:VEVENT
DTSTART;TZID=America/New_York:20260208T190000
DTEND;TZID=America/New_York:20260208T200000
DTSTAMP:20260423T125451
CREATED:20251013T165115Z
LAST-MODIFIED:20251013T165115Z
UID:10003039-1770577200-1770580800@cbcburlingtonnj.org
SUMMARY:Fuel for Courage
DESCRIPTION:Join Us Every Sunday at 7:00 p.m. You may participate on a “phone only” basis by calling 1 929 205 6099. Then\, when prompted\, enter the same I.D. number and access code listed above. \nZoom Meeting ID: 538 277 6972\nPasscode 160051
URL:https://cbcburlingtonnj.org/event/fuel-for-courage/2026-02-08/
LOCATION:Virtual
CATEGORIES:Bible Study
END:VEVENT
BEGIN:VEVENT
DTSTART;TZID=America/New_York:20260203T190000
DTEND;TZID=America/New_York:20260203T200000
DTSTAMP:20260423T125451
CREATED:20240225T020026Z
LAST-MODIFIED:20251013T164744Z
UID:10001879-1770145200-1770148800@cbcburlingtonnj.org
SUMMARY:Bible Study
DESCRIPTION:
URL:https://cbcburlingtonnj.org/event/bible-study-102/
CATEGORIES:Bible Study,CBC EVENTS
END:VEVENT
BEGIN:VEVENT
DTSTART;TZID=America/New_York:20260201T190000
DTEND;TZID=America/New_York:20260201T200000
DTSTAMP:20260423T125451
CREATED:20251013T165115Z
LAST-MODIFIED:20251013T165115Z
UID:10003038-1769972400-1769976000@cbcburlingtonnj.org
SUMMARY:Fuel for Courage
DESCRIPTION:Join Us Every Sunday at 7:00 p.m. You may participate on a “phone only” basis by calling 1 929 205 6099. Then\, when prompted\, enter the same I.D. number and access code listed above. \nZoom Meeting ID: 538 277 6972\nPasscode 160051
URL:https://cbcburlingtonnj.org/event/fuel-for-courage/2026-02-01/
LOCATION:Virtual
CATEGORIES:Bible Study
END:VEVENT
BEGIN:VEVENT
DTSTART;TZID=America/New_York:20260201T143000
DTEND;TZID=America/New_York:20260201T153000
DTSTAMP:20260423T125451
CREATED:20250610T155036Z
LAST-MODIFIED:20250610T160010Z
UID:10002882-1769956200-1769959800@cbcburlingtonnj.org
SUMMARY:Nursing Home Ministries (First Sunday)
DESCRIPTION:When: Complete Care @ Burlington Woods \nTime: 2:30 to 3:30 PM \n  \nWhen: Wynwood Rehab/HealthCare Ctr. \nTime: 2:00 to 3:00 PM.
URL:https://cbcburlingtonnj.org/event/nursing-home-ministries/2026-02-01/
LOCATION:Complete Care @ Burlington Woods\, 115 Sunset Rd\, Burlington\, 08016\, United States
CATEGORIES:CBC EVENTS
END:VEVENT
BEGIN:VEVENT
DTSTART;TZID=America/New_York:20260127T190000
DTEND;TZID=America/New_York:20260127T200000
DTSTAMP:20260423T125451
CREATED:20240225T020026Z
LAST-MODIFIED:20251013T164744Z
UID:10001878-1769540400-1769544000@cbcburlingtonnj.org
SUMMARY:Bible Study
DESCRIPTION:
URL:https://cbcburlingtonnj.org/event/bible-study-101/
CATEGORIES:Bible Study,CBC EVENTS
END:VEVENT
BEGIN:VEVENT
DTSTART;TZID=America/New_York:20260125T190000
DTEND;TZID=America/New_York:20260125T200000
DTSTAMP:20260423T125451
CREATED:20251013T165115Z
LAST-MODIFIED:20251013T165115Z
UID:10003037-1769367600-1769371200@cbcburlingtonnj.org
SUMMARY:Fuel for Courage
DESCRIPTION:Join Us Every Sunday at 7:00 p.m. You may participate on a “phone only” basis by calling 1 929 205 6099. Then\, when prompted\, enter the same I.D. number and access code listed above. \nZoom Meeting ID: 538 277 6972\nPasscode 160051
URL:https://cbcburlingtonnj.org/event/fuel-for-courage/2026-01-25/
LOCATION:Virtual
CATEGORIES:Bible Study
END:VEVENT
BEGIN:VEVENT
DTSTART;TZID=America/New_York:20260122T190000
DTEND;TZID=America/New_York:20260122T203000
DTSTAMP:20260423T125451
CREATED:20250910T151841Z
LAST-MODIFIED:20251109T152538Z
UID:10003011-1769108400-1769113800@cbcburlingtonnj.org
SUMMARY:Health Care Ministry Cancer Support Meeting
DESCRIPTION:On Thursday (Sept. 25\, Oct. 23\, Nov. 13\, Dec. 11\, and Jan. 22) per month from 7:00 – 8:30 PM. \nDoctors will discuss cancer\, nutrition\, genetic counseling\, and heart care. If you or someone you know has had cancer\, you can come and share your story. Let’s be a Circle of Strength with our church and community. \nOnline on Zoom\nMeeting ID: 843 7917 8494\nPasscode: 628429\nDial-In 309-205-3325 \nFor more info\, contact our church.
URL:https://cbcburlingtonnj.org/event/health-care-ministry-cancer-support-meeting-3/2026-01-22/
LOCATION:Virtual
CATEGORIES:CBC Health Care Ministry
ATTACH;FMTTYPE=image/webp:https://cbcburlingtonnj.org/wp-content/uploads/2025/09/CANCER-SUPPORT-2-1.webp
END:VEVENT
BEGIN:VEVENT
DTSTART;TZID=America/New_York:20260120T190000
DTEND;TZID=America/New_York:20260120T200000
DTSTAMP:20260423T125451
CREATED:20240225T020026Z
LAST-MODIFIED:20251013T164744Z
UID:10001877-1768935600-1768939200@cbcburlingtonnj.org
SUMMARY:Bible Study
DESCRIPTION:
URL:https://cbcburlingtonnj.org/event/bible-study-100/
CATEGORIES:Bible Study,CBC EVENTS
END:VEVENT
BEGIN:VEVENT
DTSTART;TZID=America/New_York:20260118T190000
DTEND;TZID=America/New_York:20260118T200000
DTSTAMP:20260423T125451
CREATED:20251013T165115Z
LAST-MODIFIED:20251013T165115Z
UID:10003036-1768762800-1768766400@cbcburlingtonnj.org
SUMMARY:Fuel for Courage
DESCRIPTION:Join Us Every Sunday at 7:00 p.m. You may participate on a “phone only” basis by calling 1 929 205 6099. Then\, when prompted\, enter the same I.D. number and access code listed above. \nZoom Meeting ID: 538 277 6972\nPasscode 160051
URL:https://cbcburlingtonnj.org/event/fuel-for-courage/2026-01-18/
LOCATION:Virtual
CATEGORIES:Bible Study
END:VEVENT
BEGIN:VEVENT
DTSTART;TZID=America/New_York:20260118T140000
DTEND;TZID=America/New_York:20260118T150000
DTSTAMP:20260423T125451
CREATED:20250610T155413Z
LAST-MODIFIED:20250724T155557Z
UID:10002948-1768744800-1768748400@cbcburlingtonnj.org
SUMMARY:Nursing Home Ministries (Third Sunday)
DESCRIPTION:When: Complete Care @ Marcella Nursing Home\nTime: 2:00 to 3:00 PM.
URL:https://cbcburlingtonnj.org/event/nursing-home-ministries-3/2026-01-18/
LOCATION:Complete Care @ Marcella Nursing Home\, 2305 Rancocas Rd\, Burlington\, 08016\, United States
CATEGORIES:CBC EVENTS
END:VEVENT
BEGIN:VEVENT
DTSTART;TZID=America/New_York:20260113T190000
DTEND;TZID=America/New_York:20260113T200000
DTSTAMP:20260423T125451
CREATED:20240225T020026Z
LAST-MODIFIED:20251013T164744Z
UID:10001876-1768330800-1768334400@cbcburlingtonnj.org
SUMMARY:Bible Study
DESCRIPTION:
URL:https://cbcburlingtonnj.org/event/bible-study-99/
CATEGORIES:Bible Study,CBC EVENTS
END:VEVENT
BEGIN:VEVENT
DTSTART;TZID=America/New_York:20260111T190000
DTEND;TZID=America/New_York:20260111T200000
DTSTAMP:20260423T125451
CREATED:20251013T165115Z
LAST-MODIFIED:20251013T165115Z
UID:10003035-1768158000-1768161600@cbcburlingtonnj.org
SUMMARY:Fuel for Courage
DESCRIPTION:Join Us Every Sunday at 7:00 p.m. You may participate on a “phone only” basis by calling 1 929 205 6099. Then\, when prompted\, enter the same I.D. number and access code listed above. \nZoom Meeting ID: 538 277 6972\nPasscode 160051
URL:https://cbcburlingtonnj.org/event/fuel-for-courage/2026-01-11/
LOCATION:Virtual
CATEGORIES:Bible Study
END:VEVENT
BEGIN:VEVENT
DTSTART;TZID=America/New_York:20260106T190000
DTEND;TZID=America/New_York:20260106T200000
DTSTAMP:20260423T125451
CREATED:20240225T020026Z
LAST-MODIFIED:20251013T164744Z
UID:10001875-1767726000-1767729600@cbcburlingtonnj.org
SUMMARY:Bible Study
DESCRIPTION:
URL:https://cbcburlingtonnj.org/event/bible-study-98/
CATEGORIES:Bible Study,CBC EVENTS
END:VEVENT
BEGIN:VEVENT
DTSTART;TZID=America/New_York:20260104T190000
DTEND;TZID=America/New_York:20260104T200000
DTSTAMP:20260423T125451
CREATED:20251013T165115Z
LAST-MODIFIED:20251013T165115Z
UID:10003034-1767553200-1767556800@cbcburlingtonnj.org
SUMMARY:Fuel for Courage
DESCRIPTION:Join Us Every Sunday at 7:00 p.m. You may participate on a “phone only” basis by calling 1 929 205 6099. Then\, when prompted\, enter the same I.D. number and access code listed above. \nZoom Meeting ID: 538 277 6972\nPasscode 160051
URL:https://cbcburlingtonnj.org/event/fuel-for-courage/2026-01-04/
LOCATION:Virtual
CATEGORIES:Bible Study
END:VEVENT
BEGIN:VEVENT
DTSTART;TZID=America/New_York:20260104T143000
DTEND;TZID=America/New_York:20260104T153000
DTSTAMP:20260423T125451
CREATED:20250610T155036Z
LAST-MODIFIED:20250610T160010Z
UID:10002881-1767537000-1767540600@cbcburlingtonnj.org
SUMMARY:Nursing Home Ministries (First Sunday)
DESCRIPTION:When: Complete Care @ Burlington Woods \nTime: 2:30 to 3:30 PM \n  \nWhen: Wynwood Rehab/HealthCare Ctr. \nTime: 2:00 to 3:00 PM.
URL:https://cbcburlingtonnj.org/event/nursing-home-ministries/2026-01-04/
LOCATION:Complete Care @ Burlington Woods\, 115 Sunset Rd\, Burlington\, 08016\, United States
CATEGORIES:CBC EVENTS
END:VEVENT
BEGIN:VEVENT
DTSTART;TZID=America/New_York:20251231T190000
DTEND;TZID=America/New_York:20251231T210000
DTSTAMP:20260423T125451
CREATED:20251217T202456Z
LAST-MODIFIED:20251217T202456Z
UID:10003553-1767207600-1767214800@cbcburlingtonnj.org
SUMMARY:Watch Night Service @ 7 PM
DESCRIPTION:
URL:https://cbcburlingtonnj.org/event/watch-night-service-7-pm/
LOCATION:Christ Baptist Church Burlington NJ\, 950 Jacksonville Road\, Burlington\, NJ\, 08016\, United States
CATEGORIES:CBC EVENTS,Sunday Service
END:VEVENT
BEGIN:VEVENT
DTSTART;TZID=America/New_York:20251230T190000
DTEND;TZID=America/New_York:20251230T200000
DTSTAMP:20260423T125451
CREATED:20240225T020026Z
LAST-MODIFIED:20251013T164744Z
UID:10001874-1767121200-1767124800@cbcburlingtonnj.org
SUMMARY:Bible Study
DESCRIPTION:
URL:https://cbcburlingtonnj.org/event/bible-study-97/
CATEGORIES:Bible Study,CBC EVENTS
END:VEVENT
BEGIN:VEVENT
DTSTART;TZID=America/New_York:20251228T190000
DTEND;TZID=America/New_York:20251228T200000
DTSTAMP:20260423T125451
CREATED:20251013T165115Z
LAST-MODIFIED:20251013T165115Z
UID:10003033-1766948400-1766952000@cbcburlingtonnj.org
SUMMARY:Fuel for Courage
DESCRIPTION:Join Us Every Sunday at 7:00 p.m. You may participate on a “phone only” basis by calling 1 929 205 6099. Then\, when prompted\, enter the same I.D. number and access code listed above. \nZoom Meeting ID: 538 277 6972\nPasscode 160051
URL:https://cbcburlingtonnj.org/event/fuel-for-courage/2025-12-28/
LOCATION:Virtual
CATEGORIES:Bible Study
END:VEVENT
BEGIN:VEVENT
DTSTART;TZID=America/New_York:20251223T190000
DTEND;TZID=America/New_York:20251223T200000
DTSTAMP:20260423T125451
CREATED:20240225T020026Z
LAST-MODIFIED:20251013T164744Z
UID:10001873-1766516400-1766520000@cbcburlingtonnj.org
SUMMARY:Bible Study
DESCRIPTION:
URL:https://cbcburlingtonnj.org/event/bible-study-96/
CATEGORIES:Bible Study,CBC EVENTS
END:VEVENT
BEGIN:VEVENT
DTSTART;TZID=America/New_York:20251221T190000
DTEND;TZID=America/New_York:20251221T200000
DTSTAMP:20260423T125451
CREATED:20251013T165115Z
LAST-MODIFIED:20251013T165115Z
UID:10003032-1766343600-1766347200@cbcburlingtonnj.org
SUMMARY:Fuel for Courage
DESCRIPTION:Join Us Every Sunday at 7:00 p.m. You may participate on a “phone only” basis by calling 1 929 205 6099. Then\, when prompted\, enter the same I.D. number and access code listed above. \nZoom Meeting ID: 538 277 6972\nPasscode 160051
URL:https://cbcburlingtonnj.org/event/fuel-for-courage/2025-12-21/
LOCATION:Virtual
CATEGORIES:Bible Study
END:VEVENT
BEGIN:VEVENT
DTSTART;TZID=America/New_York:20251221T140000
DTEND;TZID=America/New_York:20251221T150000
DTSTAMP:20260423T125451
CREATED:20250610T155413Z
LAST-MODIFIED:20250724T155557Z
UID:10002947-1766325600-1766329200@cbcburlingtonnj.org
SUMMARY:Nursing Home Ministries (Third Sunday)
DESCRIPTION:When: Complete Care @ Marcella Nursing Home\nTime: 2:00 to 3:00 PM.
URL:https://cbcburlingtonnj.org/event/nursing-home-ministries-3/2025-12-21/
LOCATION:Complete Care @ Marcella Nursing Home\, 2305 Rancocas Rd\, Burlington\, 08016\, United States
CATEGORIES:CBC EVENTS
END:VEVENT
BEGIN:VEVENT
DTSTART;TZID=America/New_York:20251219T190000
DTEND;TZID=America/New_York:20251219T210000
DTSTAMP:20260423T125451
CREATED:20251106T185951Z
LAST-MODIFIED:20251106T185951Z
UID:10003549-1766170800-1766178000@cbcburlingtonnj.org
SUMMARY:The CBC Drama Ministry Presents "I've Got Nothing!" a Christmas Program
DESCRIPTION:
URL:https://cbcburlingtonnj.org/event/the-cbc-drama-ministry-presents-ive-got-nothing-a-christmas-program/
LOCATION:Christ Baptist Church Burlington NJ\, 950 Jacksonville Road\, Burlington\, NJ\, 08016\, United States
CATEGORIES:CBC EVENTS
END:VEVENT
BEGIN:VEVENT
DTSTART;TZID=America/New_York:20251216T190000
DTEND;TZID=America/New_York:20251216T200000
DTSTAMP:20260423T125451
CREATED:20240225T020026Z
LAST-MODIFIED:20251013T164744Z
UID:10001872-1765911600-1765915200@cbcburlingtonnj.org
SUMMARY:Bible Study
DESCRIPTION:
URL:https://cbcburlingtonnj.org/event/bible-study-95/
CATEGORIES:Bible Study,CBC EVENTS
END:VEVENT
BEGIN:VEVENT
DTSTART;TZID=America/New_York:20251214T190000
DTEND;TZID=America/New_York:20251214T200000
DTSTAMP:20260423T125451
CREATED:20251013T165115Z
LAST-MODIFIED:20251013T165115Z
UID:10003031-1765738800-1765742400@cbcburlingtonnj.org
SUMMARY:Fuel for Courage
DESCRIPTION:Join Us Every Sunday at 7:00 p.m. You may participate on a “phone only” basis by calling 1 929 205 6099. Then\, when prompted\, enter the same I.D. number and access code listed above. \nZoom Meeting ID: 538 277 6972\nPasscode 160051
URL:https://cbcburlingtonnj.org/event/fuel-for-courage/2025-12-14/
LOCATION:Virtual
CATEGORIES:Bible Study
END:VEVENT
BEGIN:VEVENT
DTSTART;TZID=America/New_York:20251211T190000
DTEND;TZID=America/New_York:20251211T203000
DTSTAMP:20260423T125451
CREATED:20250910T151841Z
LAST-MODIFIED:20251109T152538Z
UID:10003010-1765479600-1765485000@cbcburlingtonnj.org
SUMMARY:Health Care Ministry Cancer Support Meeting
DESCRIPTION:On Thursday (Sept. 25\, Oct. 23\, Nov. 13\, Dec. 11\, and Jan. 22) per month from 7:00 – 8:30 PM. \nDoctors will discuss cancer\, nutrition\, genetic counseling\, and heart care. If you or someone you know has had cancer\, you can come and share your story. Let’s be a Circle of Strength with our church and community. \nOnline on Zoom\nMeeting ID: 843 7917 8494\nPasscode: 628429\nDial-In 309-205-3325 \nFor more info\, contact our church.
URL:https://cbcburlingtonnj.org/event/health-care-ministry-cancer-support-meeting-3/2025-12-11/
LOCATION:Virtual
CATEGORIES:CBC Health Care Ministry
ATTACH;FMTTYPE=image/webp:https://cbcburlingtonnj.org/wp-content/uploads/2025/09/CANCER-SUPPORT-2-1.webp
END:VEVENT
BEGIN:VEVENT
DTSTART;TZID=America/New_York:20251209T190000
DTEND;TZID=America/New_York:20251209T200000
DTSTAMP:20260423T125451
CREATED:20240225T020015Z
LAST-MODIFIED:20251013T164744Z
UID:10001871-1765306800-1765310400@cbcburlingtonnj.org
SUMMARY:Bible Study
DESCRIPTION:
URL:https://cbcburlingtonnj.org/event/bible-study-94/
CATEGORIES:Bible Study,CBC EVENTS
END:VEVENT
BEGIN:VEVENT
DTSTART;TZID=America/New_York:20251207T190000
DTEND;TZID=America/New_York:20251207T200000
DTSTAMP:20260423T125451
CREATED:20251013T165115Z
LAST-MODIFIED:20251013T165115Z
UID:10003030-1765134000-1765137600@cbcburlingtonnj.org
SUMMARY:Fuel for Courage
DESCRIPTION:Join Us Every Sunday at 7:00 p.m. You may participate on a “phone only” basis by calling 1 929 205 6099. Then\, when prompted\, enter the same I.D. number and access code listed above. \nZoom Meeting ID: 538 277 6972\nPasscode 160051
URL:https://cbcburlingtonnj.org/event/fuel-for-courage/2025-12-07/
LOCATION:Virtual
CATEGORIES:Bible Study
END:VEVENT
BEGIN:VEVENT
DTSTART;TZID=America/New_York:20251207T143000
DTEND;TZID=America/New_York:20251207T153000
DTSTAMP:20260423T125451
CREATED:20250610T155036Z
LAST-MODIFIED:20250610T160010Z
UID:10002880-1765117800-1765121400@cbcburlingtonnj.org
SUMMARY:Nursing Home Ministries (First Sunday)
DESCRIPTION:When: Complete Care @ Burlington Woods \nTime: 2:30 to 3:30 PM \n  \nWhen: Wynwood Rehab/HealthCare Ctr. \nTime: 2:00 to 3:00 PM.
URL:https://cbcburlingtonnj.org/event/nursing-home-ministries/2025-12-07/
LOCATION:Complete Care @ Burlington Woods\, 115 Sunset Rd\, Burlington\, 08016\, United States
CATEGORIES:CBC EVENTS
END:VEVENT
BEGIN:VEVENT
DTSTART;TZID=America/New_York:20251206T120000
DTEND;TZID=America/New_York:20251206T140000
DTSTAMP:20260423T125451
CREATED:20251106T190102Z
LAST-MODIFIED:20251106T190216Z
UID:10003550-1765022400-1765029600@cbcburlingtonnj.org
SUMMARY:Surviving the Holidays
DESCRIPTION:The GriefShare ministry of Christ Baptist Church will conduct a two-hour workshop called “Surviving the Holidays” on December 6\, 2025\, @ 12:00 PM\, presenting strategies for coping with the grief of a loved one during the holidays. \nOnline registration is required at: https://www.griefshare.org/findagroup \nGrief is harder around the holidays. \n\nKnow how to deal with challenges\nHoliday traditions have changed\nSocial events are draining\nSights\, songs & smells trigger emotions\n\nWhen you’re asking questions about your grief\, a quick\, cliché response is not what you need. \nWe will share helpful insights and advice.
URL:https://cbcburlingtonnj.org/event/surviving-the-holidays/
LOCATION:Christ Baptist Church Burlington NJ\, 950 Jacksonville Road\, Burlington\, NJ\, 08016\, United States
CATEGORIES:GriefShare
END:VEVENT
BEGIN:VEVENT
DTSTART;TZID=America/New_York:20251202T190000
DTEND;TZID=America/New_York:20251202T200000
DTSTAMP:20260423T125451
CREATED:20240225T020015Z
LAST-MODIFIED:20251013T164744Z
UID:10001870-1764702000-1764705600@cbcburlingtonnj.org
SUMMARY:Bible Study
DESCRIPTION:
URL:https://cbcburlingtonnj.org/event/bible-study-93/
CATEGORIES:Bible Study,CBC EVENTS
END:VEVENT
END:VCALENDAR