BEGIN:VCALENDAR
VERSION:2.0
PRODID:-//Christ Baptist Church - Burlington, NJ - ECPv6.15.20//NONSGML v1.0//EN
CALSCALE:GREGORIAN
METHOD:PUBLISH
X-ORIGINAL-URL:https://cbcburlingtonnj.org
X-WR-CALDESC:Events for Christ Baptist Church - Burlington, NJ
REFRESH-INTERVAL;VALUE=DURATION:PT1H
X-Robots-Tag:noindex
X-PUBLISHED-TTL:PT1H
BEGIN:VTIMEZONE
TZID:America/New_York
BEGIN:DAYLIGHT
TZOFFSETFROM:-0500
TZOFFSETTO:-0400
TZNAME:EDT
DTSTART:20240310T070000
END:DAYLIGHT
BEGIN:STANDARD
TZOFFSETFROM:-0400
TZOFFSETTO:-0500
TZNAME:EST
DTSTART:20241103T060000
END:STANDARD
BEGIN:DAYLIGHT
TZOFFSETFROM:-0500
TZOFFSETTO:-0400
TZNAME:EDT
DTSTART:20250309T070000
END:DAYLIGHT
BEGIN:STANDARD
TZOFFSETFROM:-0400
TZOFFSETTO:-0500
TZNAME:EST
DTSTART:20251102T060000
END:STANDARD
BEGIN:DAYLIGHT
TZOFFSETFROM:-0500
TZOFFSETTO:-0400
TZNAME:EDT
DTSTART:20260308T070000
END:DAYLIGHT
BEGIN:STANDARD
TZOFFSETFROM:-0400
TZOFFSETTO:-0500
TZNAME:EST
DTSTART:20261101T060000
END:STANDARD
END:VTIMEZONE
BEGIN:VEVENT
DTSTART;TZID=America/New_York:20251118T190000
DTEND;TZID=America/New_York:20251118T200000
DTSTAMP:20260423T180708
CREATED:20240225T020015Z
LAST-MODIFIED:20251013T164744Z
UID:10001868-1763492400-1763496000@cbcburlingtonnj.org
SUMMARY:Bible Study
DESCRIPTION:
URL:https://cbcburlingtonnj.org/event/bible-study-91/
CATEGORIES:Bible Study,CBC EVENTS
END:VEVENT
BEGIN:VEVENT
DTSTART;TZID=America/New_York:20251116T190000
DTEND;TZID=America/New_York:20251116T200000
DTSTAMP:20260423T180708
CREATED:20251013T165115Z
LAST-MODIFIED:20251013T165115Z
UID:10003027-1763319600-1763323200@cbcburlingtonnj.org
SUMMARY:Fuel for Courage
DESCRIPTION:Join Us Every Sunday at 7:00 p.m. You may participate on a “phone only” basis by calling 1 929 205 6099. Then\, when prompted\, enter the same I.D. number and access code listed above. \nZoom Meeting ID: 538 277 6972\nPasscode 160051
URL:https://cbcburlingtonnj.org/event/fuel-for-courage/2025-11-16/
LOCATION:Virtual
CATEGORIES:Bible Study
END:VEVENT
BEGIN:VEVENT
DTSTART;TZID=America/New_York:20251116T140000
DTEND;TZID=America/New_York:20251116T150000
DTSTAMP:20260423T180708
CREATED:20250610T155413Z
LAST-MODIFIED:20250724T155557Z
UID:10002946-1763301600-1763305200@cbcburlingtonnj.org
SUMMARY:Nursing Home Ministries (Third Sunday)
DESCRIPTION:When: Complete Care @ Marcella Nursing Home\nTime: 2:00 to 3:00 PM.
URL:https://cbcburlingtonnj.org/event/nursing-home-ministries-3/2025-11-16/
LOCATION:Complete Care @ Marcella Nursing Home\, 2305 Rancocas Rd\, Burlington\, 08016\, United States
CATEGORIES:CBC EVENTS
END:VEVENT
BEGIN:VEVENT
DTSTART;TZID=America/New_York:20251111T190000
DTEND;TZID=America/New_York:20251111T200000
DTSTAMP:20260423T180708
CREATED:20240225T020014Z
LAST-MODIFIED:20251013T164744Z
UID:10001867-1762887600-1762891200@cbcburlingtonnj.org
SUMMARY:Bible Study
DESCRIPTION:
URL:https://cbcburlingtonnj.org/event/bible-study-90/
CATEGORIES:Bible Study,CBC EVENTS
END:VEVENT
BEGIN:VEVENT
DTSTART;TZID=America/New_York:20251109T190000
DTEND;TZID=America/New_York:20251109T200000
DTSTAMP:20260423T180708
CREATED:20251013T165115Z
LAST-MODIFIED:20251013T165115Z
UID:10003026-1762714800-1762718400@cbcburlingtonnj.org
SUMMARY:Fuel for Courage
DESCRIPTION:Join Us Every Sunday at 7:00 p.m. You may participate on a “phone only” basis by calling 1 929 205 6099. Then\, when prompted\, enter the same I.D. number and access code listed above. \nZoom Meeting ID: 538 277 6972\nPasscode 160051
URL:https://cbcburlingtonnj.org/event/fuel-for-courage/2025-11-09/
LOCATION:Virtual
CATEGORIES:Bible Study
END:VEVENT
BEGIN:VEVENT
DTSTART;TZID=America/New_York:20251104T190000
DTEND;TZID=America/New_York:20251104T200000
DTSTAMP:20260423T180708
CREATED:20240225T020014Z
LAST-MODIFIED:20251013T164744Z
UID:10001866-1762282800-1762286400@cbcburlingtonnj.org
SUMMARY:Bible Study
DESCRIPTION:
URL:https://cbcburlingtonnj.org/event/bible-study-89/
CATEGORIES:Bible Study,CBC EVENTS
END:VEVENT
BEGIN:VEVENT
DTSTART;TZID=America/New_York:20251102T190000
DTEND;TZID=America/New_York:20251102T200000
DTSTAMP:20260423T180708
CREATED:20251013T165115Z
LAST-MODIFIED:20251013T165115Z
UID:10003025-1762110000-1762113600@cbcburlingtonnj.org
SUMMARY:Fuel for Courage
DESCRIPTION:Join Us Every Sunday at 7:00 p.m. You may participate on a “phone only” basis by calling 1 929 205 6099. Then\, when prompted\, enter the same I.D. number and access code listed above. \nZoom Meeting ID: 538 277 6972\nPasscode 160051
URL:https://cbcburlingtonnj.org/event/fuel-for-courage/2025-11-02/
LOCATION:Virtual
CATEGORIES:Bible Study
END:VEVENT
BEGIN:VEVENT
DTSTART;TZID=America/New_York:20251102T143000
DTEND;TZID=America/New_York:20251102T153000
DTSTAMP:20260423T180708
CREATED:20250610T155036Z
LAST-MODIFIED:20250610T160010Z
UID:10002879-1762093800-1762097400@cbcburlingtonnj.org
SUMMARY:Nursing Home Ministries (First Sunday)
DESCRIPTION:When: Complete Care @ Burlington Woods \nTime: 2:30 to 3:30 PM \n  \nWhen: Wynwood Rehab/HealthCare Ctr. \nTime: 2:00 to 3:00 PM.
URL:https://cbcburlingtonnj.org/event/nursing-home-ministries/2025-11-02/
LOCATION:Complete Care @ Burlington Woods\, 115 Sunset Rd\, Burlington\, 08016\, United States
CATEGORIES:CBC EVENTS
END:VEVENT
BEGIN:VEVENT
DTSTART;TZID=America/New_York:20251101T100000
DTEND;TZID=America/New_York:20251101T120000
DTSTAMP:20260423T180708
CREATED:20251018T143907Z
LAST-MODIFIED:20251018T152220Z
UID:10003545-1761991200-1761998400@cbcburlingtonnj.org
SUMMARY:GriefShare - Surviving the Holidays
DESCRIPTION:The GriefShare ministry of Christ Baptist Church will conduct a two-hour workshop called “Surviving the Holidays” on November 1\, 2025\, @ 10:00 AM\, presenting strategies for coping with the grief of a loved one during the holidays. \nOnline registration is required at: https://www.griefshare.org/findagroup \nGrief is harder around the holidays. \n\nKnow how to deal with challenges\nHoliday traditions have changed\nSocial events are draining\nSights\, songs & smells trigger emotions\n\nWhen you’re asking questions about your grief\, a quick\, cliché response is not what you need. \nWe will share helpful insights and advice.
URL:https://cbcburlingtonnj.org/event/griefshare-surviving-the-holidays/
LOCATION:Christ Baptist Church Burlington NJ\, 950 Jacksonville Road\, Burlington\, NJ\, 08016\, United States
CATEGORIES:GriefShare
END:VEVENT
BEGIN:VEVENT
DTSTART;TZID=America/New_York:20251030T173000
DTEND;TZID=America/New_York:20251030T203000
DTSTAMP:20260423T180708
CREATED:20251005T152134Z
LAST-MODIFIED:20251011T195750Z
UID:10003017-1761845400-1761856200@cbcburlingtonnj.org
SUMMARY:Harvest Festival
DESCRIPTION:
URL:https://cbcburlingtonnj.org/event/harvest-festival/
LOCATION:Christ Baptist Church Burlington NJ\, 950 Jacksonville Road\, Burlington\, NJ\, 08016\, United States
CATEGORIES:8:28 EVENTS
ATTACH;FMTTYPE=image/png:https://cbcburlingtonnj.org/wp-content/uploads/2025/10/89.png
END:VEVENT
BEGIN:VEVENT
DTSTART;TZID=America/New_York:20251028T190000
DTEND;TZID=America/New_York:20251028T200000
DTSTAMP:20260423T180708
CREATED:20240225T020014Z
LAST-MODIFIED:20251013T164744Z
UID:10001865-1761678000-1761681600@cbcburlingtonnj.org
SUMMARY:Bible Study
DESCRIPTION:
URL:https://cbcburlingtonnj.org/event/bible-study-88/
CATEGORIES:Bible Study,CBC EVENTS
END:VEVENT
BEGIN:VEVENT
DTSTART;TZID=America/New_York:20251026T190000
DTEND;TZID=America/New_York:20251026T200000
DTSTAMP:20260423T180708
CREATED:20251013T165115Z
LAST-MODIFIED:20251013T165115Z
UID:10003024-1761505200-1761508800@cbcburlingtonnj.org
SUMMARY:Fuel for Courage
DESCRIPTION:Join Us Every Sunday at 7:00 p.m. You may participate on a “phone only” basis by calling 1 929 205 6099. Then\, when prompted\, enter the same I.D. number and access code listed above. \nZoom Meeting ID: 538 277 6972\nPasscode 160051
URL:https://cbcburlingtonnj.org/event/fuel-for-courage/2025-10-26/
LOCATION:Virtual
CATEGORIES:Bible Study
END:VEVENT
BEGIN:VEVENT
DTSTART;TZID=America/New_York:20251026T090000
DTEND;TZID=America/New_York:20251026T113000
DTSTAMP:20260423T180708
CREATED:20251016T145906Z
LAST-MODIFIED:20251016T150012Z
UID:10003544-1761469200-1761478200@cbcburlingtonnj.org
SUMMARY:Youth Sunday
DESCRIPTION:
URL:https://cbcburlingtonnj.org/event/youth-sunday-2/
LOCATION:Christ Baptist Church Burlington NJ\, 950 Jacksonville Road\, Burlington\, NJ\, 08016\, United States
CATEGORIES:8:28 EVENTS,Sunday Service
ATTACH;FMTTYPE=image/jpeg:https://cbcburlingtonnj.org/wp-content/uploads/2025/10/youth_service-2025-scaled.jpg
END:VEVENT
BEGIN:VEVENT
DTSTART;TZID=America/New_York:20251025T130000
DTEND;TZID=America/New_York:20251025T150000
DTSTAMP:20260423T180708
CREATED:20251005T150610Z
LAST-MODIFIED:20251011T195656Z
UID:10003016-1761397200-1761404400@cbcburlingtonnj.org
SUMMARY:8:28 @ Dalton Farm
DESCRIPTION:
URL:https://cbcburlingtonnj.org/event/828-dalton-farm/
LOCATION:Dalton Farms\, 660 Oak Grove Rd\, Swedesboro\, 08085\, United States
CATEGORIES:8:28 EVENTS
ATTACH;FMTTYPE=image/png:https://cbcburlingtonnj.org/wp-content/uploads/2025/10/88.png
END:VEVENT
BEGIN:VEVENT
DTSTART;TZID=America/New_York:20251024T190000
DTEND;TZID=America/New_York:20251024T210000
DTSTAMP:20260423T180708
CREATED:20251005T152902Z
LAST-MODIFIED:20251006T002434Z
UID:10003020-1761332400-1761339600@cbcburlingtonnj.org
SUMMARY:Movie Night with the Marriage Ministry
DESCRIPTION: Join the Marriage Ministry on Oct 24th at 7:00 pm for a movie night here at the church. Stay tuned for more information. 
URL:https://cbcburlingtonnj.org/event/movie-night-with-the-marriage-ministry/
LOCATION:Christ Baptist Church Burlington NJ\, 950 Jacksonville Road\, Burlington\, NJ\, 08016\, United States
CATEGORIES:Marriage Ministry
END:VEVENT
BEGIN:VEVENT
DTSTART;TZID=America/New_York:20251023T190000
DTEND;TZID=America/New_York:20251023T203000
DTSTAMP:20260423T180708
CREATED:20250910T151841Z
LAST-MODIFIED:20251109T152538Z
UID:10003008-1761246000-1761251400@cbcburlingtonnj.org
SUMMARY:Health Care Ministry Cancer Support Meeting
DESCRIPTION:On Thursday (Sept. 25\, Oct. 23\, Nov. 13\, Dec. 11\, and Jan. 22) per month from 7:00 – 8:30 PM. \nDoctors will discuss cancer\, nutrition\, genetic counseling\, and heart care. If you or someone you know has had cancer\, you can come and share your story. Let’s be a Circle of Strength with our church and community. \nOnline on Zoom\nMeeting ID: 843 7917 8494\nPasscode: 628429\nDial-In 309-205-3325 \nFor more info\, contact our church.
URL:https://cbcburlingtonnj.org/event/health-care-ministry-cancer-support-meeting-3/2025-10-23/
LOCATION:Virtual
CATEGORIES:CBC Health Care Ministry
ATTACH;FMTTYPE=image/webp:https://cbcburlingtonnj.org/wp-content/uploads/2025/09/CANCER-SUPPORT-2-1.webp
END:VEVENT
BEGIN:VEVENT
DTSTART;TZID=America/New_York:20251022T100000
DTEND;TZID=America/New_York:20251022T120000
DTSTAMP:20260423T180708
CREATED:20251018T144318Z
LAST-MODIFIED:20251018T144318Z
UID:10003548-1761127200-1761134400@cbcburlingtonnj.org
SUMMARY:Medicare Information Session
DESCRIPTION:
URL:https://cbcburlingtonnj.org/event/medicare-information-session/
LOCATION:Christ Baptist Church Burlington NJ\, 950 Jacksonville Road\, Burlington\, NJ\, 08016\, United States
CATEGORIES:CBC EVENTS
END:VEVENT
BEGIN:VEVENT
DTSTART;TZID=America/New_York:20251021T190000
DTEND;TZID=America/New_York:20251021T200000
DTSTAMP:20260423T180708
CREATED:20240225T020014Z
LAST-MODIFIED:20251013T164744Z
UID:10001864-1761073200-1761076800@cbcburlingtonnj.org
SUMMARY:Bible Study
DESCRIPTION:
URL:https://cbcburlingtonnj.org/event/bible-study-87/
CATEGORIES:Bible Study,CBC EVENTS
END:VEVENT
BEGIN:VEVENT
DTSTART;TZID=America/New_York:20251019T190000
DTEND;TZID=America/New_York:20251019T200000
DTSTAMP:20260423T180708
CREATED:20251013T165115Z
LAST-MODIFIED:20251013T165115Z
UID:10003023-1760900400-1760904000@cbcburlingtonnj.org
SUMMARY:Fuel for Courage
DESCRIPTION:Join Us Every Sunday at 7:00 p.m. You may participate on a “phone only” basis by calling 1 929 205 6099. Then\, when prompted\, enter the same I.D. number and access code listed above. \nZoom Meeting ID: 538 277 6972\nPasscode 160051
URL:https://cbcburlingtonnj.org/event/fuel-for-courage/2025-10-19/
LOCATION:Virtual
CATEGORIES:Bible Study
END:VEVENT
BEGIN:VEVENT
DTSTART;TZID=America/New_York:20251019T140000
DTEND;TZID=America/New_York:20251019T150000
DTSTAMP:20260423T180708
CREATED:20250610T155413Z
LAST-MODIFIED:20250724T155557Z
UID:10002945-1760882400-1760886000@cbcburlingtonnj.org
SUMMARY:Nursing Home Ministries (Third Sunday)
DESCRIPTION:When: Complete Care @ Marcella Nursing Home\nTime: 2:00 to 3:00 PM.
URL:https://cbcburlingtonnj.org/event/nursing-home-ministries-3/2025-10-19/
LOCATION:Complete Care @ Marcella Nursing Home\, 2305 Rancocas Rd\, Burlington\, 08016\, United States
CATEGORIES:CBC EVENTS
END:VEVENT
BEGIN:VEVENT
DTSTART;TZID=America/New_York:20251017T183000
DTEND;TZID=America/New_York:20251017T203000
DTSTAMP:20260423T180708
CREATED:20251005T152619Z
LAST-MODIFIED:20251006T002434Z
UID:10003019-1760725800-1760733000@cbcburlingtonnj.org
SUMMARY:Christian Line Dance Fellowship Hosted by JOYFUL WOMEN OF DESTINY
DESCRIPTION:JOYFUL WOMEN OF DESTINY’S  WOMEN’S MINISTRY will be hosting a Christian Line Dance Fellowship on Friday\, October 17\, from 6:30 to 8:30 pm. Janet and DJ Double W from Waltz Vybez will be back by popular demand. This is a free fellowship with light refreshments.
URL:https://cbcburlingtonnj.org/event/christian-line-dance-fellowship-hosted-by-joyful-women-of-destiny/
LOCATION:Christ Baptist Church Burlington NJ\, 950 Jacksonville Road\, Burlington\, NJ\, 08016\, United States
CATEGORIES:JOYFUL WOMEN OF DESTINY
END:VEVENT
BEGIN:VEVENT
DTSTART;VALUE=DATE:20251017
DTEND;VALUE=DATE:20251019
DTSTAMP:20260423T180708
CREATED:20251005T150303Z
LAST-MODIFIED:20251011T195519Z
UID:10003015-1760659200-1760831999@cbcburlingtonnj.org
SUMMARY:Overnight Youth Shut-In
DESCRIPTION:Please enable JavaScript in your browser to complete this form.WHEN: Friday\, October 17 to Saturday\, October 18\, 2025\nWHERE: Christ Baptist Church\nWHO: Ages 10 to 17 \nAdditional Information \nDinner and breakfast will be served. Activities include video games\, board games\, nail and spa services\, prayer\, and worship\, among others. \nPlease bring a sleeping bag/blanket/pillow along with your nighttime materials (PJs\, toiletries\, etc.) \nThe child and/or parent MUST be a member of Christ Baptist Church to attend the shut-in event.\nHow many children are you registering? *--- Select Choice ---1234567Are you and/or your child(ren) a member of Christ Baptist Church?  *--- Select Choice ---YesNoChild's Name *FirstLastGrade *Gender *--- Select Choice ---FemaleMaleDate of Birth *MM123456789101112DD12345678910111213141516171819202122232425262728293031YYYY202720262025202420232022202120202019201820172016201520142013201220112010200920082007200620052004200320022001200019991998199719961995199419931992199119901989198819871986198519841983198219811980197919781977197619751974197319721971197019691968196719661965196419631962196119601959195819571956195519541953195219511950194919481947194619451944194319421941194019391938193719361935193419331932193119301929192819271926192519241923192219211920Age *Does your child have any known allergies?  *--- Select Choice ---YesNoIf Yes\, please list known allergies.Any specific dietary requirements? *--- Select Choice ---YesNoSpecial InstructionsParent/Guardian Name *FirstLastParent/Guardian PhoneParent/Guardian Email *Parent/Guardian Address *Address Line 1Address Line 2City--- Select state ---AlabamaAlaskaArizonaArkansasCaliforniaColoradoConnecticutDelawareDistrict of ColumbiaFloridaGeorgiaHawaiiIdahoIllinoisIndianaIowaKansasKentuckyLouisianaMaineMarylandMassachusettsMichiganMinnesotaMississippiMissouriMontanaNebraskaNevadaNew HampshireNew JerseyNew MexicoNew YorkNorth CarolinaNorth DakotaOhioOklahomaOregonPennsylvaniaRhode IslandSouth CarolinaSouth DakotaTennesseeTexasUtahVermontVirginiaWashingtonWest VirginiaWisconsinWyomingStateZip CodeEmergency Contact Name *FirstLastRelationship to Child *--- Select Choice ---FatherMotherGrandparentGuardianSiblingFamily Friend		\n			Church? Gender Emergency\n			\n		\n		Emergency Contact Number *I\, the undersigned\, am the parent/legal guardian of the child named above. I give my full consent for my child to participate in the event specified.Liability Waiver *My family and I hereby waive and release the Christ Baptist Church\, its Pastor\, officers\, employees\, volunteers\, or other representatives from all claims for damages and/ or injuries incurred while participating in or as a spectator at a Christ Baptist Church sponsored activity. I have read and understand the registration policies. Registration is invalid without signature.Medical Treatment *I understand that I will be notified at once in case of illness or accident involving my child\, and I will make arrangements for medical care of my child with the physicians or hospital of my choice. If I cannot be reached to make neccessary arrangements or in a critical emergency requiring medicial treatment\, I hereby authorize Christ Baptist Church/ Vacation Bible School to contact Emergency Medicial Services for transport to an emergency care facility. I understand that emergency personnel may choose to contact my child's physician listed below:By applying my electronic signature to this agreement\, I agree that my electronic signature is the legally binding equivalent of my handwritten signature on paper. I will not\, at any future time\, claim that my electronic signature is not legally binding or enforceable. By electronically signing and submitting this agreement\, I 1) acknowledge that I have read and fully understand the terms of the agreement; 2) voluntarily agree to be bound by this agreement; and 3) certify that I am 18 years of age or older. My signature applies to all pages of this contract. I understand that if I wish to sign a hard copy of this agreement instead of an electronic version\, I must contact the party that requires my signature on this agreement directly.  A parent or legal guardian must sign this agreement on behalf of any minor participant under the age of 18. By electronically signing this agreement\, I represent that I have the authority to sign and enter into this agreement on behalf of the minor(s) listed above.Signature: PRINT NAME BELOW to sign release *Submit
URL:https://cbcburlingtonnj.org/event/overnight-youth-shut-in/
LOCATION:Christ Baptist Church Burlington NJ\, 950 Jacksonville Road\, Burlington\, NJ\, 08016\, United States
CATEGORIES:8:28 EVENTS
ATTACH;FMTTYPE=image/png:https://cbcburlingtonnj.org/wp-content/uploads/2025/10/87.png
END:VEVENT
BEGIN:VEVENT
DTSTART;TZID=America/New_York:20251014T190000
DTEND;TZID=America/New_York:20251014T200000
DTSTAMP:20260423T180708
CREATED:20240225T020014Z
LAST-MODIFIED:20251013T164744Z
UID:10001863-1760468400-1760472000@cbcburlingtonnj.org
SUMMARY:Bible Study
DESCRIPTION:
URL:https://cbcburlingtonnj.org/event/bible-study-86/
CATEGORIES:Bible Study,CBC EVENTS
END:VEVENT
BEGIN:VEVENT
DTSTART;TZID=America/New_York:20251012T190000
DTEND;TZID=America/New_York:20251012T200000
DTSTAMP:20260423T180708
CREATED:20251013T165115Z
LAST-MODIFIED:20251013T165115Z
UID:10003022-1760295600-1760299200@cbcburlingtonnj.org
SUMMARY:Fuel for Courage
DESCRIPTION:Join Us Every Sunday at 7:00 p.m. You may participate on a “phone only” basis by calling 1 929 205 6099. Then\, when prompted\, enter the same I.D. number and access code listed above. \nZoom Meeting ID: 538 277 6972\nPasscode 160051
URL:https://cbcburlingtonnj.org/event/fuel-for-courage/2025-10-12/
LOCATION:Virtual
CATEGORIES:Bible Study
END:VEVENT
BEGIN:VEVENT
DTSTART;TZID=America/New_York:20251010T183000
DTEND;TZID=America/New_York:20251010T200000
DTSTAMP:20260423T180708
CREATED:20251005T145930Z
LAST-MODIFIED:20251006T002434Z
UID:10003014-1760121000-1760126400@cbcburlingtonnj.org
SUMMARY:8:28's Civic Engagement Event
DESCRIPTION:
URL:https://cbcburlingtonnj.org/event/civic-engagement-event/
LOCATION:Christ Baptist Church Burlington NJ\, 950 Jacksonville Road\, Burlington\, NJ\, 08016\, United States
CATEGORIES:8:28 EVENTS
END:VEVENT
BEGIN:VEVENT
DTSTART;TZID=America/New_York:20251007T190000
DTEND;TZID=America/New_York:20251007T200000
DTSTAMP:20260423T180708
CREATED:20240225T020014Z
LAST-MODIFIED:20240225T020014Z
UID:10001862-1759863600-1759867200@cbcburlingtonnj.org
SUMMARY:Bible Study
DESCRIPTION:
URL:https://cbcburlingtonnj.org/event/bible-study-85/
CATEGORIES:CBC EVENTS
END:VEVENT
BEGIN:VEVENT
DTSTART;TZID=America/New_York:20251005T143000
DTEND;TZID=America/New_York:20251005T153000
DTSTAMP:20260423T180708
CREATED:20250610T155036Z
LAST-MODIFIED:20250610T160010Z
UID:10002878-1759674600-1759678200@cbcburlingtonnj.org
SUMMARY:Nursing Home Ministries (First Sunday)
DESCRIPTION:When: Complete Care @ Burlington Woods \nTime: 2:30 to 3:30 PM \n  \nWhen: Wynwood Rehab/HealthCare Ctr. \nTime: 2:00 to 3:00 PM.
URL:https://cbcburlingtonnj.org/event/nursing-home-ministries/2025-10-05/
LOCATION:Complete Care @ Burlington Woods\, 115 Sunset Rd\, Burlington\, 08016\, United States
CATEGORIES:CBC EVENTS
END:VEVENT
BEGIN:VEVENT
DTSTART;TZID=America/New_York:20250930T190000
DTEND;TZID=America/New_York:20250930T200000
DTSTAMP:20260423T180708
CREATED:20240225T020003Z
LAST-MODIFIED:20240225T020003Z
UID:10001861-1759258800-1759262400@cbcburlingtonnj.org
SUMMARY:Bible Study
DESCRIPTION:
URL:https://cbcburlingtonnj.org/event/bible-study-84/
CATEGORIES:CBC EVENTS
END:VEVENT
BEGIN:VEVENT
DTSTART;TZID=America/New_York:20250925T080000
DTEND;TZID=America/New_York:20250925T170000
DTSTAMP:20260423T180708
CREATED:20250910T151841Z
LAST-MODIFIED:20251109T152538Z
UID:10003006-1758787200-1758819600@cbcburlingtonnj.org
SUMMARY:Health Care Ministry Cancer Support Meeting
DESCRIPTION:On Thursday (Sept. 25\, Oct. 23\, Nov. 13\, Dec. 11\, and Jan. 22) per month from 7:00 – 8:30 PM. \nDoctors will discuss cancer\, nutrition\, genetic counseling\, and heart care. If you or someone you know has had cancer\, you can come and share your story. Let’s be a Circle of Strength with our church and community. \nOnline on Zoom\nMeeting ID: 843 7917 8494\nPasscode: 628429\nDial-In 309-205-3325 \nFor more info\, contact our church.
URL:https://cbcburlingtonnj.org/event/health-care-ministry-cancer-support-meeting-3/2025-09-25/
LOCATION:Virtual
CATEGORIES:CBC Health Care Ministry
ATTACH;FMTTYPE=image/webp:https://cbcburlingtonnj.org/wp-content/uploads/2025/09/CANCER-SUPPORT-2-1.webp
END:VEVENT
BEGIN:VEVENT
DTSTART;TZID=America/New_York:20250923T190000
DTEND;TZID=America/New_York:20250923T200000
DTSTAMP:20260423T180708
CREATED:20240225T020002Z
LAST-MODIFIED:20240225T020002Z
UID:10001860-1758654000-1758657600@cbcburlingtonnj.org
SUMMARY:Bible Study
DESCRIPTION:
URL:https://cbcburlingtonnj.org/event/bible-study-83/
CATEGORIES:CBC EVENTS
END:VEVENT
END:VCALENDAR