BEGIN:VCALENDAR
VERSION:2.0
PRODID:-//Christ Baptist Church - Burlington, NJ - ECPv6.15.20//NONSGML v1.0//EN
CALSCALE:GREGORIAN
METHOD:PUBLISH
X-ORIGINAL-URL:https://cbcburlingtonnj.org
X-WR-CALDESC:Events for Christ Baptist Church - Burlington, NJ
REFRESH-INTERVAL;VALUE=DURATION:PT1H
X-Robots-Tag:noindex
X-PUBLISHED-TTL:PT1H
BEGIN:VTIMEZONE
TZID:America/New_York
BEGIN:DAYLIGHT
TZOFFSETFROM:-0500
TZOFFSETTO:-0400
TZNAME:EDT
DTSTART:20260308T070000
END:DAYLIGHT
BEGIN:STANDARD
TZOFFSETFROM:-0400
TZOFFSETTO:-0500
TZNAME:EST
DTSTART:20261101T060000
END:STANDARD
BEGIN:DAYLIGHT
TZOFFSETFROM:-0500
TZOFFSETTO:-0400
TZNAME:EDT
DTSTART:20270314T070000
END:DAYLIGHT
BEGIN:STANDARD
TZOFFSETFROM:-0400
TZOFFSETTO:-0500
TZNAME:EST
DTSTART:20271107T060000
END:STANDARD
BEGIN:DAYLIGHT
TZOFFSETFROM:-0500
TZOFFSETTO:-0400
TZNAME:EDT
DTSTART:20280312T070000
END:DAYLIGHT
BEGIN:STANDARD
TZOFFSETFROM:-0400
TZOFFSETTO:-0500
TZNAME:EST
DTSTART:20281105T060000
END:STANDARD
END:VTIMEZONE
BEGIN:VEVENT
DTSTART;TZID=America/New_York:20270502T143000
DTEND;TZID=America/New_York:20270502T153000
DTSTAMP:20260423T192039
CREATED:20250610T155036Z
LAST-MODIFIED:20250610T160010Z
UID:10002897-1809268200-1809271800@cbcburlingtonnj.org
SUMMARY:Nursing Home Ministries (First Sunday)
DESCRIPTION:When: Complete Care @ Burlington Woods \nTime: 2:30 to 3:30 PM \n  \nWhen: Wynwood Rehab/HealthCare Ctr. \nTime: 2:00 to 3:00 PM.
URL:https://cbcburlingtonnj.org/event/nursing-home-ministries/2027-05-02/
LOCATION:Complete Care @ Burlington Woods\, 115 Sunset Rd\, Burlington\, 08016\, United States
CATEGORIES:CBC EVENTS
END:VEVENT
BEGIN:VEVENT
DTSTART;TZID=America/New_York:20270502T190000
DTEND;TZID=America/New_York:20270502T200000
DTSTAMP:20260423T192040
CREATED:20251013T165115Z
LAST-MODIFIED:20251013T165115Z
UID:10003103-1809284400-1809288000@cbcburlingtonnj.org
SUMMARY:Fuel for Courage
DESCRIPTION:Join Us Every Sunday at 7:00 p.m. You may participate on a “phone only” basis by calling 1 929 205 6099. Then\, when prompted\, enter the same I.D. number and access code listed above. \nZoom Meeting ID: 538 277 6972\nPasscode 160051
URL:https://cbcburlingtonnj.org/event/fuel-for-courage/2027-05-02/
LOCATION:Virtual
CATEGORIES:Bible Study
END:VEVENT
BEGIN:VEVENT
DTSTART;TZID=America/New_York:20270509T190000
DTEND;TZID=America/New_York:20270509T200000
DTSTAMP:20260423T192040
CREATED:20251013T165115Z
LAST-MODIFIED:20251013T165115Z
UID:10003104-1809889200-1809892800@cbcburlingtonnj.org
SUMMARY:Fuel for Courage
DESCRIPTION:Join Us Every Sunday at 7:00 p.m. You may participate on a “phone only” basis by calling 1 929 205 6099. Then\, when prompted\, enter the same I.D. number and access code listed above. \nZoom Meeting ID: 538 277 6972\nPasscode 160051
URL:https://cbcburlingtonnj.org/event/fuel-for-courage/2027-05-09/
LOCATION:Virtual
CATEGORIES:Bible Study
END:VEVENT
BEGIN:VEVENT
DTSTART;TZID=America/New_York:20270516T140000
DTEND;TZID=America/New_York:20270516T150000
DTSTAMP:20260423T192040
CREATED:20250610T155413Z
LAST-MODIFIED:20250724T155557Z
UID:10002964-1810476000-1810479600@cbcburlingtonnj.org
SUMMARY:Nursing Home Ministries (Third Sunday)
DESCRIPTION:When: Complete Care @ Marcella Nursing Home\nTime: 2:00 to 3:00 PM.
URL:https://cbcburlingtonnj.org/event/nursing-home-ministries-3/2027-05-16/
LOCATION:Complete Care @ Marcella Nursing Home\, 2305 Rancocas Rd\, Burlington\, 08016\, United States
CATEGORIES:CBC EVENTS
END:VEVENT
BEGIN:VEVENT
DTSTART;TZID=America/New_York:20270516T190000
DTEND;TZID=America/New_York:20270516T200000
DTSTAMP:20260423T192040
CREATED:20251013T165115Z
LAST-MODIFIED:20251013T165115Z
UID:10003105-1810494000-1810497600@cbcburlingtonnj.org
SUMMARY:Fuel for Courage
DESCRIPTION:Join Us Every Sunday at 7:00 p.m. You may participate on a “phone only” basis by calling 1 929 205 6099. Then\, when prompted\, enter the same I.D. number and access code listed above. \nZoom Meeting ID: 538 277 6972\nPasscode 160051
URL:https://cbcburlingtonnj.org/event/fuel-for-courage/2027-05-16/
LOCATION:Virtual
CATEGORIES:Bible Study
END:VEVENT
BEGIN:VEVENT
DTSTART;TZID=America/New_York:20270523T190000
DTEND;TZID=America/New_York:20270523T200000
DTSTAMP:20260423T192040
CREATED:20251013T165115Z
LAST-MODIFIED:20251013T165115Z
UID:10003106-1811098800-1811102400@cbcburlingtonnj.org
SUMMARY:Fuel for Courage
DESCRIPTION:Join Us Every Sunday at 7:00 p.m. You may participate on a “phone only” basis by calling 1 929 205 6099. Then\, when prompted\, enter the same I.D. number and access code listed above. \nZoom Meeting ID: 538 277 6972\nPasscode 160051
URL:https://cbcburlingtonnj.org/event/fuel-for-courage/2027-05-23/
LOCATION:Virtual
CATEGORIES:Bible Study
END:VEVENT
BEGIN:VEVENT
DTSTART;TZID=America/New_York:20270530T190000
DTEND;TZID=America/New_York:20270530T200000
DTSTAMP:20260423T192040
CREATED:20251013T165115Z
LAST-MODIFIED:20251013T165115Z
UID:10003107-1811703600-1811707200@cbcburlingtonnj.org
SUMMARY:Fuel for Courage
DESCRIPTION:Join Us Every Sunday at 7:00 p.m. You may participate on a “phone only” basis by calling 1 929 205 6099. Then\, when prompted\, enter the same I.D. number and access code listed above. \nZoom Meeting ID: 538 277 6972\nPasscode 160051
URL:https://cbcburlingtonnj.org/event/fuel-for-courage/2027-05-30/
LOCATION:Virtual
CATEGORIES:Bible Study
END:VEVENT
BEGIN:VEVENT
DTSTART;TZID=America/New_York:20270606T143000
DTEND;TZID=America/New_York:20270606T153000
DTSTAMP:20260423T192040
CREATED:20250610T155036Z
LAST-MODIFIED:20250610T160010Z
UID:10002898-1812292200-1812295800@cbcburlingtonnj.org
SUMMARY:Nursing Home Ministries (First Sunday)
DESCRIPTION:When: Complete Care @ Burlington Woods \nTime: 2:30 to 3:30 PM \n  \nWhen: Wynwood Rehab/HealthCare Ctr. \nTime: 2:00 to 3:00 PM.
URL:https://cbcburlingtonnj.org/event/nursing-home-ministries/2027-06-06/
LOCATION:Complete Care @ Burlington Woods\, 115 Sunset Rd\, Burlington\, 08016\, United States
CATEGORIES:CBC EVENTS
END:VEVENT
BEGIN:VEVENT
DTSTART;TZID=America/New_York:20270606T190000
DTEND;TZID=America/New_York:20270606T200000
DTSTAMP:20260423T192040
CREATED:20251013T165115Z
LAST-MODIFIED:20251013T165115Z
UID:10003108-1812308400-1812312000@cbcburlingtonnj.org
SUMMARY:Fuel for Courage
DESCRIPTION:Join Us Every Sunday at 7:00 p.m. You may participate on a “phone only” basis by calling 1 929 205 6099. Then\, when prompted\, enter the same I.D. number and access code listed above. \nZoom Meeting ID: 538 277 6972\nPasscode 160051
URL:https://cbcburlingtonnj.org/event/fuel-for-courage/2027-06-06/
LOCATION:Virtual
CATEGORIES:Bible Study
END:VEVENT
BEGIN:VEVENT
DTSTART;TZID=America/New_York:20270613T190000
DTEND;TZID=America/New_York:20270613T200000
DTSTAMP:20260423T192040
CREATED:20251013T165115Z
LAST-MODIFIED:20251013T165115Z
UID:10003109-1812913200-1812916800@cbcburlingtonnj.org
SUMMARY:Fuel for Courage
DESCRIPTION:Join Us Every Sunday at 7:00 p.m. You may participate on a “phone only” basis by calling 1 929 205 6099. Then\, when prompted\, enter the same I.D. number and access code listed above. \nZoom Meeting ID: 538 277 6972\nPasscode 160051
URL:https://cbcburlingtonnj.org/event/fuel-for-courage/2027-06-13/
LOCATION:Virtual
CATEGORIES:Bible Study
END:VEVENT
BEGIN:VEVENT
DTSTART;TZID=America/New_York:20270620T140000
DTEND;TZID=America/New_York:20270620T150000
DTSTAMP:20260423T192040
CREATED:20250610T155413Z
LAST-MODIFIED:20250724T155557Z
UID:10002965-1813500000-1813503600@cbcburlingtonnj.org
SUMMARY:Nursing Home Ministries (Third Sunday)
DESCRIPTION:When: Complete Care @ Marcella Nursing Home\nTime: 2:00 to 3:00 PM.
URL:https://cbcburlingtonnj.org/event/nursing-home-ministries-3/2027-06-20/
LOCATION:Complete Care @ Marcella Nursing Home\, 2305 Rancocas Rd\, Burlington\, 08016\, United States
CATEGORIES:CBC EVENTS
END:VEVENT
BEGIN:VEVENT
DTSTART;TZID=America/New_York:20270620T190000
DTEND;TZID=America/New_York:20270620T200000
DTSTAMP:20260423T192040
CREATED:20251013T165115Z
LAST-MODIFIED:20251013T165115Z
UID:10003110-1813518000-1813521600@cbcburlingtonnj.org
SUMMARY:Fuel for Courage
DESCRIPTION:Join Us Every Sunday at 7:00 p.m. You may participate on a “phone only” basis by calling 1 929 205 6099. Then\, when prompted\, enter the same I.D. number and access code listed above. \nZoom Meeting ID: 538 277 6972\nPasscode 160051
URL:https://cbcburlingtonnj.org/event/fuel-for-courage/2027-06-20/
LOCATION:Virtual
CATEGORIES:Bible Study
END:VEVENT
BEGIN:VEVENT
DTSTART;TZID=America/New_York:20270627T190000
DTEND;TZID=America/New_York:20270627T200000
DTSTAMP:20260423T192040
CREATED:20251013T165115Z
LAST-MODIFIED:20251013T165115Z
UID:10003111-1814122800-1814126400@cbcburlingtonnj.org
SUMMARY:Fuel for Courage
DESCRIPTION:Join Us Every Sunday at 7:00 p.m. You may participate on a “phone only” basis by calling 1 929 205 6099. Then\, when prompted\, enter the same I.D. number and access code listed above. \nZoom Meeting ID: 538 277 6972\nPasscode 160051
URL:https://cbcburlingtonnj.org/event/fuel-for-courage/2027-06-27/
LOCATION:Virtual
CATEGORIES:Bible Study
END:VEVENT
BEGIN:VEVENT
DTSTART;TZID=America/New_York:20270704T143000
DTEND;TZID=America/New_York:20270704T153000
DTSTAMP:20260423T192040
CREATED:20250610T155036Z
LAST-MODIFIED:20250610T160010Z
UID:10002899-1814711400-1814715000@cbcburlingtonnj.org
SUMMARY:Nursing Home Ministries (First Sunday)
DESCRIPTION:When: Complete Care @ Burlington Woods \nTime: 2:30 to 3:30 PM \n  \nWhen: Wynwood Rehab/HealthCare Ctr. \nTime: 2:00 to 3:00 PM.
URL:https://cbcburlingtonnj.org/event/nursing-home-ministries/2027-07-04/
LOCATION:Complete Care @ Burlington Woods\, 115 Sunset Rd\, Burlington\, 08016\, United States
CATEGORIES:CBC EVENTS
END:VEVENT
BEGIN:VEVENT
DTSTART;TZID=America/New_York:20270704T190000
DTEND;TZID=America/New_York:20270704T200000
DTSTAMP:20260423T192040
CREATED:20251013T165115Z
LAST-MODIFIED:20251013T165115Z
UID:10003112-1814727600-1814731200@cbcburlingtonnj.org
SUMMARY:Fuel for Courage
DESCRIPTION:Join Us Every Sunday at 7:00 p.m. You may participate on a “phone only” basis by calling 1 929 205 6099. Then\, when prompted\, enter the same I.D. number and access code listed above. \nZoom Meeting ID: 538 277 6972\nPasscode 160051
URL:https://cbcburlingtonnj.org/event/fuel-for-courage/2027-07-04/
LOCATION:Virtual
CATEGORIES:Bible Study
END:VEVENT
BEGIN:VEVENT
DTSTART;TZID=America/New_York:20270711T190000
DTEND;TZID=America/New_York:20270711T200000
DTSTAMP:20260423T192040
CREATED:20251013T165115Z
LAST-MODIFIED:20251013T165115Z
UID:10003113-1815332400-1815336000@cbcburlingtonnj.org
SUMMARY:Fuel for Courage
DESCRIPTION:Join Us Every Sunday at 7:00 p.m. You may participate on a “phone only” basis by calling 1 929 205 6099. Then\, when prompted\, enter the same I.D. number and access code listed above. \nZoom Meeting ID: 538 277 6972\nPasscode 160051
URL:https://cbcburlingtonnj.org/event/fuel-for-courage/2027-07-11/
LOCATION:Virtual
CATEGORIES:Bible Study
END:VEVENT
BEGIN:VEVENT
DTSTART;TZID=America/New_York:20270718T140000
DTEND;TZID=America/New_York:20270718T150000
DTSTAMP:20260423T192040
CREATED:20250610T155413Z
LAST-MODIFIED:20250724T155557Z
UID:10002966-1815919200-1815922800@cbcburlingtonnj.org
SUMMARY:Nursing Home Ministries (Third Sunday)
DESCRIPTION:When: Complete Care @ Marcella Nursing Home\nTime: 2:00 to 3:00 PM.
URL:https://cbcburlingtonnj.org/event/nursing-home-ministries-3/2027-07-18/
LOCATION:Complete Care @ Marcella Nursing Home\, 2305 Rancocas Rd\, Burlington\, 08016\, United States
CATEGORIES:CBC EVENTS
END:VEVENT
BEGIN:VEVENT
DTSTART;TZID=America/New_York:20270718T190000
DTEND;TZID=America/New_York:20270718T200000
DTSTAMP:20260423T192040
CREATED:20251013T165115Z
LAST-MODIFIED:20251013T165115Z
UID:10003114-1815937200-1815940800@cbcburlingtonnj.org
SUMMARY:Fuel for Courage
DESCRIPTION:Join Us Every Sunday at 7:00 p.m. You may participate on a “phone only” basis by calling 1 929 205 6099. Then\, when prompted\, enter the same I.D. number and access code listed above. \nZoom Meeting ID: 538 277 6972\nPasscode 160051
URL:https://cbcburlingtonnj.org/event/fuel-for-courage/2027-07-18/
LOCATION:Virtual
CATEGORIES:Bible Study
END:VEVENT
BEGIN:VEVENT
DTSTART;TZID=America/New_York:20270725T190000
DTEND;TZID=America/New_York:20270725T200000
DTSTAMP:20260423T192040
CREATED:20251013T165115Z
LAST-MODIFIED:20251013T165115Z
UID:10003115-1816542000-1816545600@cbcburlingtonnj.org
SUMMARY:Fuel for Courage
DESCRIPTION:Join Us Every Sunday at 7:00 p.m. You may participate on a “phone only” basis by calling 1 929 205 6099. Then\, when prompted\, enter the same I.D. number and access code listed above. \nZoom Meeting ID: 538 277 6972\nPasscode 160051
URL:https://cbcburlingtonnj.org/event/fuel-for-courage/2027-07-25/
LOCATION:Virtual
CATEGORIES:Bible Study
END:VEVENT
BEGIN:VEVENT
DTSTART;TZID=America/New_York:20270801T143000
DTEND;TZID=America/New_York:20270801T153000
DTSTAMP:20260423T192040
CREATED:20250610T155036Z
LAST-MODIFIED:20250610T160010Z
UID:10002900-1817130600-1817134200@cbcburlingtonnj.org
SUMMARY:Nursing Home Ministries (First Sunday)
DESCRIPTION:When: Complete Care @ Burlington Woods \nTime: 2:30 to 3:30 PM \n  \nWhen: Wynwood Rehab/HealthCare Ctr. \nTime: 2:00 to 3:00 PM.
URL:https://cbcburlingtonnj.org/event/nursing-home-ministries/2027-08-01/
LOCATION:Complete Care @ Burlington Woods\, 115 Sunset Rd\, Burlington\, 08016\, United States
CATEGORIES:CBC EVENTS
END:VEVENT
BEGIN:VEVENT
DTSTART;TZID=America/New_York:20270801T190000
DTEND;TZID=America/New_York:20270801T200000
DTSTAMP:20260423T192040
CREATED:20251013T165115Z
LAST-MODIFIED:20251013T165115Z
UID:10003116-1817146800-1817150400@cbcburlingtonnj.org
SUMMARY:Fuel for Courage
DESCRIPTION:Join Us Every Sunday at 7:00 p.m. You may participate on a “phone only” basis by calling 1 929 205 6099. Then\, when prompted\, enter the same I.D. number and access code listed above. \nZoom Meeting ID: 538 277 6972\nPasscode 160051
URL:https://cbcburlingtonnj.org/event/fuel-for-courage/2027-08-01/
LOCATION:Virtual
CATEGORIES:Bible Study
END:VEVENT
BEGIN:VEVENT
DTSTART;TZID=America/New_York:20270808T190000
DTEND;TZID=America/New_York:20270808T200000
DTSTAMP:20260423T192040
CREATED:20251013T165115Z
LAST-MODIFIED:20251013T165115Z
UID:10003117-1817751600-1817755200@cbcburlingtonnj.org
SUMMARY:Fuel for Courage
DESCRIPTION:Join Us Every Sunday at 7:00 p.m. You may participate on a “phone only” basis by calling 1 929 205 6099. Then\, when prompted\, enter the same I.D. number and access code listed above. \nZoom Meeting ID: 538 277 6972\nPasscode 160051
URL:https://cbcburlingtonnj.org/event/fuel-for-courage/2027-08-08/
LOCATION:Virtual
CATEGORIES:Bible Study
END:VEVENT
BEGIN:VEVENT
DTSTART;TZID=America/New_York:20270815T140000
DTEND;TZID=America/New_York:20270815T150000
DTSTAMP:20260423T192040
CREATED:20250610T155413Z
LAST-MODIFIED:20250724T155557Z
UID:10002967-1818338400-1818342000@cbcburlingtonnj.org
SUMMARY:Nursing Home Ministries (Third Sunday)
DESCRIPTION:When: Complete Care @ Marcella Nursing Home\nTime: 2:00 to 3:00 PM.
URL:https://cbcburlingtonnj.org/event/nursing-home-ministries-3/2027-08-15/
LOCATION:Complete Care @ Marcella Nursing Home\, 2305 Rancocas Rd\, Burlington\, 08016\, United States
CATEGORIES:CBC EVENTS
END:VEVENT
BEGIN:VEVENT
DTSTART;TZID=America/New_York:20270815T190000
DTEND;TZID=America/New_York:20270815T200000
DTSTAMP:20260423T192040
CREATED:20251013T165115Z
LAST-MODIFIED:20251013T165115Z
UID:10003118-1818356400-1818360000@cbcburlingtonnj.org
SUMMARY:Fuel for Courage
DESCRIPTION:Join Us Every Sunday at 7:00 p.m. You may participate on a “phone only” basis by calling 1 929 205 6099. Then\, when prompted\, enter the same I.D. number and access code listed above. \nZoom Meeting ID: 538 277 6972\nPasscode 160051
URL:https://cbcburlingtonnj.org/event/fuel-for-courage/2027-08-15/
LOCATION:Virtual
CATEGORIES:Bible Study
END:VEVENT
BEGIN:VEVENT
DTSTART;TZID=America/New_York:20270822T190000
DTEND;TZID=America/New_York:20270822T200000
DTSTAMP:20260423T192040
CREATED:20251013T165115Z
LAST-MODIFIED:20251013T165115Z
UID:10003119-1818961200-1818964800@cbcburlingtonnj.org
SUMMARY:Fuel for Courage
DESCRIPTION:Join Us Every Sunday at 7:00 p.m. You may participate on a “phone only” basis by calling 1 929 205 6099. Then\, when prompted\, enter the same I.D. number and access code listed above. \nZoom Meeting ID: 538 277 6972\nPasscode 160051
URL:https://cbcburlingtonnj.org/event/fuel-for-courage/2027-08-22/
LOCATION:Virtual
CATEGORIES:Bible Study
END:VEVENT
BEGIN:VEVENT
DTSTART;TZID=America/New_York:20270829T190000
DTEND;TZID=America/New_York:20270829T200000
DTSTAMP:20260423T192040
CREATED:20251013T165115Z
LAST-MODIFIED:20251013T165115Z
UID:10003120-1819566000-1819569600@cbcburlingtonnj.org
SUMMARY:Fuel for Courage
DESCRIPTION:Join Us Every Sunday at 7:00 p.m. You may participate on a “phone only” basis by calling 1 929 205 6099. Then\, when prompted\, enter the same I.D. number and access code listed above. \nZoom Meeting ID: 538 277 6972\nPasscode 160051
URL:https://cbcburlingtonnj.org/event/fuel-for-courage/2027-08-29/
LOCATION:Virtual
CATEGORIES:Bible Study
END:VEVENT
BEGIN:VEVENT
DTSTART;TZID=America/New_York:20270905T143000
DTEND;TZID=America/New_York:20270905T153000
DTSTAMP:20260423T192040
CREATED:20250610T155036Z
LAST-MODIFIED:20250610T160010Z
UID:10002901-1820154600-1820158200@cbcburlingtonnj.org
SUMMARY:Nursing Home Ministries (First Sunday)
DESCRIPTION:When: Complete Care @ Burlington Woods \nTime: 2:30 to 3:30 PM \n  \nWhen: Wynwood Rehab/HealthCare Ctr. \nTime: 2:00 to 3:00 PM.
URL:https://cbcburlingtonnj.org/event/nursing-home-ministries/2027-09-05/
LOCATION:Complete Care @ Burlington Woods\, 115 Sunset Rd\, Burlington\, 08016\, United States
CATEGORIES:CBC EVENTS
END:VEVENT
BEGIN:VEVENT
DTSTART;TZID=America/New_York:20270905T190000
DTEND;TZID=America/New_York:20270905T200000
DTSTAMP:20260423T192040
CREATED:20251013T165115Z
LAST-MODIFIED:20251013T165115Z
UID:10003121-1820170800-1820174400@cbcburlingtonnj.org
SUMMARY:Fuel for Courage
DESCRIPTION:Join Us Every Sunday at 7:00 p.m. You may participate on a “phone only” basis by calling 1 929 205 6099. Then\, when prompted\, enter the same I.D. number and access code listed above. \nZoom Meeting ID: 538 277 6972\nPasscode 160051
URL:https://cbcburlingtonnj.org/event/fuel-for-courage/2027-09-05/
LOCATION:Virtual
CATEGORIES:Bible Study
END:VEVENT
BEGIN:VEVENT
DTSTART;TZID=America/New_York:20270912T190000
DTEND;TZID=America/New_York:20270912T200000
DTSTAMP:20260423T192040
CREATED:20251013T165115Z
LAST-MODIFIED:20251013T165115Z
UID:10003122-1820775600-1820779200@cbcburlingtonnj.org
SUMMARY:Fuel for Courage
DESCRIPTION:Join Us Every Sunday at 7:00 p.m. You may participate on a “phone only” basis by calling 1 929 205 6099. Then\, when prompted\, enter the same I.D. number and access code listed above. \nZoom Meeting ID: 538 277 6972\nPasscode 160051
URL:https://cbcburlingtonnj.org/event/fuel-for-courage/2027-09-12/
LOCATION:Virtual
CATEGORIES:Bible Study
END:VEVENT
BEGIN:VEVENT
DTSTART;TZID=America/New_York:20270919T140000
DTEND;TZID=America/New_York:20270919T150000
DTSTAMP:20260423T192040
CREATED:20250610T155413Z
LAST-MODIFIED:20250724T155557Z
UID:10002968-1821362400-1821366000@cbcburlingtonnj.org
SUMMARY:Nursing Home Ministries (Third Sunday)
DESCRIPTION:When: Complete Care @ Marcella Nursing Home\nTime: 2:00 to 3:00 PM.
URL:https://cbcburlingtonnj.org/event/nursing-home-ministries-3/2027-09-19/
LOCATION:Complete Care @ Marcella Nursing Home\, 2305 Rancocas Rd\, Burlington\, 08016\, United States
CATEGORIES:CBC EVENTS
END:VEVENT
END:VCALENDAR