BEGIN:VCALENDAR
VERSION:2.0
PRODID:-//Christ Baptist Church - Burlington, NJ - ECPv6.15.20//NONSGML v1.0//EN
CALSCALE:GREGORIAN
METHOD:PUBLISH
X-WR-CALNAME:Christ Baptist Church - Burlington, NJ
X-ORIGINAL-URL:https://cbcburlingtonnj.org
X-WR-CALDESC:Events for Christ Baptist Church - Burlington, NJ
REFRESH-INTERVAL;VALUE=DURATION:PT1H
X-Robots-Tag:noindex
X-PUBLISHED-TTL:PT1H
BEGIN:VTIMEZONE
TZID:America/New_York
BEGIN:DAYLIGHT
TZOFFSETFROM:-0500
TZOFFSETTO:-0400
TZNAME:EDT
DTSTART:20230312T070000
END:DAYLIGHT
BEGIN:STANDARD
TZOFFSETFROM:-0400
TZOFFSETTO:-0500
TZNAME:EST
DTSTART:20231105T060000
END:STANDARD
BEGIN:DAYLIGHT
TZOFFSETFROM:-0500
TZOFFSETTO:-0400
TZNAME:EDT
DTSTART:20240310T070000
END:DAYLIGHT
BEGIN:STANDARD
TZOFFSETFROM:-0400
TZOFFSETTO:-0500
TZNAME:EST
DTSTART:20241103T060000
END:STANDARD
BEGIN:DAYLIGHT
TZOFFSETFROM:-0500
TZOFFSETTO:-0400
TZNAME:EDT
DTSTART:20250309T070000
END:DAYLIGHT
BEGIN:STANDARD
TZOFFSETFROM:-0400
TZOFFSETTO:-0500
TZNAME:EST
DTSTART:20251102T060000
END:STANDARD
BEGIN:DAYLIGHT
TZOFFSETFROM:-0500
TZOFFSETTO:-0400
TZNAME:EDT
DTSTART:20260308T070000
END:DAYLIGHT
BEGIN:STANDARD
TZOFFSETFROM:-0400
TZOFFSETTO:-0500
TZNAME:EST
DTSTART:20261101T060000
END:STANDARD
END:VTIMEZONE
BEGIN:VEVENT
DTSTART;TZID=America/New_York:20240723T190000
DTEND;TZID=America/New_York:20240723T200000
DTSTAMP:20260425T160234
CREATED:20240225T015850Z
LAST-MODIFIED:20240412T230404Z
UID:10001794-1721761200-1721764800@cbcburlingtonnj.org
SUMMARY:Bible Study
DESCRIPTION:
URL:https://cbcburlingtonnj.org/event/bible-study-22/
LOCATION:NJ
CATEGORIES:CBC EVENTS
ATTACH;FMTTYPE=image/jpeg:https://cbcburlingtonnj.org/wp-content/uploads/2023/12/293-_DSF2970.jpg
END:VEVENT
BEGIN:VEVENT
DTSTART;TZID=America/New_York:20240730T190000
DTEND;TZID=America/New_York:20240730T200000
DTSTAMP:20260425T160234
CREATED:20240225T015850Z
LAST-MODIFIED:20240412T230346Z
UID:10001795-1722366000-1722369600@cbcburlingtonnj.org
SUMMARY:Bible Study
DESCRIPTION:
URL:https://cbcburlingtonnj.org/event/bible-study-23/
LOCATION:NJ
CATEGORIES:CBC EVENTS
ATTACH;FMTTYPE=image/jpeg:https://cbcburlingtonnj.org/wp-content/uploads/2023/12/293-_DSF2970-1.jpg
END:VEVENT
BEGIN:VEVENT
DTSTART;TZID=America/New_York:20240806T190000
DTEND;TZID=America/New_York:20240806T200000
DTSTAMP:20260425T160234
CREATED:20240225T015850Z
LAST-MODIFIED:20240225T015850Z
UID:10001796-1722970800-1722974400@cbcburlingtonnj.org
SUMMARY:Bible Study
DESCRIPTION:
URL:https://cbcburlingtonnj.org/event/bible-study-24/
LOCATION:NJ
CATEGORIES:CBC EVENTS
END:VEVENT
BEGIN:VEVENT
DTSTART;TZID=America/New_York:20240813T190000
DTEND;TZID=America/New_York:20240813T200000
DTSTAMP:20260425T160234
CREATED:20240225T015850Z
LAST-MODIFIED:20240225T015850Z
UID:10001797-1723575600-1723579200@cbcburlingtonnj.org
SUMMARY:Bible Study
DESCRIPTION:
URL:https://cbcburlingtonnj.org/event/bible-study-25/
LOCATION:NJ
CATEGORIES:CBC EVENTS
END:VEVENT
BEGIN:VEVENT
DTSTART;VALUE=DATE:20240817
DTEND;VALUE=DATE:20240818
DTSTAMP:20260425T160234
CREATED:20240225T015850Z
LAST-MODIFIED:20240713T165842Z
UID:10001798-1723852800-1723939199@cbcburlingtonnj.org
SUMMARY:Church cookout
DESCRIPTION:
URL:https://cbcburlingtonnj.org/event/church-cookout/
LOCATION:Christ Baptist Church Burlington NJ\, 950 Jacksonville Road\, Burlington\, NJ\, 08016\, United States
CATEGORIES:CBC EVENTS
ATTACH;FMTTYPE=image/jpeg:https://cbcburlingtonnj.org/wp-content/uploads/2024/02/CBC-Thumbnail-Cookout.jpg
END:VEVENT
BEGIN:VEVENT
DTSTART;TZID=America/New_York:20240820T190000
DTEND;TZID=America/New_York:20240820T200000
DTSTAMP:20260425T160234
CREATED:20240225T015851Z
LAST-MODIFIED:20240225T015851Z
UID:10001799-1724180400-1724184000@cbcburlingtonnj.org
SUMMARY:Bible Study
DESCRIPTION:
URL:https://cbcburlingtonnj.org/event/bible-study-26/
LOCATION:NJ
CATEGORIES:CBC EVENTS
END:VEVENT
BEGIN:VEVENT
DTSTART;TZID=America/New_York:20240827T190000
DTEND;TZID=America/New_York:20240827T200000
DTSTAMP:20260425T160234
CREATED:20240225T015851Z
LAST-MODIFIED:20240225T015851Z
UID:10001800-1724785200-1724788800@cbcburlingtonnj.org
SUMMARY:Bible Study
DESCRIPTION:
URL:https://cbcburlingtonnj.org/event/bible-study-27/
LOCATION:NJ
CATEGORIES:CBC EVENTS
END:VEVENT
BEGIN:VEVENT
DTSTART;VALUE=DATE:20240902
DTEND;VALUE=DATE:20240903
DTSTAMP:20260425T160234
CREATED:20240225T015851Z
LAST-MODIFIED:20240225T015851Z
UID:10001801-1725235200-1725321599@cbcburlingtonnj.org
SUMMARY:LABOR DAY
DESCRIPTION:
URL:https://cbcburlingtonnj.org/event/labor-day/
LOCATION:NJ
CATEGORIES:CBC EVENTS
END:VEVENT
BEGIN:VEVENT
DTSTART;TZID=America/New_York:20240903T190000
DTEND;TZID=America/New_York:20240903T200000
DTSTAMP:20260425T160234
CREATED:20240225T015902Z
LAST-MODIFIED:20240225T015902Z
UID:10001802-1725390000-1725393600@cbcburlingtonnj.org
SUMMARY:Bible Study
DESCRIPTION:
URL:https://cbcburlingtonnj.org/event/bible-study-28/
LOCATION:NJ
CATEGORIES:CBC EVENTS
END:VEVENT
BEGIN:VEVENT
DTSTART;VALUE=DATE:20240907
DTEND;VALUE=DATE:20240908
DTSTAMP:20260425T160234
CREATED:20240225T015902Z
LAST-MODIFIED:20240804T135711Z
UID:10001803-1725667200-1725753599@cbcburlingtonnj.org
SUMMARY:5K WALK RUN
DESCRIPTION:Register today. We look forward to running/walking with you next month! \n 
URL:https://cbcburlingtonnj.org/event/5k-walk-run/
LOCATION:Christ Baptist Church Burlington NJ\, 950 Jacksonville Road\, Burlington\, NJ\, 08016\, United States
CATEGORIES:CBC EVENTS
ATTACH;FMTTYPE=image/jpeg:https://cbcburlingtonnj.org/wp-content/uploads/2024/07/5k-flyer.-2024.jpg
END:VEVENT
BEGIN:VEVENT
DTSTART;TZID=America/New_York:20240910T190000
DTEND;TZID=America/New_York:20240910T200000
DTSTAMP:20260425T160234
CREATED:20240225T015902Z
LAST-MODIFIED:20240225T015902Z
UID:10001804-1725994800-1725998400@cbcburlingtonnj.org
SUMMARY:Bible Study
DESCRIPTION:
URL:https://cbcburlingtonnj.org/event/bible-study-29/
LOCATION:NJ
CATEGORIES:CBC EVENTS
END:VEVENT
BEGIN:VEVENT
DTSTART;TZID=America/New_York:20240917T190000
DTEND;TZID=America/New_York:20240917T200000
DTSTAMP:20260425T160234
CREATED:20240225T015902Z
LAST-MODIFIED:20240225T015902Z
UID:10001805-1726599600-1726603200@cbcburlingtonnj.org
SUMMARY:Bible Study
DESCRIPTION:
URL:https://cbcburlingtonnj.org/event/bible-study-30/
LOCATION:NJ
CATEGORIES:CBC EVENTS
END:VEVENT
BEGIN:VEVENT
DTSTART;TZID=America/New_York:20240924T190000
DTEND;TZID=America/New_York:20240924T200000
DTSTAMP:20260425T160234
CREATED:20240225T015902Z
LAST-MODIFIED:20240225T015902Z
UID:10001807-1727204400-1727208000@cbcburlingtonnj.org
SUMMARY:Bible Study
DESCRIPTION:
URL:https://cbcburlingtonnj.org/event/bible-study-31/
LOCATION:NJ
CATEGORIES:CBC EVENTS
END:VEVENT
BEGIN:VEVENT
DTSTART;TZID=America/New_York:20241001T190000
DTEND;TZID=America/New_York:20241001T200000
DTSTAMP:20260425T160234
CREATED:20240225T015902Z
LAST-MODIFIED:20240225T015902Z
UID:10001808-1727809200-1727812800@cbcburlingtonnj.org
SUMMARY:Bible Study
DESCRIPTION:
URL:https://cbcburlingtonnj.org/event/bible-study-32/
LOCATION:NJ
CATEGORIES:CBC EVENTS
END:VEVENT
BEGIN:VEVENT
DTSTART;TZID=America/New_York:20241008T190000
DTEND;TZID=America/New_York:20241008T200000
DTSTAMP:20260425T160234
CREATED:20240225T015902Z
LAST-MODIFIED:20240225T015902Z
UID:10001809-1728414000-1728417600@cbcburlingtonnj.org
SUMMARY:Bible Study
DESCRIPTION:
URL:https://cbcburlingtonnj.org/event/bible-study-33/
LOCATION:NJ
CATEGORIES:CBC EVENTS
END:VEVENT
BEGIN:VEVENT
DTSTART;TZID=America/New_York:20241015T190000
DTEND;TZID=America/New_York:20241015T200000
DTSTAMP:20260425T160234
CREATED:20240225T015903Z
LAST-MODIFIED:20240225T015903Z
UID:10001810-1729018800-1729022400@cbcburlingtonnj.org
SUMMARY:Bible Study
DESCRIPTION:
URL:https://cbcburlingtonnj.org/event/bible-study-34/
LOCATION:NJ
CATEGORIES:CBC EVENTS
END:VEVENT
BEGIN:VEVENT
DTSTART;TZID=America/New_York:20241022T190000
DTEND;TZID=America/New_York:20241022T200000
DTSTAMP:20260425T160234
CREATED:20240225T015903Z
LAST-MODIFIED:20240225T015903Z
UID:10001811-1729623600-1729627200@cbcburlingtonnj.org
SUMMARY:Bible Study
DESCRIPTION:
URL:https://cbcburlingtonnj.org/event/bible-study-35/
LOCATION:NJ
CATEGORIES:CBC EVENTS
END:VEVENT
BEGIN:VEVENT
DTSTART;VALUE=DATE:20241027
DTEND;VALUE=DATE:20241028
DTSTAMP:20260425T160234
CREATED:20240225T015914Z
LAST-MODIFIED:20241027T152427Z
UID:10001812-1729987200-1730073599@cbcburlingtonnj.org
SUMMARY:Youth Sunday
DESCRIPTION:
URL:https://cbcburlingtonnj.org/event/youth-day/
LOCATION:NJ
CATEGORIES:CBC EVENTS
ATTACH;FMTTYPE=image/jpeg:https://cbcburlingtonnj.org/wp-content/uploads/2024/02/youth_.jpg
END:VEVENT
BEGIN:VEVENT
DTSTART;TZID=America/New_York:20241029T190000
DTEND;TZID=America/New_York:20241029T200000
DTSTAMP:20260425T160234
CREATED:20240225T015914Z
LAST-MODIFIED:20240225T015914Z
UID:10001813-1730228400-1730232000@cbcburlingtonnj.org
SUMMARY:Bible Study
DESCRIPTION:
URL:https://cbcburlingtonnj.org/event/bible-study-36/
LOCATION:NJ
CATEGORIES:CBC EVENTS
END:VEVENT
BEGIN:VEVENT
DTSTART;TZID=America/New_York:20241105T190000
DTEND;TZID=America/New_York:20241105T200000
DTSTAMP:20260425T160234
CREATED:20240225T015914Z
LAST-MODIFIED:20240225T015914Z
UID:10001814-1730833200-1730836800@cbcburlingtonnj.org
SUMMARY:Bible Study
DESCRIPTION:
URL:https://cbcburlingtonnj.org/event/bible-study-37/
LOCATION:NJ
CATEGORIES:CBC EVENTS
END:VEVENT
BEGIN:VEVENT
DTSTART;TZID=America/New_York:20241112T190000
DTEND;TZID=America/New_York:20241112T200000
DTSTAMP:20260425T160234
CREATED:20240225T015914Z
LAST-MODIFIED:20240225T015914Z
UID:10001815-1731438000-1731441600@cbcburlingtonnj.org
SUMMARY:Bible Study
DESCRIPTION:
URL:https://cbcburlingtonnj.org/event/bible-study-38/
LOCATION:NJ
CATEGORIES:CBC EVENTS
END:VEVENT
BEGIN:VEVENT
DTSTART;TZID=America/New_York:20241119T190000
DTEND;TZID=America/New_York:20241119T200000
DTSTAMP:20260425T160234
CREATED:20240225T015914Z
LAST-MODIFIED:20240225T015914Z
UID:10001816-1732042800-1732046400@cbcburlingtonnj.org
SUMMARY:Bible Study
DESCRIPTION:
URL:https://cbcburlingtonnj.org/event/bible-study-39/
LOCATION:NJ
CATEGORIES:CBC EVENTS
END:VEVENT
BEGIN:VEVENT
DTSTART;TZID=America/New_York:20241126T190000
DTEND;TZID=America/New_York:20241126T200000
DTSTAMP:20260425T160234
CREATED:20240225T015914Z
LAST-MODIFIED:20240225T015914Z
UID:10001817-1732647600-1732651200@cbcburlingtonnj.org
SUMMARY:Bible Study
DESCRIPTION:
URL:https://cbcburlingtonnj.org/event/bible-study-40/
LOCATION:NJ
CATEGORIES:CBC EVENTS
END:VEVENT
BEGIN:VEVENT
DTSTART;TZID=America/New_York:20241203T190000
DTEND;TZID=America/New_York:20241203T200000
DTSTAMP:20260425T160234
CREATED:20240225T015914Z
LAST-MODIFIED:20240225T015914Z
UID:10001818-1733252400-1733256000@cbcburlingtonnj.org
SUMMARY:Bible Study
DESCRIPTION:
URL:https://cbcburlingtonnj.org/event/bible-study-41/
LOCATION:NJ
CATEGORIES:CBC EVENTS
END:VEVENT
BEGIN:VEVENT
DTSTART;TZID=America/New_York:20241210T190000
DTEND;TZID=America/New_York:20241210T200000
DTSTAMP:20260425T160234
CREATED:20240225T015914Z
LAST-MODIFIED:20240225T015914Z
UID:10001819-1733857200-1733860800@cbcburlingtonnj.org
SUMMARY:Bible Study
DESCRIPTION:
URL:https://cbcburlingtonnj.org/event/bible-study-42/
LOCATION:NJ
CATEGORIES:CBC EVENTS
END:VEVENT
BEGIN:VEVENT
DTSTART;TZID=America/New_York:20241217T190000
DTEND;TZID=America/New_York:20241217T200000
DTSTAMP:20260425T160234
CREATED:20240225T015914Z
LAST-MODIFIED:20240225T015914Z
UID:10001820-1734462000-1734465600@cbcburlingtonnj.org
SUMMARY:Bible Study
DESCRIPTION:
URL:https://cbcburlingtonnj.org/event/bible-study-43/
LOCATION:NJ
CATEGORIES:CBC EVENTS
END:VEVENT
BEGIN:VEVENT
DTSTART;TZID=America/New_York:20241224T190000
DTEND;TZID=America/New_York:20241224T200000
DTSTAMP:20260425T160234
CREATED:20240225T015915Z
LAST-MODIFIED:20240225T015915Z
UID:10001821-1735066800-1735070400@cbcburlingtonnj.org
SUMMARY:Bible Study
DESCRIPTION:
URL:https://cbcburlingtonnj.org/event/bible-study-44/
LOCATION:NJ
CATEGORIES:CBC EVENTS
END:VEVENT
BEGIN:VEVENT
DTSTART;TZID=America/New_York:20241231T190000
DTEND;TZID=America/New_York:20241231T200000
DTSTAMP:20260425T160234
CREATED:20240225T015926Z
LAST-MODIFIED:20240225T015926Z
UID:10001822-1735671600-1735675200@cbcburlingtonnj.org
SUMMARY:Bible Study
DESCRIPTION:
URL:https://cbcburlingtonnj.org/event/bible-study-45/
LOCATION:NJ
CATEGORIES:CBC EVENTS
END:VEVENT
BEGIN:VEVENT
DTSTART;TZID=America/New_York:20250107T190000
DTEND;TZID=America/New_York:20250107T200000
DTSTAMP:20260425T160234
CREATED:20240225T015926Z
LAST-MODIFIED:20240225T015926Z
UID:10001823-1736276400-1736280000@cbcburlingtonnj.org
SUMMARY:Bible Study
DESCRIPTION:
URL:https://cbcburlingtonnj.org/event/bible-study-46/
LOCATION:NJ
CATEGORIES:CBC EVENTS
END:VEVENT
BEGIN:VEVENT
DTSTART;TZID=America/New_York:20250114T190000
DTEND;TZID=America/New_York:20250114T200000
DTSTAMP:20260425T160234
CREATED:20240225T015926Z
LAST-MODIFIED:20240225T015926Z
UID:10001824-1736881200-1736884800@cbcburlingtonnj.org
SUMMARY:Bible Study
DESCRIPTION:
URL:https://cbcburlingtonnj.org/event/bible-study-47/
LOCATION:NJ
CATEGORIES:CBC EVENTS
END:VEVENT
END:VCALENDAR