BEGIN:VCALENDAR
VERSION:2.0
PRODID:-//Christ Baptist Church - Burlington, NJ - ECPv6.15.20//NONSGML v1.0//EN
CALSCALE:GREGORIAN
METHOD:PUBLISH
X-WR-CALNAME:Christ Baptist Church - Burlington, NJ
X-ORIGINAL-URL:https://cbcburlingtonnj.org
X-WR-CALDESC:Events for Christ Baptist Church - Burlington, NJ
REFRESH-INTERVAL;VALUE=DURATION:PT1H
X-Robots-Tag:noindex
X-PUBLISHED-TTL:PT1H
BEGIN:VTIMEZONE
TZID:America/New_York
BEGIN:DAYLIGHT
TZOFFSETFROM:-0500
TZOFFSETTO:-0400
TZNAME:EDT
DTSTART:20230312T070000
END:DAYLIGHT
BEGIN:STANDARD
TZOFFSETFROM:-0400
TZOFFSETTO:-0500
TZNAME:EST
DTSTART:20231105T060000
END:STANDARD
BEGIN:DAYLIGHT
TZOFFSETFROM:-0500
TZOFFSETTO:-0400
TZNAME:EDT
DTSTART:20240310T070000
END:DAYLIGHT
BEGIN:STANDARD
TZOFFSETFROM:-0400
TZOFFSETTO:-0500
TZNAME:EST
DTSTART:20241103T060000
END:STANDARD
BEGIN:DAYLIGHT
TZOFFSETFROM:-0500
TZOFFSETTO:-0400
TZNAME:EDT
DTSTART:20250309T070000
END:DAYLIGHT
BEGIN:STANDARD
TZOFFSETFROM:-0400
TZOFFSETTO:-0500
TZNAME:EST
DTSTART:20251102T060000
END:STANDARD
END:VTIMEZONE
BEGIN:VEVENT
DTSTART;TZID=America/New_York:20240507T190000
DTEND;TZID=America/New_York:20240507T200000
DTSTAMP:20260425T181925
CREATED:20240225T015803Z
LAST-MODIFIED:20240412T225211Z
UID:10001759-1715108400-1715112000@cbcburlingtonnj.org
SUMMARY:Bible Study
DESCRIPTION:
URL:https://cbcburlingtonnj.org/event/bible-study-11/
LOCATION:NJ
CATEGORIES:CBC EVENTS
ATTACH;FMTTYPE=image/jpeg:https://cbcburlingtonnj.org/wp-content/uploads/2023/12/293-_DSF2970-1.jpg
END:VEVENT
BEGIN:VEVENT
DTSTART;TZID=America/New_York:20240508T190000
DTEND;TZID=America/New_York:20240508T200000
DTSTAMP:20260425T181925
CREATED:20240225T015803Z
LAST-MODIFIED:20240412T225232Z
UID:10001760-1715194800-1715198400@cbcburlingtonnj.org
SUMMARY:Conf. Call/Prayer Service
DESCRIPTION:
URL:https://cbcburlingtonnj.org/event/conf-call-prayer-service-11/
LOCATION:NJ
CATEGORIES:CBC EVENTS
ATTACH;FMTTYPE=image/jpeg:https://cbcburlingtonnj.org/wp-content/uploads/2023/12/293-_DSF2970-1.jpg
END:VEVENT
BEGIN:VEVENT
DTSTART;TZID=America/New_York:20240510T110000
DTEND;TZID=America/New_York:20240510T120000
DTSTAMP:20260425T181925
CREATED:20240308T195441Z
LAST-MODIFIED:20240412T185921Z
UID:10001898-1715338800-1715342400@cbcburlingtonnj.org
SUMMARY:Srs. Fellowship
DESCRIPTION:
URL:https://cbcburlingtonnj.org/event/srs-fellowship/
LOCATION:NJ
CATEGORIES:CBC EVENTS
ATTACH;FMTTYPE=image/jpeg:https://cbcburlingtonnj.org/wp-content/uploads/2024/02/vacation-staycation-Africa11-x-17.jpg
END:VEVENT
BEGIN:VEVENT
DTSTART;TZID=America/New_York:20240511T073000
DTEND;TZID=America/New_York:20240511T083000
DTSTAMP:20260425T181925
CREATED:20240308T195441Z
LAST-MODIFIED:20240412T225306Z
UID:10001899-1715412600-1715416200@cbcburlingtonnj.org
SUMMARY:Men’s Fellowship
DESCRIPTION:
URL:https://cbcburlingtonnj.org/event/mens-fellowship-2/
LOCATION:NJ
CATEGORIES:CBC EVENTS
ATTACH;FMTTYPE=image/jpeg:https://cbcburlingtonnj.org/wp-content/uploads/2023/12/293-_DSF2970-1.jpg
END:VEVENT
END:VCALENDAR