BEGIN:VCALENDAR
VERSION:2.0
PRODID:-//Christ Baptist Church - Burlington, NJ - ECPv6.15.20//NONSGML v1.0//EN
CALSCALE:GREGORIAN
METHOD:PUBLISH
X-ORIGINAL-URL:https://cbcburlingtonnj.org
X-WR-CALDESC:Events for Christ Baptist Church - Burlington, NJ
REFRESH-INTERVAL;VALUE=DURATION:PT1H
X-Robots-Tag:noindex
X-PUBLISHED-TTL:PT1H
BEGIN:VTIMEZONE
TZID:America/New_York
BEGIN:DAYLIGHT
TZOFFSETFROM:-0500
TZOFFSETTO:-0400
TZNAME:EDT
DTSTART:20240310T070000
END:DAYLIGHT
BEGIN:STANDARD
TZOFFSETFROM:-0400
TZOFFSETTO:-0500
TZNAME:EST
DTSTART:20241103T060000
END:STANDARD
BEGIN:DAYLIGHT
TZOFFSETFROM:-0500
TZOFFSETTO:-0400
TZNAME:EDT
DTSTART:20250309T070000
END:DAYLIGHT
BEGIN:STANDARD
TZOFFSETFROM:-0400
TZOFFSETTO:-0500
TZNAME:EST
DTSTART:20251102T060000
END:STANDARD
BEGIN:DAYLIGHT
TZOFFSETFROM:-0500
TZOFFSETTO:-0400
TZNAME:EDT
DTSTART:20260308T070000
END:DAYLIGHT
BEGIN:STANDARD
TZOFFSETFROM:-0400
TZOFFSETTO:-0500
TZNAME:EST
DTSTART:20261101T060000
END:STANDARD
END:VTIMEZONE
BEGIN:VEVENT
DTSTART;TZID=America/New_York:20250902T190000
DTEND;TZID=America/New_York:20250902T200000
DTSTAMP:20260424T020211
CREATED:20240225T020002Z
LAST-MODIFIED:20240225T020002Z
UID:10001857-1756839600-1756843200@cbcburlingtonnj.org
SUMMARY:Bible Study
DESCRIPTION:
URL:https://cbcburlingtonnj.org/event/bible-study-80/
LOCATION:NJ
CATEGORIES:CBC EVENTS
END:VEVENT
BEGIN:VEVENT
DTSTART;TZID=America/New_York:20250905T170000
DTEND;TZID=America/New_York:20250905T203000
DTSTAMP:20260424T020211
CREATED:20250722T160058Z
LAST-MODIFIED:20250722T173223Z
UID:10002941-1757091600-1757104200@cbcburlingtonnj.org
SUMMARY:Seniors Saints Ministry's All-White Affair
DESCRIPTION:The Seniors Saints Ministry of CBC Presents “A Transfiguration: A Change has Come Over Me”. Step into a divine moment of transformation and celebration as we honor the faith\, wisdom\, and beauty of our senior members. This is an Elegant Outdoor All-White Affair that will take place on Friday\, September 5\, at 5:00 p.m. The evening will include fellowship\, a meal\, valet parking\, and door prizes\, as we enjoy the sounds of our special guest CHARISA THE VIOLIN DIVA. \nOur invitations will be ready shortly\, and you must RSVP by August 22 or call the church office to reserve your spot. We also need volunteer greeters\, valet parkers\, chauffeurs\, and servers. See Deaconess Ramona Davis or Deaconess Ruth Belford if you would like to volunteer. They will be in the upper room after service.
URL:https://cbcburlingtonnj.org/event/seniors-saints-ministrys-all-white-affair/
LOCATION:Christ Baptist Church Burlington NJ\, 950 Jacksonville Road\, Burlington\, NJ\, 08016\, United States
CATEGORIES:CBC EVENTS
ATTACH;FMTTYPE=image/png:https://cbcburlingtonnj.org/wp-content/uploads/2025/07/All-White-Affair-5-1.png
END:VEVENT
END:VCALENDAR