BEGIN:VCALENDAR
VERSION:2.0
PRODID:-//Christ Baptist Church - Burlington, NJ - ECPv6.15.20//NONSGML v1.0//EN
CALSCALE:GREGORIAN
METHOD:PUBLISH
X-WR-CALNAME:Christ Baptist Church - Burlington, NJ
X-ORIGINAL-URL:https://cbcburlingtonnj.org
X-WR-CALDESC:Events for Christ Baptist Church - Burlington, NJ
REFRESH-INTERVAL;VALUE=DURATION:PT1H
X-Robots-Tag:noindex
X-PUBLISHED-TTL:PT1H
BEGIN:VTIMEZONE
TZID:America/New_York
BEGIN:DAYLIGHT
TZOFFSETFROM:-0500
TZOFFSETTO:-0400
TZNAME:EDT
DTSTART:20240310T070000
END:DAYLIGHT
BEGIN:STANDARD
TZOFFSETFROM:-0400
TZOFFSETTO:-0500
TZNAME:EST
DTSTART:20241103T060000
END:STANDARD
BEGIN:DAYLIGHT
TZOFFSETFROM:-0500
TZOFFSETTO:-0400
TZNAME:EDT
DTSTART:20250309T070000
END:DAYLIGHT
BEGIN:STANDARD
TZOFFSETFROM:-0400
TZOFFSETTO:-0500
TZNAME:EST
DTSTART:20251102T060000
END:STANDARD
BEGIN:DAYLIGHT
TZOFFSETFROM:-0500
TZOFFSETTO:-0400
TZNAME:EDT
DTSTART:20260308T070000
END:DAYLIGHT
BEGIN:STANDARD
TZOFFSETFROM:-0400
TZOFFSETTO:-0500
TZNAME:EST
DTSTART:20261101T060000
END:STANDARD
END:VTIMEZONE
BEGIN:VEVENT
DTSTART;TZID=America/New_York:20250916T190000
DTEND;TZID=America/New_York:20250916T200000
DTSTAMP:20260424T015936
CREATED:20240225T020002Z
LAST-MODIFIED:20240225T020002Z
UID:10001859-1758049200-1758052800@cbcburlingtonnj.org
SUMMARY:Bible Study
DESCRIPTION:
URL:https://cbcburlingtonnj.org/event/bible-study-82/
LOCATION:NJ
CATEGORIES:CBC EVENTS
END:VEVENT
BEGIN:VEVENT
DTSTART;TZID=America/New_York:20250920T090000
DTEND;TZID=America/New_York:20250920T133000
DTSTAMP:20260424T015936
CREATED:20250630T161651Z
LAST-MODIFIED:20250905T145546Z
UID:10002940-1758358800-1758375000@cbcburlingtonnj.org
SUMMARY:Health & Wellness Fair
DESCRIPTION:CBC’s Health Care Ministry is sponsoring a Health & Wellness Fair. There will be Diabetic Screenings\, Healthcare Exhibitors\, community partners\, and wellness facilitators. The Deaconess Ministry will also be giving away new & gently used clothing.  \nSee Sister Bert Walker or call the Church Office at 609-387-1234 for questions or details.   \nHealth Screening \n\nDiabetic (Required 4-hour fasting blood sugar)\nBlood pressure\nAsthma\nRespiratory\nVision\n\nHealth Demonstrations \nMedical Mobile Services \n\nVirtua Pediatric Mobile\nJefferson Mamogram Mobile\n\nFun activities for Children (Face painting\, games\, puppet show)
URL:https://cbcburlingtonnj.org/event/health-wellness-fair/
LOCATION:Christ Baptist Church Burlington NJ\, 950 Jacksonville Road\, Burlington\, NJ\, 08016\, United States
CATEGORIES:CBC EVENTS
END:VEVENT
END:VCALENDAR