BEGIN:VCALENDAR
VERSION:2.0
PRODID:-//Christ Baptist Church - Burlington, NJ - ECPv6.15.20//NONSGML v1.0//EN
CALSCALE:GREGORIAN
METHOD:PUBLISH
X-WR-CALNAME:Christ Baptist Church - Burlington, NJ
X-ORIGINAL-URL:https://cbcburlingtonnj.org
X-WR-CALDESC:Events for Christ Baptist Church - Burlington, NJ
REFRESH-INTERVAL;VALUE=DURATION:PT1H
X-Robots-Tag:noindex
X-PUBLISHED-TTL:PT1H
BEGIN:VTIMEZONE
TZID:America/New_York
BEGIN:DAYLIGHT
TZOFFSETFROM:-0500
TZOFFSETTO:-0400
TZNAME:EDT
DTSTART:20250309T070000
END:DAYLIGHT
BEGIN:STANDARD
TZOFFSETFROM:-0400
TZOFFSETTO:-0500
TZNAME:EST
DTSTART:20251102T060000
END:STANDARD
BEGIN:DAYLIGHT
TZOFFSETFROM:-0500
TZOFFSETTO:-0400
TZNAME:EDT
DTSTART:20260308T070000
END:DAYLIGHT
BEGIN:STANDARD
TZOFFSETFROM:-0400
TZOFFSETTO:-0500
TZNAME:EST
DTSTART:20261101T060000
END:STANDARD
BEGIN:DAYLIGHT
TZOFFSETFROM:-0500
TZOFFSETTO:-0400
TZNAME:EDT
DTSTART:20270314T070000
END:DAYLIGHT
BEGIN:STANDARD
TZOFFSETFROM:-0400
TZOFFSETTO:-0500
TZNAME:EST
DTSTART:20271107T060000
END:STANDARD
END:VTIMEZONE
BEGIN:VEVENT
DTSTART;TZID=America/New_York:20260201T100000
DTEND;TZID=America/New_York:20260201T113000
DTSTAMP:20260423T162916
CREATED:20250610T153100Z
LAST-MODIFIED:20250910T152602Z
UID:10001968-1769940000-1769945400@cbcburlingtonnj.org
SUMMARY:10 AM Sunday Service
DESCRIPTION:
URL:https://cbcburlingtonnj.org/event/10-am-sunday-service/2026-02-01/
LOCATION:Christ Baptist Church Burlington NJ\, 950 Jacksonville Road\, Burlington\, NJ\, 08016\, United States
CATEGORIES:Sunday Service
END:VEVENT
BEGIN:VEVENT
DTSTART;TZID=America/New_York:20260208T100000
DTEND;TZID=America/New_York:20260208T113000
DTSTAMP:20260423T162916
CREATED:20250610T153100Z
LAST-MODIFIED:20250910T152602Z
UID:10001969-1770544800-1770550200@cbcburlingtonnj.org
SUMMARY:10 AM Sunday Service
DESCRIPTION:
URL:https://cbcburlingtonnj.org/event/10-am-sunday-service/2026-02-08/
LOCATION:Christ Baptist Church Burlington NJ\, 950 Jacksonville Road\, Burlington\, NJ\, 08016\, United States
CATEGORIES:Sunday Service
END:VEVENT
BEGIN:VEVENT
DTSTART;TZID=America/New_York:20260215T100000
DTEND;TZID=America/New_York:20260215T113000
DTSTAMP:20260423T162916
CREATED:20250610T153100Z
LAST-MODIFIED:20250910T152602Z
UID:10001970-1771149600-1771155000@cbcburlingtonnj.org
SUMMARY:10 AM Sunday Service
DESCRIPTION:
URL:https://cbcburlingtonnj.org/event/10-am-sunday-service/2026-02-15/
LOCATION:Christ Baptist Church Burlington NJ\, 950 Jacksonville Road\, Burlington\, NJ\, 08016\, United States
CATEGORIES:Sunday Service
END:VEVENT
BEGIN:VEVENT
DTSTART;TZID=America/New_York:20260222T100000
DTEND;TZID=America/New_York:20260222T113000
DTSTAMP:20260423T162916
CREATED:20250610T153100Z
LAST-MODIFIED:20250910T152602Z
UID:10001971-1771754400-1771759800@cbcburlingtonnj.org
SUMMARY:10 AM Sunday Service
DESCRIPTION:
URL:https://cbcburlingtonnj.org/event/10-am-sunday-service/2026-02-22/
LOCATION:Christ Baptist Church Burlington NJ\, 950 Jacksonville Road\, Burlington\, NJ\, 08016\, United States
CATEGORIES:Sunday Service
END:VEVENT
BEGIN:VEVENT
DTSTART;TZID=America/New_York:20260222T150000
DTEND;TZID=America/New_York:20260222T160000
DTSTAMP:20260423T162916
CREATED:20260212T004142Z
LAST-MODIFIED:20260212T004142Z
UID:10003557-1771772400-1771776000@cbcburlingtonnj.org
SUMMARY:Christ Baptist Church's 163 Church Anniversary
DESCRIPTION:Join us as we celebrate Christ Baptist’s 163rd Church Anniversary on February 22\, 2026\, at 3:00 pm. We’ll be sharing in the celebration with Shiloh Baptist Church and Pastor Dunkins.
URL:https://cbcburlingtonnj.org/event/christ-baptist-churchs-163-church-anniversary/
LOCATION:Christ Baptist Church Burlington NJ\, 950 Jacksonville Road\, Burlington\, NJ\, 08016\, United States
CATEGORIES:Sunday Service
END:VEVENT
END:VCALENDAR