BEGIN:VCALENDAR
VERSION:2.0
PRODID:-//Christ Baptist Church - Burlington, NJ - ECPv6.15.20//NONSGML v1.0//EN
CALSCALE:GREGORIAN
METHOD:PUBLISH
X-WR-CALNAME:Christ Baptist Church - Burlington, NJ
X-ORIGINAL-URL:https://cbcburlingtonnj.org
X-WR-CALDESC:Events for Christ Baptist Church - Burlington, NJ
REFRESH-INTERVAL;VALUE=DURATION:PT1H
X-Robots-Tag:noindex
X-PUBLISHED-TTL:PT1H
BEGIN:VTIMEZONE
TZID:America/New_York
BEGIN:DAYLIGHT
TZOFFSETFROM:-0500
TZOFFSETTO:-0400
TZNAME:EDT
DTSTART:20240310T070000
END:DAYLIGHT
BEGIN:STANDARD
TZOFFSETFROM:-0400
TZOFFSETTO:-0500
TZNAME:EST
DTSTART:20241103T060000
END:STANDARD
BEGIN:DAYLIGHT
TZOFFSETFROM:-0500
TZOFFSETTO:-0400
TZNAME:EDT
DTSTART:20250309T070000
END:DAYLIGHT
BEGIN:STANDARD
TZOFFSETFROM:-0400
TZOFFSETTO:-0500
TZNAME:EST
DTSTART:20251102T060000
END:STANDARD
BEGIN:DAYLIGHT
TZOFFSETFROM:-0500
TZOFFSETTO:-0400
TZNAME:EDT
DTSTART:20260308T070000
END:DAYLIGHT
BEGIN:STANDARD
TZOFFSETFROM:-0400
TZOFFSETTO:-0500
TZNAME:EST
DTSTART:20261101T060000
END:STANDARD
END:VTIMEZONE
BEGIN:VEVENT
DTSTART;TZID=America/New_York:20250928T100000
DTEND;TZID=America/New_York:20250928T113000
DTSTAMP:20260423T184305
CREATED:20250610T153100Z
LAST-MODIFIED:20250910T152602Z
UID:10001950-1759053600-1759059000@cbcburlingtonnj.org
SUMMARY:10 AM Sunday Service
DESCRIPTION:
URL:https://cbcburlingtonnj.org/event/10-am-sunday-service/2025-09-28/
LOCATION:Christ Baptist Church Burlington NJ\, 950 Jacksonville Road\, Burlington\, NJ\, 08016\, United States
CATEGORIES:Sunday Service
END:VEVENT
BEGIN:VEVENT
DTSTART;TZID=America/New_York:20250921T100000
DTEND;TZID=America/New_York:20250921T113000
DTSTAMP:20260423T184305
CREATED:20250610T153100Z
LAST-MODIFIED:20250910T152602Z
UID:10001949-1758448800-1758454200@cbcburlingtonnj.org
SUMMARY:10 AM Sunday Service
DESCRIPTION:
URL:https://cbcburlingtonnj.org/event/10-am-sunday-service/2025-09-21/
LOCATION:Christ Baptist Church Burlington NJ\, 950 Jacksonville Road\, Burlington\, NJ\, 08016\, United States
CATEGORIES:Sunday Service
END:VEVENT
BEGIN:VEVENT
DTSTART;TZID=America/New_York:20250914T100000
DTEND;TZID=America/New_York:20250914T113000
DTSTAMP:20260423T184305
CREATED:20250610T153100Z
LAST-MODIFIED:20250910T152602Z
UID:10001948-1757844000-1757849400@cbcburlingtonnj.org
SUMMARY:10 AM Sunday Service
DESCRIPTION:
URL:https://cbcburlingtonnj.org/event/10-am-sunday-service/2025-09-14/
LOCATION:Christ Baptist Church Burlington NJ\, 950 Jacksonville Road\, Burlington\, NJ\, 08016\, United States
CATEGORIES:Sunday Service
END:VEVENT
BEGIN:VEVENT
DTSTART;TZID=America/New_York:20250907T100000
DTEND;TZID=America/New_York:20250907T113000
DTSTAMP:20260423T184305
CREATED:20250610T153100Z
LAST-MODIFIED:20250910T152602Z
UID:10001947-1757239200-1757244600@cbcburlingtonnj.org
SUMMARY:10 AM Sunday Service
DESCRIPTION:
URL:https://cbcburlingtonnj.org/event/10-am-sunday-service/2025-09-07/
LOCATION:Christ Baptist Church Burlington NJ\, 950 Jacksonville Road\, Burlington\, NJ\, 08016\, United States
CATEGORIES:Sunday Service
END:VEVENT
BEGIN:VEVENT
DTSTART;TZID=America/New_York:20250831T100000
DTEND;TZID=America/New_York:20250831T113000
DTSTAMP:20260423T184305
CREATED:20250610T153100Z
LAST-MODIFIED:20250910T152602Z
UID:10001946-1756634400-1756639800@cbcburlingtonnj.org
SUMMARY:10 AM Sunday Service
DESCRIPTION:
URL:https://cbcburlingtonnj.org/event/10-am-sunday-service/2025-08-31/
LOCATION:Christ Baptist Church Burlington NJ\, 950 Jacksonville Road\, Burlington\, NJ\, 08016\, United States
CATEGORIES:Sunday Service
END:VEVENT
BEGIN:VEVENT
DTSTART;TZID=America/New_York:20250824T100000
DTEND;TZID=America/New_York:20250824T113000
DTSTAMP:20260423T184305
CREATED:20250610T153100Z
LAST-MODIFIED:20250910T152602Z
UID:10001945-1756029600-1756035000@cbcburlingtonnj.org
SUMMARY:10 AM Sunday Service
DESCRIPTION:
URL:https://cbcburlingtonnj.org/event/10-am-sunday-service/2025-08-24/
LOCATION:Christ Baptist Church Burlington NJ\, 950 Jacksonville Road\, Burlington\, NJ\, 08016\, United States
CATEGORIES:Sunday Service
END:VEVENT
BEGIN:VEVENT
DTSTART;TZID=America/New_York:20250817T100000
DTEND;TZID=America/New_York:20250817T113000
DTSTAMP:20260423T184305
CREATED:20250610T153100Z
LAST-MODIFIED:20250910T152602Z
UID:10001944-1755424800-1755430200@cbcburlingtonnj.org
SUMMARY:10 AM Sunday Service
DESCRIPTION:
URL:https://cbcburlingtonnj.org/event/10-am-sunday-service/2025-08-17/
LOCATION:Christ Baptist Church Burlington NJ\, 950 Jacksonville Road\, Burlington\, NJ\, 08016\, United States
CATEGORIES:Sunday Service
END:VEVENT
BEGIN:VEVENT
DTSTART;TZID=America/New_York:20250810T100000
DTEND;TZID=America/New_York:20250810T113000
DTSTAMP:20260423T184305
CREATED:20250610T153100Z
LAST-MODIFIED:20250910T152602Z
UID:10001943-1754820000-1754825400@cbcburlingtonnj.org
SUMMARY:10 AM Sunday Service
DESCRIPTION:
URL:https://cbcburlingtonnj.org/event/10-am-sunday-service/2025-08-10/
LOCATION:Christ Baptist Church Burlington NJ\, 950 Jacksonville Road\, Burlington\, NJ\, 08016\, United States
CATEGORIES:Sunday Service
END:VEVENT
BEGIN:VEVENT
DTSTART;TZID=America/New_York:20250803T100000
DTEND;TZID=America/New_York:20250803T113000
DTSTAMP:20260423T184305
CREATED:20250610T153100Z
LAST-MODIFIED:20250910T152602Z
UID:10001942-1754215200-1754220600@cbcburlingtonnj.org
SUMMARY:10 AM Sunday Service
DESCRIPTION:
URL:https://cbcburlingtonnj.org/event/10-am-sunday-service/2025-08-03/
LOCATION:Christ Baptist Church Burlington NJ\, 950 Jacksonville Road\, Burlington\, NJ\, 08016\, United States
CATEGORIES:Sunday Service
END:VEVENT
BEGIN:VEVENT
DTSTART;TZID=America/New_York:20250727T100000
DTEND;TZID=America/New_York:20250727T113000
DTSTAMP:20260423T184305
CREATED:20250610T153100Z
LAST-MODIFIED:20250910T152602Z
UID:10001941-1753610400-1753615800@cbcburlingtonnj.org
SUMMARY:10 AM Sunday Service
DESCRIPTION:
URL:https://cbcburlingtonnj.org/event/10-am-sunday-service/2025-07-27/
LOCATION:Christ Baptist Church Burlington NJ\, 950 Jacksonville Road\, Burlington\, NJ\, 08016\, United States
CATEGORIES:Sunday Service
END:VEVENT
BEGIN:VEVENT
DTSTART;TZID=America/New_York:20250720T100000
DTEND;TZID=America/New_York:20250720T113000
DTSTAMP:20260423T184305
CREATED:20250610T153100Z
LAST-MODIFIED:20250910T152602Z
UID:10001940-1753005600-1753011000@cbcburlingtonnj.org
SUMMARY:10 AM Sunday Service
DESCRIPTION:
URL:https://cbcburlingtonnj.org/event/10-am-sunday-service/2025-07-20/
LOCATION:Christ Baptist Church Burlington NJ\, 950 Jacksonville Road\, Burlington\, NJ\, 08016\, United States
CATEGORIES:Sunday Service
END:VEVENT
BEGIN:VEVENT
DTSTART;TZID=America/New_York:20250713T100000
DTEND;TZID=America/New_York:20250713T113000
DTSTAMP:20260423T184305
CREATED:20250610T153100Z
LAST-MODIFIED:20250910T152602Z
UID:10001939-1752400800-1752406200@cbcburlingtonnj.org
SUMMARY:10 AM Sunday Service
DESCRIPTION:
URL:https://cbcburlingtonnj.org/event/10-am-sunday-service/2025-07-13/
LOCATION:Christ Baptist Church Burlington NJ\, 950 Jacksonville Road\, Burlington\, NJ\, 08016\, United States
CATEGORIES:Sunday Service
END:VEVENT
BEGIN:VEVENT
DTSTART;TZID=America/New_York:20250706T100000
DTEND;TZID=America/New_York:20250706T113000
DTSTAMP:20260423T184305
CREATED:20250610T153100Z
LAST-MODIFIED:20250910T152602Z
UID:10001938-1751796000-1751801400@cbcburlingtonnj.org
SUMMARY:10 AM Sunday Service
DESCRIPTION:
URL:https://cbcburlingtonnj.org/event/10-am-sunday-service/2025-07-06/
LOCATION:Christ Baptist Church Burlington NJ\, 950 Jacksonville Road\, Burlington\, NJ\, 08016\, United States
CATEGORIES:Sunday Service
END:VEVENT
BEGIN:VEVENT
DTSTART;TZID=America/New_York:20250629T100000
DTEND;TZID=America/New_York:20250629T113000
DTSTAMP:20260423T184305
CREATED:20250610T153100Z
LAST-MODIFIED:20250910T152602Z
UID:10001937-1751191200-1751196600@cbcburlingtonnj.org
SUMMARY:10 AM Sunday Service
DESCRIPTION:
URL:https://cbcburlingtonnj.org/event/10-am-sunday-service/2025-06-29/
LOCATION:Christ Baptist Church Burlington NJ\, 950 Jacksonville Road\, Burlington\, NJ\, 08016\, United States
CATEGORIES:Sunday Service
END:VEVENT
END:VCALENDAR