BEGIN:VCALENDAR
VERSION:2.0
PRODID:-//Christ Baptist Church - Burlington, NJ - ECPv6.15.20//NONSGML v1.0//EN
CALSCALE:GREGORIAN
METHOD:PUBLISH
X-ORIGINAL-URL:https://cbcburlingtonnj.org
X-WR-CALDESC:Events for Christ Baptist Church - Burlington, NJ
REFRESH-INTERVAL;VALUE=DURATION:PT1H
X-Robots-Tag:noindex
X-PUBLISHED-TTL:PT1H
BEGIN:VTIMEZONE
TZID:America/New_York
BEGIN:DAYLIGHT
TZOFFSETFROM:-0500
TZOFFSETTO:-0400
TZNAME:EDT
DTSTART:20240310T070000
END:DAYLIGHT
BEGIN:STANDARD
TZOFFSETFROM:-0400
TZOFFSETTO:-0500
TZNAME:EST
DTSTART:20241103T060000
END:STANDARD
BEGIN:DAYLIGHT
TZOFFSETFROM:-0500
TZOFFSETTO:-0400
TZNAME:EDT
DTSTART:20250309T070000
END:DAYLIGHT
BEGIN:STANDARD
TZOFFSETFROM:-0400
TZOFFSETTO:-0500
TZNAME:EST
DTSTART:20251102T060000
END:STANDARD
BEGIN:DAYLIGHT
TZOFFSETFROM:-0500
TZOFFSETTO:-0400
TZNAME:EDT
DTSTART:20260308T070000
END:DAYLIGHT
BEGIN:STANDARD
TZOFFSETFROM:-0400
TZOFFSETTO:-0500
TZNAME:EST
DTSTART:20261101T060000
END:STANDARD
END:VTIMEZONE
BEGIN:VEVENT
DTSTART;TZID=America/New_York:20250601T090000
DTEND;TZID=America/New_York:20250601T100000
DTSTAMP:20260424T010024
CREATED:20250610T153929Z
LAST-MODIFIED:20250610T153929Z
UID:10002466-1748768400-1748772000@cbcburlingtonnj.org
SUMMARY:Sunday School
DESCRIPTION:
URL:https://cbcburlingtonnj.org/event/sunday-school/2025-06-01/
LOCATION:Christ Baptist Church Burlington NJ\, 950 Jacksonville Road\, Burlington\, NJ\, 08016\, United States
END:VEVENT
BEGIN:VEVENT
DTSTART;TZID=America/New_York:20250601T140000
DTEND;TZID=America/New_York:20250601T150000
DTSTAMP:20260424T010024
CREATED:20250610T155036Z
LAST-MODIFIED:20250610T160010Z
UID:10002873-1748786400-1748790000@cbcburlingtonnj.org
SUMMARY:Nursing Home Ministries (First Sunday)
DESCRIPTION:When: Complete Care @ Burlington Woods \nTime: 2:30 to 3:30 PM \n  \nWhen: Wynwood Rehab/HealthCare Ctr. \nTime: 2:00 to 3:00 PM.
URL:https://cbcburlingtonnj.org/event/nursing-home-ministries/2025-06-01/1/
LOCATION:Complete Care @ Burlington Woods\, 115 Sunset Rd\, Burlington\, 08016\, United States
CATEGORIES:CBC EVENTS
END:VEVENT
BEGIN:VEVENT
DTSTART;TZID=America/New_York:20250601T143000
DTEND;TZID=America/New_York:20250601T153000
DTSTAMP:20260424T010024
CREATED:20250610T155036Z
LAST-MODIFIED:20250610T160010Z
UID:10002874-1748788200-1748791800@cbcburlingtonnj.org
SUMMARY:Nursing Home Ministries (First Sunday)
DESCRIPTION:When: Complete Care @ Burlington Woods \nTime: 2:30 to 3:30 PM \n  \nWhen: Wynwood Rehab/HealthCare Ctr. \nTime: 2:00 to 3:00 PM.
URL:https://cbcburlingtonnj.org/event/nursing-home-ministries/2025-06-01/2/
LOCATION:Complete Care @ Burlington Woods\, 115 Sunset Rd\, Burlington\, 08016\, United States
CATEGORIES:CBC EVENTS
END:VEVENT
BEGIN:VEVENT
DTSTART;TZID=America/New_York:20250603T190000
DTEND;TZID=America/New_York:20250603T200000
DTSTAMP:20260424T010024
CREATED:20240225T015950Z
LAST-MODIFIED:20240225T015950Z
UID:10001844-1748977200-1748980800@cbcburlingtonnj.org
SUMMARY:Bible Study
DESCRIPTION:
URL:https://cbcburlingtonnj.org/event/bible-study-67/
LOCATION:NJ
CATEGORIES:CBC EVENTS
END:VEVENT
BEGIN:VEVENT
DTSTART;TZID=America/New_York:20250604T190000
DTEND;TZID=America/New_York:20250604T200000
DTSTAMP:20260424T010024
CREATED:20250610T153513Z
LAST-MODIFIED:20250610T153513Z
UID:10002200-1749063600-1749067200@cbcburlingtonnj.org
SUMMARY:Prayer Meeting
DESCRIPTION:Join us every Wednesday at 7:00 p.m. for our Prayer Meeting.\nCALL-IN NUMBER: 605 472 5657\nWhen prompted\, enter access code 2833791\nPLEASE NOTE that it is important to mute your phones when you are not praying.
URL:https://cbcburlingtonnj.org/event/prayer-meeting/2025-06-04/
LOCATION:Virtual
END:VEVENT
BEGIN:VEVENT
DTSTART;TZID=America/New_York:20250608T090000
DTEND;TZID=America/New_York:20250608T100000
DTSTAMP:20260424T010024
CREATED:20250610T153929Z
LAST-MODIFIED:20250610T153929Z
UID:10002467-1749373200-1749376800@cbcburlingtonnj.org
SUMMARY:Sunday School
DESCRIPTION:
URL:https://cbcburlingtonnj.org/event/sunday-school/2025-06-08/
LOCATION:Christ Baptist Church Burlington NJ\, 950 Jacksonville Road\, Burlington\, NJ\, 08016\, United States
END:VEVENT
BEGIN:VEVENT
DTSTART;TZID=America/New_York:20250608T143000
DTEND;TZID=America/New_York:20250608T153000
DTSTAMP:20260424T010024
CREATED:20250610T155220Z
LAST-MODIFIED:20250610T155721Z
UID:10002790-1749393000-1749396600@cbcburlingtonnj.org
SUMMARY:Nursing Home Ministries (Second Sunday)
DESCRIPTION:When: Complete Care @ Burlington Woods\nTime: 2:30 to 3:30 PM \n 
URL:https://cbcburlingtonnj.org/event/nursing-home-ministries-2/2025-06-08/
LOCATION:Complete Care @ Burlington Woods\, 115 Sunset Rd\, Burlington\, 08016\, United States
END:VEVENT
BEGIN:VEVENT
DTSTART;TZID=America/New_York:20250610T190000
DTEND;TZID=America/New_York:20250610T200000
DTSTAMP:20260424T010024
CREATED:20240225T015950Z
LAST-MODIFIED:20240225T015950Z
UID:10001845-1749582000-1749585600@cbcburlingtonnj.org
SUMMARY:Bible Study
DESCRIPTION:
URL:https://cbcburlingtonnj.org/event/bible-study-68/
LOCATION:NJ
CATEGORIES:CBC EVENTS
END:VEVENT
BEGIN:VEVENT
DTSTART;TZID=America/New_York:20250611T190000
DTEND;TZID=America/New_York:20250611T200000
DTSTAMP:20260424T010024
CREATED:20250610T153513Z
LAST-MODIFIED:20250610T153513Z
UID:10002201-1749668400-1749672000@cbcburlingtonnj.org
SUMMARY:Prayer Meeting
DESCRIPTION:Join us every Wednesday at 7:00 p.m. for our Prayer Meeting.\nCALL-IN NUMBER: 605 472 5657\nWhen prompted\, enter access code 2833791\nPLEASE NOTE that it is important to mute your phones when you are not praying.
URL:https://cbcburlingtonnj.org/event/prayer-meeting/2025-06-11/
LOCATION:Virtual
END:VEVENT
BEGIN:VEVENT
DTSTART;TZID=America/New_York:20250615T090000
DTEND;TZID=America/New_York:20250615T100000
DTSTAMP:20260424T010024
CREATED:20250610T153929Z
LAST-MODIFIED:20250610T153929Z
UID:10002468-1749978000-1749981600@cbcburlingtonnj.org
SUMMARY:Sunday School
DESCRIPTION:
URL:https://cbcburlingtonnj.org/event/sunday-school/2025-06-15/
LOCATION:Christ Baptist Church Burlington NJ\, 950 Jacksonville Road\, Burlington\, NJ\, 08016\, United States
END:VEVENT
BEGIN:VEVENT
DTSTART;TZID=America/New_York:20250615T140000
DTEND;TZID=America/New_York:20250615T150000
DTSTAMP:20260424T010024
CREATED:20250610T155413Z
LAST-MODIFIED:20250724T155557Z
UID:10002851-1749996000-1749999600@cbcburlingtonnj.org
SUMMARY:Nursing Home Ministries (Third Sunday)
DESCRIPTION:When: Complete Care @ Marcella Nursing Home\nTime: 2:00 to 3:00 PM.
URL:https://cbcburlingtonnj.org/event/nursing-home-ministries-3/2025-06-15/
LOCATION:Complete Care @ Marcella Nursing Home\, 2305 Rancocas Rd\, Burlington\, 08016\, United States
CATEGORIES:CBC EVENTS
END:VEVENT
BEGIN:VEVENT
DTSTART;TZID=America/New_York:20250617T190000
DTEND;TZID=America/New_York:20250617T200000
DTSTAMP:20260424T010024
CREATED:20240225T015950Z
LAST-MODIFIED:20240225T015950Z
UID:10001846-1750186800-1750190400@cbcburlingtonnj.org
SUMMARY:Bible Study
DESCRIPTION:
URL:https://cbcburlingtonnj.org/event/bible-study-69/
LOCATION:NJ
CATEGORIES:CBC EVENTS
END:VEVENT
BEGIN:VEVENT
DTSTART;TZID=America/New_York:20250618T190000
DTEND;TZID=America/New_York:20250618T200000
DTSTAMP:20260424T010024
CREATED:20250610T153513Z
LAST-MODIFIED:20250610T153513Z
UID:10002202-1750273200-1750276800@cbcburlingtonnj.org
SUMMARY:Prayer Meeting
DESCRIPTION:Join us every Wednesday at 7:00 p.m. for our Prayer Meeting.\nCALL-IN NUMBER: 605 472 5657\nWhen prompted\, enter access code 2833791\nPLEASE NOTE that it is important to mute your phones when you are not praying.
URL:https://cbcburlingtonnj.org/event/prayer-meeting/2025-06-18/
LOCATION:Virtual
END:VEVENT
BEGIN:VEVENT
DTSTART;TZID=America/New_York:20250621T110000
DTEND;TZID=America/New_York:20250621T130000
DTSTAMP:20260424T010024
CREATED:20250610T151842Z
LAST-MODIFIED:20250616T142812Z
UID:10001934-1750503600-1750510800@cbcburlingtonnj.org
SUMMARY:Marriage Ministry's Breakfast
DESCRIPTION:
URL:https://cbcburlingtonnj.org/event/marriage-ministrys-breakfast/
LOCATION:Christ Baptist Church Burlington NJ\, 950 Jacksonville Road\, Burlington\, NJ\, 08016\, United States
CATEGORIES:CBC EVENTS
END:VEVENT
BEGIN:VEVENT
DTSTART;TZID=America/New_York:20250621T160000
DTEND;TZID=America/New_York:20250621T180000
DTSTAMP:20260424T010024
CREATED:20250610T151943Z
LAST-MODIFIED:20250610T153747Z
UID:10001935-1750521600-1750528800@cbcburlingtonnj.org
SUMMARY:Deacon Union Fellowship - Juneteenth
DESCRIPTION:
URL:https://cbcburlingtonnj.org/event/deacon-union-fellowship-juneteenth/
LOCATION:Christ Baptist Church Burlington NJ\, 950 Jacksonville Road\, Burlington\, NJ\, 08016\, United States
CATEGORIES:CBC EVENTS
END:VEVENT
BEGIN:VEVENT
DTSTART;TZID=America/New_York:20250622T090000
DTEND;TZID=America/New_York:20250622T100000
DTSTAMP:20260424T010024
CREATED:20250610T153929Z
LAST-MODIFIED:20250610T153929Z
UID:10002469-1750582800-1750586400@cbcburlingtonnj.org
SUMMARY:Sunday School
DESCRIPTION:
URL:https://cbcburlingtonnj.org/event/sunday-school/2025-06-22/
LOCATION:Christ Baptist Church Burlington NJ\, 950 Jacksonville Road\, Burlington\, NJ\, 08016\, United States
END:VEVENT
BEGIN:VEVENT
DTSTART;TZID=America/New_York:20250622T100000
DTEND;TZID=America/New_York:20250622T113000
DTSTAMP:20260424T010024
CREATED:20250610T151012Z
LAST-MODIFIED:20250616T142455Z
UID:10001928-1750586400-1750591800@cbcburlingtonnj.org
SUMMARY:Graduation & Special Recognition Service
DESCRIPTION:
URL:https://cbcburlingtonnj.org/event/graduation-special-recognition-service/
LOCATION:Christ Baptist Church Burlington NJ\, 950 Jacksonville Road\, Burlington\, NJ\, 08016\, United States
CATEGORIES:CBC EVENTS
ATTACH;FMTTYPE=image/png:https://cbcburlingtonnj.org/wp-content/uploads/2025/06/Untitled-11.png
END:VEVENT
BEGIN:VEVENT
DTSTART;TZID=America/New_York:20250624T190000
DTEND;TZID=America/New_York:20250624T200000
DTSTAMP:20260424T010024
CREATED:20240225T015950Z
LAST-MODIFIED:20240225T015950Z
UID:10001847-1750791600-1750795200@cbcburlingtonnj.org
SUMMARY:Bible Study
DESCRIPTION:
URL:https://cbcburlingtonnj.org/event/bible-study-70/
LOCATION:NJ
CATEGORIES:CBC EVENTS
END:VEVENT
BEGIN:VEVENT
DTSTART;TZID=America/New_York:20250625T190000
DTEND;TZID=America/New_York:20250625T200000
DTSTAMP:20260424T010024
CREATED:20250610T153513Z
LAST-MODIFIED:20250610T153513Z
UID:10002203-1750878000-1750881600@cbcburlingtonnj.org
SUMMARY:Prayer Meeting
DESCRIPTION:Join us every Wednesday at 7:00 p.m. for our Prayer Meeting.\nCALL-IN NUMBER: 605 472 5657\nWhen prompted\, enter access code 2833791\nPLEASE NOTE that it is important to mute your phones when you are not praying.
URL:https://cbcburlingtonnj.org/event/prayer-meeting/2025-06-25/
LOCATION:Virtual
END:VEVENT
BEGIN:VEVENT
DTSTART;TZID=America/New_York:20250626T190000
DTEND;TZID=America/New_York:20250626T203000
DTSTAMP:20260424T010024
CREATED:20250211T152741Z
LAST-MODIFIED:20250211T153114Z
UID:10001920-1750964400-1750969800@cbcburlingtonnj.org
SUMMARY:Health Care Ministry Cancer Support Meeting
DESCRIPTION:On Thursday (Feb. 27\, Mar. 27\, April 24\, May 22\, June 26\, & July 24) per month from 7:00 – 8:30 PM. \nDoctors will discuss cancer\, nutrition\, genetic counseling\, and heart care. If you or someone you know has had cancer\, you can come and share your story. Let’s be a Circle of Strength With our church and community. \nOnline on Zoom\nMeeting ID: 843 7917 8494\nPasscode: 628429\nDial-In 309-205-3325 \nFor more info\, contact our church.
URL:https://cbcburlingtonnj.org/event/health-care-ministry-cancer-support-meeting-2/2025-06-26/
LOCATION:Virtual
ATTACH;FMTTYPE=image/png:https://cbcburlingtonnj.org/wp-content/uploads/2025/02/CANCER-SUPPORT-1.png
END:VEVENT
BEGIN:VEVENT
DTSTART;TZID=America/New_York:20250629T090000
DTEND;TZID=America/New_York:20250629T100000
DTSTAMP:20260424T010024
CREATED:20250610T153929Z
LAST-MODIFIED:20250610T153929Z
UID:10002470-1751187600-1751191200@cbcburlingtonnj.org
SUMMARY:Sunday School
DESCRIPTION:
URL:https://cbcburlingtonnj.org/event/sunday-school/2025-06-29/
LOCATION:Christ Baptist Church Burlington NJ\, 950 Jacksonville Road\, Burlington\, NJ\, 08016\, United States
END:VEVENT
BEGIN:VEVENT
DTSTART;TZID=America/New_York:20250629T100000
DTEND;TZID=America/New_York:20250629T113000
DTSTAMP:20260424T010024
CREATED:20250610T153100Z
LAST-MODIFIED:20250910T152602Z
UID:10001937-1751191200-1751196600@cbcburlingtonnj.org
SUMMARY:10 AM Sunday Service
DESCRIPTION:
URL:https://cbcburlingtonnj.org/event/10-am-sunday-service/2025-06-29/
LOCATION:Christ Baptist Church Burlington NJ\, 950 Jacksonville Road\, Burlington\, NJ\, 08016\, United States
CATEGORIES:Sunday Service
END:VEVENT
BEGIN:VEVENT
DTSTART;TZID=America/New_York:20250629T140000
DTEND;TZID=America/New_York:20250629T150000
DTSTAMP:20260424T010024
CREATED:20250610T155527Z
LAST-MODIFIED:20250610T155551Z
UID:10002852-1751205600-1751209200@cbcburlingtonnj.org
SUMMARY:Nursing Home Ministries (Fifth Sunday)
DESCRIPTION:When: Wynwood Rehab/HealthCare Ctr\nTime: 2:00 to 3:00 PM
URL:https://cbcburlingtonnj.org/event/nursing-home-ministries-4/2025-06-29/
LOCATION:Wynwood Rehabilitation and Healthcare Center\, 1700 Wynwood Dr\, Cinnaminson\, 08077\, United States
END:VEVENT
END:VCALENDAR