BEGIN:VCALENDAR
VERSION:2.0
PRODID:-//Christ Baptist Church - Burlington, NJ - ECPv6.15.20//NONSGML v1.0//EN
CALSCALE:GREGORIAN
METHOD:PUBLISH
X-ORIGINAL-URL:https://cbcburlingtonnj.org
X-WR-CALDESC:Events for Christ Baptist Church - Burlington, NJ
REFRESH-INTERVAL;VALUE=DURATION:PT1H
X-Robots-Tag:noindex
X-PUBLISHED-TTL:PT1H
BEGIN:VTIMEZONE
TZID:America/New_York
BEGIN:DAYLIGHT
TZOFFSETFROM:-0500
TZOFFSETTO:-0400
TZNAME:EDT
DTSTART:20240310T070000
END:DAYLIGHT
BEGIN:STANDARD
TZOFFSETFROM:-0400
TZOFFSETTO:-0500
TZNAME:EST
DTSTART:20241103T060000
END:STANDARD
BEGIN:DAYLIGHT
TZOFFSETFROM:-0500
TZOFFSETTO:-0400
TZNAME:EDT
DTSTART:20250309T070000
END:DAYLIGHT
BEGIN:STANDARD
TZOFFSETFROM:-0400
TZOFFSETTO:-0500
TZNAME:EST
DTSTART:20251102T060000
END:STANDARD
BEGIN:DAYLIGHT
TZOFFSETFROM:-0500
TZOFFSETTO:-0400
TZNAME:EDT
DTSTART:20260308T070000
END:DAYLIGHT
BEGIN:STANDARD
TZOFFSETFROM:-0400
TZOFFSETTO:-0500
TZNAME:EST
DTSTART:20261101T060000
END:STANDARD
END:VTIMEZONE
BEGIN:VEVENT
DTSTART;TZID=America/New_York:20250803T090000
DTEND;TZID=America/New_York:20250803T100000
DTSTAMP:20260423T224332
CREATED:20250610T153929Z
LAST-MODIFIED:20250610T153929Z
UID:10002475-1754211600-1754215200@cbcburlingtonnj.org
SUMMARY:Sunday School
DESCRIPTION:
URL:https://cbcburlingtonnj.org/event/sunday-school/2025-08-03/
LOCATION:Christ Baptist Church Burlington NJ\, 950 Jacksonville Road\, Burlington\, NJ\, 08016\, United States
END:VEVENT
BEGIN:VEVENT
DTSTART;TZID=America/New_York:20250803T100000
DTEND;TZID=America/New_York:20250803T113000
DTSTAMP:20260423T224332
CREATED:20250610T153100Z
LAST-MODIFIED:20250910T152602Z
UID:10001942-1754215200-1754220600@cbcburlingtonnj.org
SUMMARY:10 AM Sunday Service
DESCRIPTION:
URL:https://cbcburlingtonnj.org/event/10-am-sunday-service/2025-08-03/
LOCATION:Christ Baptist Church Burlington NJ\, 950 Jacksonville Road\, Burlington\, NJ\, 08016\, United States
CATEGORIES:Sunday Service
END:VEVENT
BEGIN:VEVENT
DTSTART;TZID=America/New_York:20250803T143000
DTEND;TZID=America/New_York:20250803T153000
DTSTAMP:20260423T224332
CREATED:20250610T155036Z
LAST-MODIFIED:20250610T160010Z
UID:10002876-1754231400-1754235000@cbcburlingtonnj.org
SUMMARY:Nursing Home Ministries (First Sunday)
DESCRIPTION:When: Complete Care @ Burlington Woods \nTime: 2:30 to 3:30 PM \n  \nWhen: Wynwood Rehab/HealthCare Ctr. \nTime: 2:00 to 3:00 PM.
URL:https://cbcburlingtonnj.org/event/nursing-home-ministries/2025-08-03/
LOCATION:Complete Care @ Burlington Woods\, 115 Sunset Rd\, Burlington\, 08016\, United States
CATEGORIES:CBC EVENTS
END:VEVENT
BEGIN:VEVENT
DTSTART;TZID=America/New_York:20250805T190000
DTEND;TZID=America/New_York:20250805T200000
DTSTAMP:20260423T224332
CREATED:20240225T020002Z
LAST-MODIFIED:20240225T020002Z
UID:10001853-1754420400-1754424000@cbcburlingtonnj.org
SUMMARY:Bible Study
DESCRIPTION:
URL:https://cbcburlingtonnj.org/event/bible-study-76/
LOCATION:NJ
CATEGORIES:CBC EVENTS
END:VEVENT
BEGIN:VEVENT
DTSTART;TZID=America/New_York:20250806T190000
DTEND;TZID=America/New_York:20250806T200000
DTSTAMP:20260423T224332
CREATED:20250610T153513Z
LAST-MODIFIED:20250610T153513Z
UID:10002209-1754506800-1754510400@cbcburlingtonnj.org
SUMMARY:Prayer Meeting
DESCRIPTION:Join us every Wednesday at 7:00 p.m. for our Prayer Meeting.\nCALL-IN NUMBER: 605 472 5657\nWhen prompted\, enter access code 2833791\nPLEASE NOTE that it is important to mute your phones when you are not praying.
URL:https://cbcburlingtonnj.org/event/prayer-meeting/2025-08-06/
LOCATION:Virtual
END:VEVENT
BEGIN:VEVENT
DTSTART;TZID=America/New_York:20250809T110000
DTEND;TZID=America/New_York:20250809T160000
DTSTAMP:20260423T224332
CREATED:20250610T152108Z
LAST-MODIFIED:20250722T155756Z
UID:10001936-1754737200-1754755200@cbcburlingtonnj.org
SUMMARY:Community Cookout
DESCRIPTION:Mark your calendars! Join us for food\, fun\, and fellowship on August 9\, 2025\, from 12:00 PM to 4:00 PM for our Community Cookout at Christ Baptist Church. \nIn preparation for the Cookout\, we will be accepting COOKOUT DONATIONS. Remember that food pre-cooked for your table may only be served at your table. CBC IS PROVIDING COOKOUT FOOD FOR PUBLIC CONSUMPTION. Please check the box next to the item you will be donating. The items are Watermelon\, 24 Pk Water\, 12 PK Soda\, Cake\, and Pie. Please have all donations at CBC by August 3. \nFill out the form or sign up on SignupGenius! \nLink: https://www.signupgenius.com/go/10C0549A5AA23A6FDC07-57529357-cbccook?useFullSite=true#/
URL:https://cbcburlingtonnj.org/event/church-cookout-2/
LOCATION:Christ Baptist Church Burlington NJ\, 950 Jacksonville Road\, Burlington\, NJ\, 08016\, United States
CATEGORIES:CBC EVENTS
ATTACH;FMTTYPE=image/png:https://cbcburlingtonnj.org/wp-content/uploads/2025/06/website-pics-12.png
END:VEVENT
BEGIN:VEVENT
DTSTART;TZID=America/New_York:20250810T090000
DTEND;TZID=America/New_York:20250810T100000
DTSTAMP:20260423T224332
CREATED:20250610T153929Z
LAST-MODIFIED:20250610T153929Z
UID:10002476-1754816400-1754820000@cbcburlingtonnj.org
SUMMARY:Sunday School
DESCRIPTION:
URL:https://cbcburlingtonnj.org/event/sunday-school/2025-08-10/
LOCATION:Christ Baptist Church Burlington NJ\, 950 Jacksonville Road\, Burlington\, NJ\, 08016\, United States
END:VEVENT
BEGIN:VEVENT
DTSTART;TZID=America/New_York:20250810T100000
DTEND;TZID=America/New_York:20250810T113000
DTSTAMP:20260423T224332
CREATED:20250610T153100Z
LAST-MODIFIED:20250910T152602Z
UID:10001943-1754820000-1754825400@cbcburlingtonnj.org
SUMMARY:10 AM Sunday Service
DESCRIPTION:
URL:https://cbcburlingtonnj.org/event/10-am-sunday-service/2025-08-10/
LOCATION:Christ Baptist Church Burlington NJ\, 950 Jacksonville Road\, Burlington\, NJ\, 08016\, United States
CATEGORIES:Sunday Service
END:VEVENT
BEGIN:VEVENT
DTSTART;TZID=America/New_York:20250810T143000
DTEND;TZID=America/New_York:20250810T153000
DTSTAMP:20260423T224332
CREATED:20250610T155220Z
LAST-MODIFIED:20250610T155721Z
UID:10002792-1754836200-1754839800@cbcburlingtonnj.org
SUMMARY:Nursing Home Ministries (Second Sunday)
DESCRIPTION:When: Complete Care @ Burlington Woods\nTime: 2:30 to 3:30 PM \n 
URL:https://cbcburlingtonnj.org/event/nursing-home-ministries-2/2025-08-10/
LOCATION:Complete Care @ Burlington Woods\, 115 Sunset Rd\, Burlington\, 08016\, United States
END:VEVENT
BEGIN:VEVENT
DTSTART;TZID=America/New_York:20250812T190000
DTEND;TZID=America/New_York:20250812T200000
DTSTAMP:20260423T224332
CREATED:20240225T020002Z
LAST-MODIFIED:20240225T020002Z
UID:10001854-1755025200-1755028800@cbcburlingtonnj.org
SUMMARY:Bible Study
DESCRIPTION:
URL:https://cbcburlingtonnj.org/event/bible-study-77/
LOCATION:NJ
CATEGORIES:CBC EVENTS
END:VEVENT
BEGIN:VEVENT
DTSTART;TZID=America/New_York:20250813T190000
DTEND;TZID=America/New_York:20250813T200000
DTSTAMP:20260423T224332
CREATED:20250610T153513Z
LAST-MODIFIED:20250610T153513Z
UID:10002210-1755111600-1755115200@cbcburlingtonnj.org
SUMMARY:Prayer Meeting
DESCRIPTION:Join us every Wednesday at 7:00 p.m. for our Prayer Meeting.\nCALL-IN NUMBER: 605 472 5657\nWhen prompted\, enter access code 2833791\nPLEASE NOTE that it is important to mute your phones when you are not praying.
URL:https://cbcburlingtonnj.org/event/prayer-meeting/2025-08-13/
LOCATION:Virtual
END:VEVENT
BEGIN:VEVENT
DTSTART;TZID=America/New_York:20250817T090000
DTEND;TZID=America/New_York:20250817T100000
DTSTAMP:20260423T224332
CREATED:20250610T153929Z
LAST-MODIFIED:20250610T153929Z
UID:10002477-1755421200-1755424800@cbcburlingtonnj.org
SUMMARY:Sunday School
DESCRIPTION:
URL:https://cbcburlingtonnj.org/event/sunday-school/2025-08-17/
LOCATION:Christ Baptist Church Burlington NJ\, 950 Jacksonville Road\, Burlington\, NJ\, 08016\, United States
END:VEVENT
BEGIN:VEVENT
DTSTART;TZID=America/New_York:20250817T100000
DTEND;TZID=America/New_York:20250817T113000
DTSTAMP:20260423T224332
CREATED:20250610T153100Z
LAST-MODIFIED:20250910T152602Z
UID:10001944-1755424800-1755430200@cbcburlingtonnj.org
SUMMARY:10 AM Sunday Service
DESCRIPTION:
URL:https://cbcburlingtonnj.org/event/10-am-sunday-service/2025-08-17/
LOCATION:Christ Baptist Church Burlington NJ\, 950 Jacksonville Road\, Burlington\, NJ\, 08016\, United States
CATEGORIES:Sunday Service
END:VEVENT
BEGIN:VEVENT
DTSTART;TZID=America/New_York:20250817T140000
DTEND;TZID=America/New_York:20250817T150000
DTSTAMP:20260423T224332
CREATED:20250610T155413Z
LAST-MODIFIED:20250724T155557Z
UID:10002943-1755439200-1755442800@cbcburlingtonnj.org
SUMMARY:Nursing Home Ministries (Third Sunday)
DESCRIPTION:When: Complete Care @ Marcella Nursing Home\nTime: 2:00 to 3:00 PM.
URL:https://cbcburlingtonnj.org/event/nursing-home-ministries-3/2025-08-17/
LOCATION:Complete Care @ Marcella Nursing Home\, 2305 Rancocas Rd\, Burlington\, 08016\, United States
CATEGORIES:CBC EVENTS
END:VEVENT
BEGIN:VEVENT
DTSTART;TZID=America/New_York:20250819T190000
DTEND;TZID=America/New_York:20250819T200000
DTSTAMP:20260423T224332
CREATED:20240225T020002Z
LAST-MODIFIED:20240225T020002Z
UID:10001855-1755630000-1755633600@cbcburlingtonnj.org
SUMMARY:Bible Study
DESCRIPTION:
URL:https://cbcburlingtonnj.org/event/bible-study-78/
LOCATION:NJ
CATEGORIES:CBC EVENTS
END:VEVENT
BEGIN:VEVENT
DTSTART;TZID=America/New_York:20250820T190000
DTEND;TZID=America/New_York:20250820T200000
DTSTAMP:20260423T224332
CREATED:20250610T153513Z
LAST-MODIFIED:20250610T153513Z
UID:10002211-1755716400-1755720000@cbcburlingtonnj.org
SUMMARY:Prayer Meeting
DESCRIPTION:Join us every Wednesday at 7:00 p.m. for our Prayer Meeting.\nCALL-IN NUMBER: 605 472 5657\nWhen prompted\, enter access code 2833791\nPLEASE NOTE that it is important to mute your phones when you are not praying.
URL:https://cbcburlingtonnj.org/event/prayer-meeting/2025-08-20/
LOCATION:Virtual
END:VEVENT
BEGIN:VEVENT
DTSTART;TZID=America/New_York:20250822T190000
DTEND;TZID=America/New_York:20250822T203000
DTSTAMP:20260423T224332
CREATED:20250211T152741Z
LAST-MODIFIED:20250211T153114Z
UID:10001922-1755889200-1755894600@cbcburlingtonnj.org
SUMMARY:Health Care Ministry Cancer Support Meeting
DESCRIPTION:On Thursday (Feb. 27\, Mar. 27\, April 24\, May 22\, June 26\, & July 24) per month from 7:00 – 8:30 PM. \nDoctors will discuss cancer\, nutrition\, genetic counseling\, and heart care. If you or someone you know has had cancer\, you can come and share your story. Let’s be a Circle of Strength With our church and community. \nOnline on Zoom\nMeeting ID: 843 7917 8494\nPasscode: 628429\nDial-In 309-205-3325 \nFor more info\, contact our church.
URL:https://cbcburlingtonnj.org/event/health-care-ministry-cancer-support-meeting-2/2025-08-22/
LOCATION:Virtual
ATTACH;FMTTYPE=image/png:https://cbcburlingtonnj.org/wp-content/uploads/2025/02/CANCER-SUPPORT-1.png
END:VEVENT
BEGIN:VEVENT
DTSTART;TZID=America/New_York:20250824T090000
DTEND;TZID=America/New_York:20250824T100000
DTSTAMP:20260423T224332
CREATED:20250610T153929Z
LAST-MODIFIED:20250610T153929Z
UID:10002478-1756026000-1756029600@cbcburlingtonnj.org
SUMMARY:Sunday School
DESCRIPTION:
URL:https://cbcburlingtonnj.org/event/sunday-school/2025-08-24/
LOCATION:Christ Baptist Church Burlington NJ\, 950 Jacksonville Road\, Burlington\, NJ\, 08016\, United States
END:VEVENT
BEGIN:VEVENT
DTSTART;TZID=America/New_York:20250824T100000
DTEND;TZID=America/New_York:20250824T113000
DTSTAMP:20260423T224332
CREATED:20250610T153100Z
LAST-MODIFIED:20250910T152602Z
UID:10001945-1756029600-1756035000@cbcburlingtonnj.org
SUMMARY:10 AM Sunday Service
DESCRIPTION:
URL:https://cbcburlingtonnj.org/event/10-am-sunday-service/2025-08-24/
LOCATION:Christ Baptist Church Burlington NJ\, 950 Jacksonville Road\, Burlington\, NJ\, 08016\, United States
CATEGORIES:Sunday Service
END:VEVENT
BEGIN:VEVENT
DTSTART;TZID=America/New_York:20250824T113000
DTEND;TZID=America/New_York:20250824T123000
DTSTAMP:20260423T224332
CREATED:20250805T151307Z
LAST-MODIFIED:20250805T151307Z
UID:10003004-1756035000-1756038600@cbcburlingtonnj.org
SUMMARY:Christian Cafe Hosted by 8:28
DESCRIPTION:
URL:https://cbcburlingtonnj.org/event/christian-cafe-hosted-by-828/
LOCATION:Christ Baptist Church Burlington NJ\, 950 Jacksonville Road\, Burlington\, NJ\, 08016\, United States
CATEGORIES:8:28 EVENTS
END:VEVENT
BEGIN:VEVENT
DTSTART;TZID=America/New_York:20250826T190000
DTEND;TZID=America/New_York:20250826T200000
DTSTAMP:20260423T224332
CREATED:20240225T020002Z
LAST-MODIFIED:20240225T020002Z
UID:10001856-1756234800-1756238400@cbcburlingtonnj.org
SUMMARY:Bible Study
DESCRIPTION:
URL:https://cbcburlingtonnj.org/event/bible-study-79/
LOCATION:NJ
CATEGORIES:CBC EVENTS
END:VEVENT
BEGIN:VEVENT
DTSTART;TZID=America/New_York:20250827T190000
DTEND;TZID=America/New_York:20250827T200000
DTSTAMP:20260423T224332
CREATED:20250610T153513Z
LAST-MODIFIED:20250610T153513Z
UID:10002212-1756321200-1756324800@cbcburlingtonnj.org
SUMMARY:Prayer Meeting
DESCRIPTION:Join us every Wednesday at 7:00 p.m. for our Prayer Meeting.\nCALL-IN NUMBER: 605 472 5657\nWhen prompted\, enter access code 2833791\nPLEASE NOTE that it is important to mute your phones when you are not praying.
URL:https://cbcburlingtonnj.org/event/prayer-meeting/2025-08-27/
LOCATION:Virtual
END:VEVENT
BEGIN:VEVENT
DTSTART;TZID=America/New_York:20250829T183000
DTEND;TZID=America/New_York:20250829T210000
DTSTAMP:20260423T224332
CREATED:20250805T151355Z
LAST-MODIFIED:20250805T151355Z
UID:10003005-1756492200-1756501200@cbcburlingtonnj.org
SUMMARY:Movie Night
DESCRIPTION:
URL:https://cbcburlingtonnj.org/event/movie-night/
LOCATION:Christ Baptist Church Burlington NJ\, 950 Jacksonville Road\, Burlington\, NJ\, 08016\, United States
CATEGORIES:8:28 EVENTS
END:VEVENT
BEGIN:VEVENT
DTSTART;TZID=America/New_York:20250831T090000
DTEND;TZID=America/New_York:20250831T100000
DTSTAMP:20260423T224332
CREATED:20250610T153929Z
LAST-MODIFIED:20250610T153929Z
UID:10002479-1756630800-1756634400@cbcburlingtonnj.org
SUMMARY:Sunday School
DESCRIPTION:
URL:https://cbcburlingtonnj.org/event/sunday-school/2025-08-31/
LOCATION:Christ Baptist Church Burlington NJ\, 950 Jacksonville Road\, Burlington\, NJ\, 08016\, United States
END:VEVENT
BEGIN:VEVENT
DTSTART;TZID=America/New_York:20250831T100000
DTEND;TZID=America/New_York:20250831T113000
DTSTAMP:20260423T224332
CREATED:20250610T153100Z
LAST-MODIFIED:20250910T152602Z
UID:10001946-1756634400-1756639800@cbcburlingtonnj.org
SUMMARY:10 AM Sunday Service
DESCRIPTION:
URL:https://cbcburlingtonnj.org/event/10-am-sunday-service/2025-08-31/
LOCATION:Christ Baptist Church Burlington NJ\, 950 Jacksonville Road\, Burlington\, NJ\, 08016\, United States
CATEGORIES:Sunday Service
END:VEVENT
BEGIN:VEVENT
DTSTART;TZID=America/New_York:20250831T140000
DTEND;TZID=America/New_York:20250831T150000
DTSTAMP:20260423T224332
CREATED:20250610T155527Z
LAST-MODIFIED:20250610T155551Z
UID:10002853-1756648800-1756652400@cbcburlingtonnj.org
SUMMARY:Nursing Home Ministries (Fifth Sunday)
DESCRIPTION:When: Wynwood Rehab/HealthCare Ctr\nTime: 2:00 to 3:00 PM
URL:https://cbcburlingtonnj.org/event/nursing-home-ministries-4/2025-08-31/
LOCATION:Wynwood Rehabilitation and Healthcare Center\, 1700 Wynwood Dr\, Cinnaminson\, 08077\, United States
END:VEVENT
END:VCALENDAR