BEGIN:VCALENDAR
VERSION:2.0
PRODID:-//Christ Baptist Church - Burlington, NJ - ECPv6.15.20//NONSGML v1.0//EN
CALSCALE:GREGORIAN
METHOD:PUBLISH
X-WR-CALNAME:Christ Baptist Church - Burlington, NJ
X-ORIGINAL-URL:https://cbcburlingtonnj.org
X-WR-CALDESC:Events for Christ Baptist Church - Burlington, NJ
REFRESH-INTERVAL;VALUE=DURATION:PT1H
X-Robots-Tag:noindex
X-PUBLISHED-TTL:PT1H
BEGIN:VTIMEZONE
TZID:America/New_York
BEGIN:DAYLIGHT
TZOFFSETFROM:-0500
TZOFFSETTO:-0400
TZNAME:EDT
DTSTART:20250309T070000
END:DAYLIGHT
BEGIN:STANDARD
TZOFFSETFROM:-0400
TZOFFSETTO:-0500
TZNAME:EST
DTSTART:20251102T060000
END:STANDARD
BEGIN:DAYLIGHT
TZOFFSETFROM:-0500
TZOFFSETTO:-0400
TZNAME:EDT
DTSTART:20260308T070000
END:DAYLIGHT
BEGIN:STANDARD
TZOFFSETFROM:-0400
TZOFFSETTO:-0500
TZNAME:EST
DTSTART:20261101T060000
END:STANDARD
BEGIN:DAYLIGHT
TZOFFSETFROM:-0500
TZOFFSETTO:-0400
TZNAME:EDT
DTSTART:20270314T070000
END:DAYLIGHT
BEGIN:STANDARD
TZOFFSETFROM:-0400
TZOFFSETTO:-0500
TZNAME:EST
DTSTART:20271107T060000
END:STANDARD
END:VTIMEZONE
BEGIN:VEVENT
DTSTART;TZID=America/New_York:20260301T090000
DTEND;TZID=America/New_York:20260301T100000
DTSTAMP:20260423T114002
CREATED:20250610T153929Z
LAST-MODIFIED:20250610T153929Z
UID:10002505-1772355600-1772359200@cbcburlingtonnj.org
SUMMARY:Sunday School
DESCRIPTION:
URL:https://cbcburlingtonnj.org/event/sunday-school/2026-03-01/
LOCATION:Christ Baptist Church Burlington NJ\, 950 Jacksonville Road\, Burlington\, NJ\, 08016\, United States
END:VEVENT
BEGIN:VEVENT
DTSTART;TZID=America/New_York:20260301T100000
DTEND;TZID=America/New_York:20260301T113000
DTSTAMP:20260423T114002
CREATED:20250610T153100Z
LAST-MODIFIED:20250910T152602Z
UID:10001972-1772359200-1772364600@cbcburlingtonnj.org
SUMMARY:10 AM Sunday Service
DESCRIPTION:
URL:https://cbcburlingtonnj.org/event/10-am-sunday-service/2026-03-01/
LOCATION:Christ Baptist Church Burlington NJ\, 950 Jacksonville Road\, Burlington\, NJ\, 08016\, United States
CATEGORIES:Sunday Service
END:VEVENT
BEGIN:VEVENT
DTSTART;TZID=America/New_York:20260301T143000
DTEND;TZID=America/New_York:20260301T153000
DTSTAMP:20260423T114002
CREATED:20250610T155036Z
LAST-MODIFIED:20250610T160010Z
UID:10002883-1772375400-1772379000@cbcburlingtonnj.org
SUMMARY:Nursing Home Ministries (First Sunday)
DESCRIPTION:When: Complete Care @ Burlington Woods \nTime: 2:30 to 3:30 PM \n  \nWhen: Wynwood Rehab/HealthCare Ctr. \nTime: 2:00 to 3:00 PM.
URL:https://cbcburlingtonnj.org/event/nursing-home-ministries/2026-03-01/
LOCATION:Complete Care @ Burlington Woods\, 115 Sunset Rd\, Burlington\, 08016\, United States
CATEGORIES:CBC EVENTS
END:VEVENT
BEGIN:VEVENT
DTSTART;TZID=America/New_York:20260301T190000
DTEND;TZID=America/New_York:20260301T200000
DTSTAMP:20260423T114002
CREATED:20251013T165115Z
LAST-MODIFIED:20251013T165115Z
UID:10003042-1772391600-1772395200@cbcburlingtonnj.org
SUMMARY:Fuel for Courage
DESCRIPTION:Join Us Every Sunday at 7:00 p.m. You may participate on a “phone only” basis by calling 1 929 205 6099. Then\, when prompted\, enter the same I.D. number and access code listed above. \nZoom Meeting ID: 538 277 6972\nPasscode 160051
URL:https://cbcburlingtonnj.org/event/fuel-for-courage/2026-03-01/
LOCATION:Virtual
CATEGORIES:Bible Study
END:VEVENT
BEGIN:VEVENT
DTSTART;TZID=America/New_York:20260303T190000
DTEND;TZID=America/New_York:20260303T200000
DTSTAMP:20260423T114002
CREATED:20240308T195708Z
LAST-MODIFIED:20251013T161334Z
UID:10001901-1772564400-1772568000@cbcburlingtonnj.org
SUMMARY:Tuesday Bible Study
DESCRIPTION:Join Us Every Tuesday at 7:00 p.m.\, both in-person & virtual on Zoom and YouTube (cbcburlingtonnj).  \n  \nZoom ID: 875 3678 2426 \nPasscode: 449826
URL:https://cbcburlingtonnj.org/event/bible-study-106/
LOCATION:Christ Baptist Church Burlington NJ\, 950 Jacksonville Road\, Burlington\, NJ\, 08016\, United States
CATEGORIES:Bible Study,CBC EVENTS
END:VEVENT
BEGIN:VEVENT
DTSTART;TZID=America/New_York:20260304T190000
DTEND;TZID=America/New_York:20260304T200000
DTSTAMP:20260423T114002
CREATED:20250610T153513Z
LAST-MODIFIED:20250610T153513Z
UID:10002239-1772650800-1772654400@cbcburlingtonnj.org
SUMMARY:Prayer Meeting
DESCRIPTION:Join us every Wednesday at 7:00 p.m. for our Prayer Meeting.\nCALL-IN NUMBER: 605 472 5657\nWhen prompted\, enter access code 2833791\nPLEASE NOTE that it is important to mute your phones when you are not praying.
URL:https://cbcburlingtonnj.org/event/prayer-meeting/2026-03-04/
LOCATION:Virtual
END:VEVENT
BEGIN:VEVENT
DTSTART;TZID=America/New_York:20260308T090000
DTEND;TZID=America/New_York:20260308T100000
DTSTAMP:20260423T114002
CREATED:20250610T153929Z
LAST-MODIFIED:20250610T153929Z
UID:10002506-1772960400-1772964000@cbcburlingtonnj.org
SUMMARY:Sunday School
DESCRIPTION:
URL:https://cbcburlingtonnj.org/event/sunday-school/2026-03-08/
LOCATION:Christ Baptist Church Burlington NJ\, 950 Jacksonville Road\, Burlington\, NJ\, 08016\, United States
END:VEVENT
BEGIN:VEVENT
DTSTART;TZID=America/New_York:20260308T100000
DTEND;TZID=America/New_York:20260308T113000
DTSTAMP:20260423T114002
CREATED:20250610T153100Z
LAST-MODIFIED:20250910T152602Z
UID:10001973-1772964000-1772969400@cbcburlingtonnj.org
SUMMARY:10 AM Sunday Service
DESCRIPTION:
URL:https://cbcburlingtonnj.org/event/10-am-sunday-service/2026-03-08/
LOCATION:Christ Baptist Church Burlington NJ\, 950 Jacksonville Road\, Burlington\, NJ\, 08016\, United States
CATEGORIES:Sunday Service
END:VEVENT
BEGIN:VEVENT
DTSTART;TZID=America/New_York:20260308T143000
DTEND;TZID=America/New_York:20260308T153000
DTSTAMP:20260423T114002
CREATED:20250610T155220Z
LAST-MODIFIED:20250610T155721Z
UID:10002799-1772980200-1772983800@cbcburlingtonnj.org
SUMMARY:Nursing Home Ministries (Second Sunday)
DESCRIPTION:When: Complete Care @ Burlington Woods\nTime: 2:30 to 3:30 PM \n 
URL:https://cbcburlingtonnj.org/event/nursing-home-ministries-2/2026-03-08/
LOCATION:Complete Care @ Burlington Woods\, 115 Sunset Rd\, Burlington\, 08016\, United States
END:VEVENT
BEGIN:VEVENT
DTSTART;TZID=America/New_York:20260308T190000
DTEND;TZID=America/New_York:20260308T200000
DTSTAMP:20260423T114002
CREATED:20251013T165115Z
LAST-MODIFIED:20251013T165115Z
UID:10003043-1772996400-1773000000@cbcburlingtonnj.org
SUMMARY:Fuel for Courage
DESCRIPTION:Join Us Every Sunday at 7:00 p.m. You may participate on a “phone only” basis by calling 1 929 205 6099. Then\, when prompted\, enter the same I.D. number and access code listed above. \nZoom Meeting ID: 538 277 6972\nPasscode 160051
URL:https://cbcburlingtonnj.org/event/fuel-for-courage/2026-03-08/
LOCATION:Virtual
CATEGORIES:Bible Study
END:VEVENT
BEGIN:VEVENT
DTSTART;TZID=America/New_York:20260311T190000
DTEND;TZID=America/New_York:20260311T200000
DTSTAMP:20260423T114002
CREATED:20250610T153513Z
LAST-MODIFIED:20250610T153513Z
UID:10002240-1773255600-1773259200@cbcburlingtonnj.org
SUMMARY:Prayer Meeting
DESCRIPTION:Join us every Wednesday at 7:00 p.m. for our Prayer Meeting.\nCALL-IN NUMBER: 605 472 5657\nWhen prompted\, enter access code 2833791\nPLEASE NOTE that it is important to mute your phones when you are not praying.
URL:https://cbcburlingtonnj.org/event/prayer-meeting/2026-03-11/
LOCATION:Virtual
END:VEVENT
BEGIN:VEVENT
DTSTART;TZID=America/New_York:20260315T090000
DTEND;TZID=America/New_York:20260315T100000
DTSTAMP:20260423T114002
CREATED:20250610T153929Z
LAST-MODIFIED:20250610T153929Z
UID:10002507-1773565200-1773568800@cbcburlingtonnj.org
SUMMARY:Sunday School
DESCRIPTION:
URL:https://cbcburlingtonnj.org/event/sunday-school/2026-03-15/
LOCATION:Christ Baptist Church Burlington NJ\, 950 Jacksonville Road\, Burlington\, NJ\, 08016\, United States
END:VEVENT
BEGIN:VEVENT
DTSTART;TZID=America/New_York:20260315T100000
DTEND;TZID=America/New_York:20260315T113000
DTSTAMP:20260423T114002
CREATED:20250610T153100Z
LAST-MODIFIED:20250910T152602Z
UID:10001974-1773568800-1773574200@cbcburlingtonnj.org
SUMMARY:10 AM Sunday Service
DESCRIPTION:
URL:https://cbcburlingtonnj.org/event/10-am-sunday-service/2026-03-15/
LOCATION:Christ Baptist Church Burlington NJ\, 950 Jacksonville Road\, Burlington\, NJ\, 08016\, United States
CATEGORIES:Sunday Service
END:VEVENT
BEGIN:VEVENT
DTSTART;TZID=America/New_York:20260315T140000
DTEND;TZID=America/New_York:20260315T150000
DTSTAMP:20260423T114002
CREATED:20250610T155413Z
LAST-MODIFIED:20250724T155557Z
UID:10002950-1773583200-1773586800@cbcburlingtonnj.org
SUMMARY:Nursing Home Ministries (Third Sunday)
DESCRIPTION:When: Complete Care @ Marcella Nursing Home\nTime: 2:00 to 3:00 PM.
URL:https://cbcburlingtonnj.org/event/nursing-home-ministries-3/2026-03-15/
LOCATION:Complete Care @ Marcella Nursing Home\, 2305 Rancocas Rd\, Burlington\, 08016\, United States
CATEGORIES:CBC EVENTS
END:VEVENT
BEGIN:VEVENT
DTSTART;TZID=America/New_York:20260315T190000
DTEND;TZID=America/New_York:20260315T200000
DTSTAMP:20260423T114002
CREATED:20251013T165115Z
LAST-MODIFIED:20251013T165115Z
UID:10003044-1773601200-1773604800@cbcburlingtonnj.org
SUMMARY:Fuel for Courage
DESCRIPTION:Join Us Every Sunday at 7:00 p.m. You may participate on a “phone only” basis by calling 1 929 205 6099. Then\, when prompted\, enter the same I.D. number and access code listed above. \nZoom Meeting ID: 538 277 6972\nPasscode 160051
URL:https://cbcburlingtonnj.org/event/fuel-for-courage/2026-03-15/
LOCATION:Virtual
CATEGORIES:Bible Study
END:VEVENT
BEGIN:VEVENT
DTSTART;TZID=America/New_York:20260318T190000
DTEND;TZID=America/New_York:20260318T200000
DTSTAMP:20260423T114002
CREATED:20250610T153513Z
LAST-MODIFIED:20250610T153513Z
UID:10002241-1773860400-1773864000@cbcburlingtonnj.org
SUMMARY:Prayer Meeting
DESCRIPTION:Join us every Wednesday at 7:00 p.m. for our Prayer Meeting.\nCALL-IN NUMBER: 605 472 5657\nWhen prompted\, enter access code 2833791\nPLEASE NOTE that it is important to mute your phones when you are not praying.
URL:https://cbcburlingtonnj.org/event/prayer-meeting/2026-03-18/
LOCATION:Virtual
END:VEVENT
BEGIN:VEVENT
DTSTART;TZID=America/New_York:20260322T090000
DTEND;TZID=America/New_York:20260322T100000
DTSTAMP:20260423T114002
CREATED:20250610T153929Z
LAST-MODIFIED:20250610T153929Z
UID:10002508-1774170000-1774173600@cbcburlingtonnj.org
SUMMARY:Sunday School
DESCRIPTION:
URL:https://cbcburlingtonnj.org/event/sunday-school/2026-03-22/
LOCATION:Christ Baptist Church Burlington NJ\, 950 Jacksonville Road\, Burlington\, NJ\, 08016\, United States
END:VEVENT
BEGIN:VEVENT
DTSTART;TZID=America/New_York:20260322T100000
DTEND;TZID=America/New_York:20260322T113000
DTSTAMP:20260423T114002
CREATED:20250610T153100Z
LAST-MODIFIED:20250910T152602Z
UID:10001975-1774173600-1774179000@cbcburlingtonnj.org
SUMMARY:10 AM Sunday Service
DESCRIPTION:
URL:https://cbcburlingtonnj.org/event/10-am-sunday-service/2026-03-22/
LOCATION:Christ Baptist Church Burlington NJ\, 950 Jacksonville Road\, Burlington\, NJ\, 08016\, United States
CATEGORIES:Sunday Service
END:VEVENT
BEGIN:VEVENT
DTSTART;TZID=America/New_York:20260322T190000
DTEND;TZID=America/New_York:20260322T200000
DTSTAMP:20260423T114002
CREATED:20251013T165115Z
LAST-MODIFIED:20251013T165115Z
UID:10003045-1774206000-1774209600@cbcburlingtonnj.org
SUMMARY:Fuel for Courage
DESCRIPTION:Join Us Every Sunday at 7:00 p.m. You may participate on a “phone only” basis by calling 1 929 205 6099. Then\, when prompted\, enter the same I.D. number and access code listed above. \nZoom Meeting ID: 538 277 6972\nPasscode 160051
URL:https://cbcburlingtonnj.org/event/fuel-for-courage/2026-03-22/
LOCATION:Virtual
CATEGORIES:Bible Study
END:VEVENT
BEGIN:VEVENT
DTSTART;TZID=America/New_York:20260325T190000
DTEND;TZID=America/New_York:20260325T200000
DTSTAMP:20260423T114002
CREATED:20250610T153513Z
LAST-MODIFIED:20250610T153513Z
UID:10002242-1774465200-1774468800@cbcburlingtonnj.org
SUMMARY:Prayer Meeting
DESCRIPTION:Join us every Wednesday at 7:00 p.m. for our Prayer Meeting.\nCALL-IN NUMBER: 605 472 5657\nWhen prompted\, enter access code 2833791\nPLEASE NOTE that it is important to mute your phones when you are not praying.
URL:https://cbcburlingtonnj.org/event/prayer-meeting/2026-03-25/
LOCATION:Virtual
END:VEVENT
BEGIN:VEVENT
DTSTART;TZID=America/New_York:20260329T090000
DTEND;TZID=America/New_York:20260329T100000
DTSTAMP:20260423T114002
CREATED:20250610T153929Z
LAST-MODIFIED:20250610T153929Z
UID:10002509-1774774800-1774778400@cbcburlingtonnj.org
SUMMARY:Sunday School
DESCRIPTION:
URL:https://cbcburlingtonnj.org/event/sunday-school/2026-03-29/
LOCATION:Christ Baptist Church Burlington NJ\, 950 Jacksonville Road\, Burlington\, NJ\, 08016\, United States
END:VEVENT
BEGIN:VEVENT
DTSTART;TZID=America/New_York:20260329T100000
DTEND;TZID=America/New_York:20260329T113000
DTSTAMP:20260423T114002
CREATED:20250610T153100Z
LAST-MODIFIED:20250910T152602Z
UID:10001976-1774778400-1774783800@cbcburlingtonnj.org
SUMMARY:10 AM Sunday Service
DESCRIPTION:
URL:https://cbcburlingtonnj.org/event/10-am-sunday-service/2026-03-29/
LOCATION:Christ Baptist Church Burlington NJ\, 950 Jacksonville Road\, Burlington\, NJ\, 08016\, United States
CATEGORIES:Sunday Service
END:VEVENT
BEGIN:VEVENT
DTSTART;TZID=America/New_York:20260329T100000
DTEND;TZID=America/New_York:20260329T120000
DTSTAMP:20260423T114002
CREATED:20260212T004252Z
LAST-MODIFIED:20260212T004252Z
UID:10003558-1774778400-1774785600@cbcburlingtonnj.org
SUMMARY:Palm Sunday
DESCRIPTION:
URL:https://cbcburlingtonnj.org/event/palm-sunday-2/
LOCATION:Christ Baptist Church Burlington NJ\, 950 Jacksonville Road\, Burlington\, NJ\, 08016\, United States
CATEGORIES:Sunday Service
END:VEVENT
BEGIN:VEVENT
DTSTART;TZID=America/New_York:20260329T140000
DTEND;TZID=America/New_York:20260329T150000
DTSTAMP:20260423T114002
CREATED:20250610T155527Z
LAST-MODIFIED:20250610T155551Z
UID:10002855-1774792800-1774796400@cbcburlingtonnj.org
SUMMARY:Nursing Home Ministries (Fifth Sunday)
DESCRIPTION:When: Wynwood Rehab/HealthCare Ctr\nTime: 2:00 to 3:00 PM
URL:https://cbcburlingtonnj.org/event/nursing-home-ministries-4/2026-03-29/
LOCATION:Wynwood Rehabilitation and Healthcare Center\, 1700 Wynwood Dr\, Cinnaminson\, 08077\, United States
END:VEVENT
BEGIN:VEVENT
DTSTART;TZID=America/New_York:20260329T190000
DTEND;TZID=America/New_York:20260329T200000
DTSTAMP:20260423T114002
CREATED:20251013T165115Z
LAST-MODIFIED:20251013T165115Z
UID:10003046-1774810800-1774814400@cbcburlingtonnj.org
SUMMARY:Fuel for Courage
DESCRIPTION:Join Us Every Sunday at 7:00 p.m. You may participate on a “phone only” basis by calling 1 929 205 6099. Then\, when prompted\, enter the same I.D. number and access code listed above. \nZoom Meeting ID: 538 277 6972\nPasscode 160051
URL:https://cbcburlingtonnj.org/event/fuel-for-courage/2026-03-29/
LOCATION:Virtual
CATEGORIES:Bible Study
END:VEVENT
END:VCALENDAR