BEGIN:VCALENDAR
VERSION:2.0
PRODID:-//Christ Baptist Church - Burlington, NJ - ECPv6.15.20//NONSGML v1.0//EN
CALSCALE:GREGORIAN
METHOD:PUBLISH
X-WR-CALNAME:Christ Baptist Church - Burlington, NJ
X-ORIGINAL-URL:https://cbcburlingtonnj.org
X-WR-CALDESC:Events for Christ Baptist Church - Burlington, NJ
REFRESH-INTERVAL;VALUE=DURATION:PT1H
X-Robots-Tag:noindex
X-PUBLISHED-TTL:PT1H
BEGIN:VTIMEZONE
TZID:America/New_York
BEGIN:DAYLIGHT
TZOFFSETFROM:-0500
TZOFFSETTO:-0400
TZNAME:EDT
DTSTART:20270314T070000
END:DAYLIGHT
BEGIN:STANDARD
TZOFFSETFROM:-0400
TZOFFSETTO:-0500
TZNAME:EST
DTSTART:20271107T060000
END:STANDARD
BEGIN:DAYLIGHT
TZOFFSETFROM:-0500
TZOFFSETTO:-0400
TZNAME:EDT
DTSTART:20280312T070000
END:DAYLIGHT
BEGIN:STANDARD
TZOFFSETFROM:-0400
TZOFFSETTO:-0500
TZNAME:EST
DTSTART:20281105T060000
END:STANDARD
BEGIN:DAYLIGHT
TZOFFSETFROM:-0500
TZOFFSETTO:-0400
TZNAME:EDT
DTSTART:20290311T070000
END:DAYLIGHT
BEGIN:STANDARD
TZOFFSETFROM:-0400
TZOFFSETTO:-0500
TZNAME:EST
DTSTART:20291104T060000
END:STANDARD
END:VTIMEZONE
BEGIN:VEVENT
DTSTART;TZID=America/New_York:20280521T100000
DTEND;TZID=America/New_York:20280521T113000
DTSTAMP:20260423T235146
CREATED:20250610T153100Z
LAST-MODIFIED:20250910T152602Z
UID:10002088-1842516000-1842521400@cbcburlingtonnj.org
SUMMARY:10 AM Sunday Service
DESCRIPTION:
URL:https://cbcburlingtonnj.org/event/10-am-sunday-service/2028-05-21/
LOCATION:Christ Baptist Church Burlington NJ\, 950 Jacksonville Road\, Burlington\, NJ\, 08016\, United States
CATEGORIES:Sunday Service
END:VEVENT
BEGIN:VEVENT
DTSTART;TZID=America/New_York:20280528T100000
DTEND;TZID=America/New_York:20280528T113000
DTSTAMP:20260423T235146
CREATED:20250610T153100Z
LAST-MODIFIED:20250910T152602Z
UID:10002089-1843120800-1843126200@cbcburlingtonnj.org
SUMMARY:10 AM Sunday Service
DESCRIPTION:
URL:https://cbcburlingtonnj.org/event/10-am-sunday-service/2028-05-28/
LOCATION:Christ Baptist Church Burlington NJ\, 950 Jacksonville Road\, Burlington\, NJ\, 08016\, United States
CATEGORIES:Sunday Service
END:VEVENT
BEGIN:VEVENT
DTSTART;TZID=America/New_York:20280604T100000
DTEND;TZID=America/New_York:20280604T113000
DTSTAMP:20260423T235146
CREATED:20250610T153100Z
LAST-MODIFIED:20250910T152602Z
UID:10002090-1843725600-1843731000@cbcburlingtonnj.org
SUMMARY:10 AM Sunday Service
DESCRIPTION:
URL:https://cbcburlingtonnj.org/event/10-am-sunday-service/2028-06-04/
LOCATION:Christ Baptist Church Burlington NJ\, 950 Jacksonville Road\, Burlington\, NJ\, 08016\, United States
CATEGORIES:Sunday Service
END:VEVENT
BEGIN:VEVENT
DTSTART;TZID=America/New_York:20280611T100000
DTEND;TZID=America/New_York:20280611T113000
DTSTAMP:20260423T235146
CREATED:20250610T153100Z
LAST-MODIFIED:20250910T152602Z
UID:10002091-1844330400-1844335800@cbcburlingtonnj.org
SUMMARY:10 AM Sunday Service
DESCRIPTION:
URL:https://cbcburlingtonnj.org/event/10-am-sunday-service/2028-06-11/
LOCATION:Christ Baptist Church Burlington NJ\, 950 Jacksonville Road\, Burlington\, NJ\, 08016\, United States
CATEGORIES:Sunday Service
END:VEVENT
BEGIN:VEVENT
DTSTART;TZID=America/New_York:20280618T100000
DTEND;TZID=America/New_York:20280618T113000
DTSTAMP:20260423T235146
CREATED:20250610T153100Z
LAST-MODIFIED:20250910T152602Z
UID:10002092-1844935200-1844940600@cbcburlingtonnj.org
SUMMARY:10 AM Sunday Service
DESCRIPTION:
URL:https://cbcburlingtonnj.org/event/10-am-sunday-service/2028-06-18/
LOCATION:Christ Baptist Church Burlington NJ\, 950 Jacksonville Road\, Burlington\, NJ\, 08016\, United States
CATEGORIES:Sunday Service
END:VEVENT
BEGIN:VEVENT
DTSTART;TZID=America/New_York:20280625T100000
DTEND;TZID=America/New_York:20280625T113000
DTSTAMP:20260423T235146
CREATED:20250610T153100Z
LAST-MODIFIED:20250910T152602Z
UID:10002093-1845540000-1845545400@cbcburlingtonnj.org
SUMMARY:10 AM Sunday Service
DESCRIPTION:
URL:https://cbcburlingtonnj.org/event/10-am-sunday-service/2028-06-25/
LOCATION:Christ Baptist Church Burlington NJ\, 950 Jacksonville Road\, Burlington\, NJ\, 08016\, United States
CATEGORIES:Sunday Service
END:VEVENT
BEGIN:VEVENT
DTSTART;TZID=America/New_York:20280702T100000
DTEND;TZID=America/New_York:20280702T113000
DTSTAMP:20260423T235146
CREATED:20250610T153100Z
LAST-MODIFIED:20250910T152602Z
UID:10002094-1846144800-1846150200@cbcburlingtonnj.org
SUMMARY:10 AM Sunday Service
DESCRIPTION:
URL:https://cbcburlingtonnj.org/event/10-am-sunday-service/2028-07-02/
LOCATION:Christ Baptist Church Burlington NJ\, 950 Jacksonville Road\, Burlington\, NJ\, 08016\, United States
CATEGORIES:Sunday Service
END:VEVENT
BEGIN:VEVENT
DTSTART;TZID=America/New_York:20280709T100000
DTEND;TZID=America/New_York:20280709T113000
DTSTAMP:20260423T235146
CREATED:20250610T153100Z
LAST-MODIFIED:20250910T152602Z
UID:10002095-1846749600-1846755000@cbcburlingtonnj.org
SUMMARY:10 AM Sunday Service
DESCRIPTION:
URL:https://cbcburlingtonnj.org/event/10-am-sunday-service/2028-07-09/
LOCATION:Christ Baptist Church Burlington NJ\, 950 Jacksonville Road\, Burlington\, NJ\, 08016\, United States
CATEGORIES:Sunday Service
END:VEVENT
BEGIN:VEVENT
DTSTART;TZID=America/New_York:20280716T100000
DTEND;TZID=America/New_York:20280716T113000
DTSTAMP:20260423T235146
CREATED:20250610T153100Z
LAST-MODIFIED:20250910T152602Z
UID:10002096-1847354400-1847359800@cbcburlingtonnj.org
SUMMARY:10 AM Sunday Service
DESCRIPTION:
URL:https://cbcburlingtonnj.org/event/10-am-sunday-service/2028-07-16/
LOCATION:Christ Baptist Church Burlington NJ\, 950 Jacksonville Road\, Burlington\, NJ\, 08016\, United States
CATEGORIES:Sunday Service
END:VEVENT
BEGIN:VEVENT
DTSTART;TZID=America/New_York:20280723T100000
DTEND;TZID=America/New_York:20280723T113000
DTSTAMP:20260423T235146
CREATED:20250610T153100Z
LAST-MODIFIED:20250910T152602Z
UID:10002097-1847959200-1847964600@cbcburlingtonnj.org
SUMMARY:10 AM Sunday Service
DESCRIPTION:
URL:https://cbcburlingtonnj.org/event/10-am-sunday-service/2028-07-23/
LOCATION:Christ Baptist Church Burlington NJ\, 950 Jacksonville Road\, Burlington\, NJ\, 08016\, United States
CATEGORIES:Sunday Service
END:VEVENT
BEGIN:VEVENT
DTSTART;TZID=America/New_York:20280730T100000
DTEND;TZID=America/New_York:20280730T113000
DTSTAMP:20260423T235146
CREATED:20250610T153100Z
LAST-MODIFIED:20250910T152602Z
UID:10002098-1848564000-1848569400@cbcburlingtonnj.org
SUMMARY:10 AM Sunday Service
DESCRIPTION:
URL:https://cbcburlingtonnj.org/event/10-am-sunday-service/2028-07-30/
LOCATION:Christ Baptist Church Burlington NJ\, 950 Jacksonville Road\, Burlington\, NJ\, 08016\, United States
CATEGORIES:Sunday Service
END:VEVENT
BEGIN:VEVENT
DTSTART;TZID=America/New_York:20280806T100000
DTEND;TZID=America/New_York:20280806T113000
DTSTAMP:20260423T235146
CREATED:20250610T153100Z
LAST-MODIFIED:20250910T152602Z
UID:10002099-1849168800-1849174200@cbcburlingtonnj.org
SUMMARY:10 AM Sunday Service
DESCRIPTION:
URL:https://cbcburlingtonnj.org/event/10-am-sunday-service/2028-08-06/
LOCATION:Christ Baptist Church Burlington NJ\, 950 Jacksonville Road\, Burlington\, NJ\, 08016\, United States
CATEGORIES:Sunday Service
END:VEVENT
BEGIN:VEVENT
DTSTART;TZID=America/New_York:20280813T100000
DTEND;TZID=America/New_York:20280813T113000
DTSTAMP:20260423T235146
CREATED:20250610T153100Z
LAST-MODIFIED:20250910T152602Z
UID:10002100-1849773600-1849779000@cbcburlingtonnj.org
SUMMARY:10 AM Sunday Service
DESCRIPTION:
URL:https://cbcburlingtonnj.org/event/10-am-sunday-service/2028-08-13/
LOCATION:Christ Baptist Church Burlington NJ\, 950 Jacksonville Road\, Burlington\, NJ\, 08016\, United States
CATEGORIES:Sunday Service
END:VEVENT
BEGIN:VEVENT
DTSTART;TZID=America/New_York:20280820T100000
DTEND;TZID=America/New_York:20280820T113000
DTSTAMP:20260423T235146
CREATED:20250610T153100Z
LAST-MODIFIED:20250910T152602Z
UID:10002101-1850378400-1850383800@cbcburlingtonnj.org
SUMMARY:10 AM Sunday Service
DESCRIPTION:
URL:https://cbcburlingtonnj.org/event/10-am-sunday-service/2028-08-20/
LOCATION:Christ Baptist Church Burlington NJ\, 950 Jacksonville Road\, Burlington\, NJ\, 08016\, United States
CATEGORIES:Sunday Service
END:VEVENT
BEGIN:VEVENT
DTSTART;TZID=America/New_York:20280827T100000
DTEND;TZID=America/New_York:20280827T113000
DTSTAMP:20260423T235146
CREATED:20250610T153100Z
LAST-MODIFIED:20250910T152602Z
UID:10002102-1850983200-1850988600@cbcburlingtonnj.org
SUMMARY:10 AM Sunday Service
DESCRIPTION:
URL:https://cbcburlingtonnj.org/event/10-am-sunday-service/2028-08-27/
LOCATION:Christ Baptist Church Burlington NJ\, 950 Jacksonville Road\, Burlington\, NJ\, 08016\, United States
CATEGORIES:Sunday Service
END:VEVENT
BEGIN:VEVENT
DTSTART;TZID=America/New_York:20280903T100000
DTEND;TZID=America/New_York:20280903T113000
DTSTAMP:20260423T235146
CREATED:20250610T153100Z
LAST-MODIFIED:20250910T152602Z
UID:10002103-1851588000-1851593400@cbcburlingtonnj.org
SUMMARY:10 AM Sunday Service
DESCRIPTION:
URL:https://cbcburlingtonnj.org/event/10-am-sunday-service/2028-09-03/
LOCATION:Christ Baptist Church Burlington NJ\, 950 Jacksonville Road\, Burlington\, NJ\, 08016\, United States
CATEGORIES:Sunday Service
END:VEVENT
BEGIN:VEVENT
DTSTART;TZID=America/New_York:20280910T100000
DTEND;TZID=America/New_York:20280910T113000
DTSTAMP:20260423T235146
CREATED:20250610T153100Z
LAST-MODIFIED:20250910T152602Z
UID:10002104-1852192800-1852198200@cbcburlingtonnj.org
SUMMARY:10 AM Sunday Service
DESCRIPTION:
URL:https://cbcburlingtonnj.org/event/10-am-sunday-service/2028-09-10/
LOCATION:Christ Baptist Church Burlington NJ\, 950 Jacksonville Road\, Burlington\, NJ\, 08016\, United States
CATEGORIES:Sunday Service
END:VEVENT
BEGIN:VEVENT
DTSTART;TZID=America/New_York:20280917T100000
DTEND;TZID=America/New_York:20280917T113000
DTSTAMP:20260423T235146
CREATED:20250610T153100Z
LAST-MODIFIED:20250910T152602Z
UID:10002105-1852797600-1852803000@cbcburlingtonnj.org
SUMMARY:10 AM Sunday Service
DESCRIPTION:
URL:https://cbcburlingtonnj.org/event/10-am-sunday-service/2028-09-17/
LOCATION:Christ Baptist Church Burlington NJ\, 950 Jacksonville Road\, Burlington\, NJ\, 08016\, United States
CATEGORIES:Sunday Service
END:VEVENT
BEGIN:VEVENT
DTSTART;TZID=America/New_York:20280924T100000
DTEND;TZID=America/New_York:20280924T113000
DTSTAMP:20260423T235146
CREATED:20250610T153100Z
LAST-MODIFIED:20250910T152602Z
UID:10002106-1853402400-1853407800@cbcburlingtonnj.org
SUMMARY:10 AM Sunday Service
DESCRIPTION:
URL:https://cbcburlingtonnj.org/event/10-am-sunday-service/2028-09-24/
LOCATION:Christ Baptist Church Burlington NJ\, 950 Jacksonville Road\, Burlington\, NJ\, 08016\, United States
CATEGORIES:Sunday Service
END:VEVENT
BEGIN:VEVENT
DTSTART;TZID=America/New_York:20281001T100000
DTEND;TZID=America/New_York:20281001T113000
DTSTAMP:20260423T235146
CREATED:20250610T153100Z
LAST-MODIFIED:20250910T152602Z
UID:10002107-1854007200-1854012600@cbcburlingtonnj.org
SUMMARY:10 AM Sunday Service
DESCRIPTION:
URL:https://cbcburlingtonnj.org/event/10-am-sunday-service/2028-10-01/
LOCATION:Christ Baptist Church Burlington NJ\, 950 Jacksonville Road\, Burlington\, NJ\, 08016\, United States
CATEGORIES:Sunday Service
END:VEVENT
BEGIN:VEVENT
DTSTART;TZID=America/New_York:20281008T100000
DTEND;TZID=America/New_York:20281008T113000
DTSTAMP:20260423T235146
CREATED:20250610T153100Z
LAST-MODIFIED:20250910T152602Z
UID:10002108-1854612000-1854617400@cbcburlingtonnj.org
SUMMARY:10 AM Sunday Service
DESCRIPTION:
URL:https://cbcburlingtonnj.org/event/10-am-sunday-service/2028-10-08/
LOCATION:Christ Baptist Church Burlington NJ\, 950 Jacksonville Road\, Burlington\, NJ\, 08016\, United States
CATEGORIES:Sunday Service
END:VEVENT
BEGIN:VEVENT
DTSTART;TZID=America/New_York:20281015T100000
DTEND;TZID=America/New_York:20281015T113000
DTSTAMP:20260423T235146
CREATED:20250610T153100Z
LAST-MODIFIED:20250910T152602Z
UID:10002109-1855216800-1855222200@cbcburlingtonnj.org
SUMMARY:10 AM Sunday Service
DESCRIPTION:
URL:https://cbcburlingtonnj.org/event/10-am-sunday-service/2028-10-15/
LOCATION:Christ Baptist Church Burlington NJ\, 950 Jacksonville Road\, Burlington\, NJ\, 08016\, United States
CATEGORIES:Sunday Service
END:VEVENT
BEGIN:VEVENT
DTSTART;TZID=America/New_York:20281022T100000
DTEND;TZID=America/New_York:20281022T113000
DTSTAMP:20260423T235146
CREATED:20250610T153100Z
LAST-MODIFIED:20250910T152602Z
UID:10002110-1855821600-1855827000@cbcburlingtonnj.org
SUMMARY:10 AM Sunday Service
DESCRIPTION:
URL:https://cbcburlingtonnj.org/event/10-am-sunday-service/2028-10-22/
LOCATION:Christ Baptist Church Burlington NJ\, 950 Jacksonville Road\, Burlington\, NJ\, 08016\, United States
CATEGORIES:Sunday Service
END:VEVENT
BEGIN:VEVENT
DTSTART;TZID=America/New_York:20281029T100000
DTEND;TZID=America/New_York:20281029T113000
DTSTAMP:20260423T235146
CREATED:20250610T153100Z
LAST-MODIFIED:20250910T152602Z
UID:10002111-1856426400-1856431800@cbcburlingtonnj.org
SUMMARY:10 AM Sunday Service
DESCRIPTION:
URL:https://cbcburlingtonnj.org/event/10-am-sunday-service/2028-10-29/
LOCATION:Christ Baptist Church Burlington NJ\, 950 Jacksonville Road\, Burlington\, NJ\, 08016\, United States
CATEGORIES:Sunday Service
END:VEVENT
BEGIN:VEVENT
DTSTART;TZID=America/New_York:20281105T100000
DTEND;TZID=America/New_York:20281105T113000
DTSTAMP:20260423T235146
CREATED:20250610T153100Z
LAST-MODIFIED:20250910T152602Z
UID:10002112-1857031200-1857036600@cbcburlingtonnj.org
SUMMARY:10 AM Sunday Service
DESCRIPTION:
URL:https://cbcburlingtonnj.org/event/10-am-sunday-service/2028-11-05/
LOCATION:Christ Baptist Church Burlington NJ\, 950 Jacksonville Road\, Burlington\, NJ\, 08016\, United States
CATEGORIES:Sunday Service
END:VEVENT
BEGIN:VEVENT
DTSTART;TZID=America/New_York:20281112T100000
DTEND;TZID=America/New_York:20281112T113000
DTSTAMP:20260423T235146
CREATED:20250610T153100Z
LAST-MODIFIED:20250910T152602Z
UID:10002113-1857636000-1857641400@cbcburlingtonnj.org
SUMMARY:10 AM Sunday Service
DESCRIPTION:
URL:https://cbcburlingtonnj.org/event/10-am-sunday-service/2028-11-12/
LOCATION:Christ Baptist Church Burlington NJ\, 950 Jacksonville Road\, Burlington\, NJ\, 08016\, United States
CATEGORIES:Sunday Service
END:VEVENT
BEGIN:VEVENT
DTSTART;TZID=America/New_York:20281119T100000
DTEND;TZID=America/New_York:20281119T113000
DTSTAMP:20260423T235146
CREATED:20250610T153100Z
LAST-MODIFIED:20250910T152602Z
UID:10002114-1858240800-1858246200@cbcburlingtonnj.org
SUMMARY:10 AM Sunday Service
DESCRIPTION:
URL:https://cbcburlingtonnj.org/event/10-am-sunday-service/2028-11-19/
LOCATION:Christ Baptist Church Burlington NJ\, 950 Jacksonville Road\, Burlington\, NJ\, 08016\, United States
CATEGORIES:Sunday Service
END:VEVENT
BEGIN:VEVENT
DTSTART;TZID=America/New_York:20281126T100000
DTEND;TZID=America/New_York:20281126T113000
DTSTAMP:20260423T235146
CREATED:20250610T153100Z
LAST-MODIFIED:20250910T152602Z
UID:10002115-1858845600-1858851000@cbcburlingtonnj.org
SUMMARY:10 AM Sunday Service
DESCRIPTION:
URL:https://cbcburlingtonnj.org/event/10-am-sunday-service/2028-11-26/
LOCATION:Christ Baptist Church Burlington NJ\, 950 Jacksonville Road\, Burlington\, NJ\, 08016\, United States
CATEGORIES:Sunday Service
END:VEVENT
BEGIN:VEVENT
DTSTART;TZID=America/New_York:20281203T100000
DTEND;TZID=America/New_York:20281203T113000
DTSTAMP:20260423T235146
CREATED:20250610T153100Z
LAST-MODIFIED:20250910T152602Z
UID:10002116-1859450400-1859455800@cbcburlingtonnj.org
SUMMARY:10 AM Sunday Service
DESCRIPTION:
URL:https://cbcburlingtonnj.org/event/10-am-sunday-service/2028-12-03/
LOCATION:Christ Baptist Church Burlington NJ\, 950 Jacksonville Road\, Burlington\, NJ\, 08016\, United States
CATEGORIES:Sunday Service
END:VEVENT
BEGIN:VEVENT
DTSTART;TZID=America/New_York:20281210T100000
DTEND;TZID=America/New_York:20281210T113000
DTSTAMP:20260423T235146
CREATED:20250610T153100Z
LAST-MODIFIED:20250910T152602Z
UID:10002117-1860055200-1860060600@cbcburlingtonnj.org
SUMMARY:10 AM Sunday Service
DESCRIPTION:
URL:https://cbcburlingtonnj.org/event/10-am-sunday-service/2028-12-10/
LOCATION:Christ Baptist Church Burlington NJ\, 950 Jacksonville Road\, Burlington\, NJ\, 08016\, United States
CATEGORIES:Sunday Service
END:VEVENT
END:VCALENDAR