BEGIN:VCALENDAR
VERSION:2.0
PRODID:-//Christ Baptist Church - Burlington, NJ - ECPv6.15.20//NONSGML v1.0//EN
CALSCALE:GREGORIAN
METHOD:PUBLISH
X-WR-CALNAME:Christ Baptist Church - Burlington, NJ
X-ORIGINAL-URL:https://cbcburlingtonnj.org
X-WR-CALDESC:Events for Christ Baptist Church - Burlington, NJ
REFRESH-INTERVAL;VALUE=DURATION:PT1H
X-Robots-Tag:noindex
X-PUBLISHED-TTL:PT1H
BEGIN:VTIMEZONE
TZID:America/New_York
BEGIN:DAYLIGHT
TZOFFSETFROM:-0500
TZOFFSETTO:-0400
TZNAME:EDT
DTSTART:20270314T070000
END:DAYLIGHT
BEGIN:STANDARD
TZOFFSETFROM:-0400
TZOFFSETTO:-0500
TZNAME:EST
DTSTART:20271107T060000
END:STANDARD
BEGIN:DAYLIGHT
TZOFFSETFROM:-0500
TZOFFSETTO:-0400
TZNAME:EDT
DTSTART:20280312T070000
END:DAYLIGHT
BEGIN:STANDARD
TZOFFSETFROM:-0400
TZOFFSETTO:-0500
TZNAME:EST
DTSTART:20281105T060000
END:STANDARD
BEGIN:DAYLIGHT
TZOFFSETFROM:-0500
TZOFFSETTO:-0400
TZNAME:EDT
DTSTART:20290311T070000
END:DAYLIGHT
BEGIN:STANDARD
TZOFFSETFROM:-0400
TZOFFSETTO:-0500
TZNAME:EST
DTSTART:20291104T060000
END:STANDARD
END:VTIMEZONE
BEGIN:VEVENT
DTSTART;TZID=America/New_York:20280524T190000
DTEND;TZID=America/New_York:20280524T200000
DTSTAMP:20260423T221440
CREATED:20250610T153513Z
LAST-MODIFIED:20250610T153513Z
UID:10002355-1842807600-1842811200@cbcburlingtonnj.org
SUMMARY:Prayer Meeting
DESCRIPTION:Join us every Wednesday at 7:00 p.m. for our Prayer Meeting.\nCALL-IN NUMBER: 605 472 5657\nWhen prompted\, enter access code 2833791\nPLEASE NOTE that it is important to mute your phones when you are not praying.
URL:https://cbcburlingtonnj.org/event/prayer-meeting/2028-05-24/
LOCATION:Virtual
END:VEVENT
BEGIN:VEVENT
DTSTART;TZID=America/New_York:20280531T190000
DTEND;TZID=America/New_York:20280531T200000
DTSTAMP:20260423T221440
CREATED:20250610T153513Z
LAST-MODIFIED:20250610T153513Z
UID:10002356-1843412400-1843416000@cbcburlingtonnj.org
SUMMARY:Prayer Meeting
DESCRIPTION:Join us every Wednesday at 7:00 p.m. for our Prayer Meeting.\nCALL-IN NUMBER: 605 472 5657\nWhen prompted\, enter access code 2833791\nPLEASE NOTE that it is important to mute your phones when you are not praying.
URL:https://cbcburlingtonnj.org/event/prayer-meeting/2028-05-31/
LOCATION:Virtual
END:VEVENT
BEGIN:VEVENT
DTSTART;TZID=America/New_York:20280607T190000
DTEND;TZID=America/New_York:20280607T200000
DTSTAMP:20260423T221440
CREATED:20250610T153513Z
LAST-MODIFIED:20250610T153513Z
UID:10002357-1844017200-1844020800@cbcburlingtonnj.org
SUMMARY:Prayer Meeting
DESCRIPTION:Join us every Wednesday at 7:00 p.m. for our Prayer Meeting.\nCALL-IN NUMBER: 605 472 5657\nWhen prompted\, enter access code 2833791\nPLEASE NOTE that it is important to mute your phones when you are not praying.
URL:https://cbcburlingtonnj.org/event/prayer-meeting/2028-06-07/
LOCATION:Virtual
END:VEVENT
BEGIN:VEVENT
DTSTART;TZID=America/New_York:20280614T190000
DTEND;TZID=America/New_York:20280614T200000
DTSTAMP:20260423T221440
CREATED:20250610T153513Z
LAST-MODIFIED:20250610T153513Z
UID:10002358-1844622000-1844625600@cbcburlingtonnj.org
SUMMARY:Prayer Meeting
DESCRIPTION:Join us every Wednesday at 7:00 p.m. for our Prayer Meeting.\nCALL-IN NUMBER: 605 472 5657\nWhen prompted\, enter access code 2833791\nPLEASE NOTE that it is important to mute your phones when you are not praying.
URL:https://cbcburlingtonnj.org/event/prayer-meeting/2028-06-14/
LOCATION:Virtual
END:VEVENT
BEGIN:VEVENT
DTSTART;TZID=America/New_York:20280621T190000
DTEND;TZID=America/New_York:20280621T200000
DTSTAMP:20260423T221440
CREATED:20250610T153513Z
LAST-MODIFIED:20250610T153513Z
UID:10002359-1845226800-1845230400@cbcburlingtonnj.org
SUMMARY:Prayer Meeting
DESCRIPTION:Join us every Wednesday at 7:00 p.m. for our Prayer Meeting.\nCALL-IN NUMBER: 605 472 5657\nWhen prompted\, enter access code 2833791\nPLEASE NOTE that it is important to mute your phones when you are not praying.
URL:https://cbcburlingtonnj.org/event/prayer-meeting/2028-06-21/
LOCATION:Virtual
END:VEVENT
BEGIN:VEVENT
DTSTART;TZID=America/New_York:20280628T190000
DTEND;TZID=America/New_York:20280628T200000
DTSTAMP:20260423T221440
CREATED:20250610T153513Z
LAST-MODIFIED:20250610T153513Z
UID:10002360-1845831600-1845835200@cbcburlingtonnj.org
SUMMARY:Prayer Meeting
DESCRIPTION:Join us every Wednesday at 7:00 p.m. for our Prayer Meeting.\nCALL-IN NUMBER: 605 472 5657\nWhen prompted\, enter access code 2833791\nPLEASE NOTE that it is important to mute your phones when you are not praying.
URL:https://cbcburlingtonnj.org/event/prayer-meeting/2028-06-28/
LOCATION:Virtual
END:VEVENT
BEGIN:VEVENT
DTSTART;TZID=America/New_York:20280705T190000
DTEND;TZID=America/New_York:20280705T200000
DTSTAMP:20260423T221440
CREATED:20250610T153513Z
LAST-MODIFIED:20250610T153513Z
UID:10002361-1846436400-1846440000@cbcburlingtonnj.org
SUMMARY:Prayer Meeting
DESCRIPTION:Join us every Wednesday at 7:00 p.m. for our Prayer Meeting.\nCALL-IN NUMBER: 605 472 5657\nWhen prompted\, enter access code 2833791\nPLEASE NOTE that it is important to mute your phones when you are not praying.
URL:https://cbcburlingtonnj.org/event/prayer-meeting/2028-07-05/
LOCATION:Virtual
END:VEVENT
BEGIN:VEVENT
DTSTART;TZID=America/New_York:20280712T190000
DTEND;TZID=America/New_York:20280712T200000
DTSTAMP:20260423T221440
CREATED:20250610T153513Z
LAST-MODIFIED:20250610T153513Z
UID:10002362-1847041200-1847044800@cbcburlingtonnj.org
SUMMARY:Prayer Meeting
DESCRIPTION:Join us every Wednesday at 7:00 p.m. for our Prayer Meeting.\nCALL-IN NUMBER: 605 472 5657\nWhen prompted\, enter access code 2833791\nPLEASE NOTE that it is important to mute your phones when you are not praying.
URL:https://cbcburlingtonnj.org/event/prayer-meeting/2028-07-12/
LOCATION:Virtual
END:VEVENT
BEGIN:VEVENT
DTSTART;TZID=America/New_York:20280719T190000
DTEND;TZID=America/New_York:20280719T200000
DTSTAMP:20260423T221440
CREATED:20250610T153513Z
LAST-MODIFIED:20250610T153513Z
UID:10002363-1847646000-1847649600@cbcburlingtonnj.org
SUMMARY:Prayer Meeting
DESCRIPTION:Join us every Wednesday at 7:00 p.m. for our Prayer Meeting.\nCALL-IN NUMBER: 605 472 5657\nWhen prompted\, enter access code 2833791\nPLEASE NOTE that it is important to mute your phones when you are not praying.
URL:https://cbcburlingtonnj.org/event/prayer-meeting/2028-07-19/
LOCATION:Virtual
END:VEVENT
BEGIN:VEVENT
DTSTART;TZID=America/New_York:20280726T190000
DTEND;TZID=America/New_York:20280726T200000
DTSTAMP:20260423T221440
CREATED:20250610T153513Z
LAST-MODIFIED:20250610T153513Z
UID:10002364-1848250800-1848254400@cbcburlingtonnj.org
SUMMARY:Prayer Meeting
DESCRIPTION:Join us every Wednesday at 7:00 p.m. for our Prayer Meeting.\nCALL-IN NUMBER: 605 472 5657\nWhen prompted\, enter access code 2833791\nPLEASE NOTE that it is important to mute your phones when you are not praying.
URL:https://cbcburlingtonnj.org/event/prayer-meeting/2028-07-26/
LOCATION:Virtual
END:VEVENT
BEGIN:VEVENT
DTSTART;TZID=America/New_York:20280802T190000
DTEND;TZID=America/New_York:20280802T200000
DTSTAMP:20260423T221440
CREATED:20250610T153513Z
LAST-MODIFIED:20250610T153513Z
UID:10002365-1848855600-1848859200@cbcburlingtonnj.org
SUMMARY:Prayer Meeting
DESCRIPTION:Join us every Wednesday at 7:00 p.m. for our Prayer Meeting.\nCALL-IN NUMBER: 605 472 5657\nWhen prompted\, enter access code 2833791\nPLEASE NOTE that it is important to mute your phones when you are not praying.
URL:https://cbcburlingtonnj.org/event/prayer-meeting/2028-08-02/
LOCATION:Virtual
END:VEVENT
BEGIN:VEVENT
DTSTART;TZID=America/New_York:20280809T190000
DTEND;TZID=America/New_York:20280809T200000
DTSTAMP:20260423T221440
CREATED:20250610T153513Z
LAST-MODIFIED:20250610T153513Z
UID:10002366-1849460400-1849464000@cbcburlingtonnj.org
SUMMARY:Prayer Meeting
DESCRIPTION:Join us every Wednesday at 7:00 p.m. for our Prayer Meeting.\nCALL-IN NUMBER: 605 472 5657\nWhen prompted\, enter access code 2833791\nPLEASE NOTE that it is important to mute your phones when you are not praying.
URL:https://cbcburlingtonnj.org/event/prayer-meeting/2028-08-09/
LOCATION:Virtual
END:VEVENT
BEGIN:VEVENT
DTSTART;TZID=America/New_York:20280816T190000
DTEND;TZID=America/New_York:20280816T200000
DTSTAMP:20260423T221440
CREATED:20250610T153513Z
LAST-MODIFIED:20250610T153513Z
UID:10002367-1850065200-1850068800@cbcburlingtonnj.org
SUMMARY:Prayer Meeting
DESCRIPTION:Join us every Wednesday at 7:00 p.m. for our Prayer Meeting.\nCALL-IN NUMBER: 605 472 5657\nWhen prompted\, enter access code 2833791\nPLEASE NOTE that it is important to mute your phones when you are not praying.
URL:https://cbcburlingtonnj.org/event/prayer-meeting/2028-08-16/
LOCATION:Virtual
END:VEVENT
BEGIN:VEVENT
DTSTART;TZID=America/New_York:20280823T190000
DTEND;TZID=America/New_York:20280823T200000
DTSTAMP:20260423T221440
CREATED:20250610T153513Z
LAST-MODIFIED:20250610T153513Z
UID:10002368-1850670000-1850673600@cbcburlingtonnj.org
SUMMARY:Prayer Meeting
DESCRIPTION:Join us every Wednesday at 7:00 p.m. for our Prayer Meeting.\nCALL-IN NUMBER: 605 472 5657\nWhen prompted\, enter access code 2833791\nPLEASE NOTE that it is important to mute your phones when you are not praying.
URL:https://cbcburlingtonnj.org/event/prayer-meeting/2028-08-23/
LOCATION:Virtual
END:VEVENT
BEGIN:VEVENT
DTSTART;TZID=America/New_York:20280830T190000
DTEND;TZID=America/New_York:20280830T200000
DTSTAMP:20260423T221440
CREATED:20250610T153513Z
LAST-MODIFIED:20250610T153513Z
UID:10002369-1851274800-1851278400@cbcburlingtonnj.org
SUMMARY:Prayer Meeting
DESCRIPTION:Join us every Wednesday at 7:00 p.m. for our Prayer Meeting.\nCALL-IN NUMBER: 605 472 5657\nWhen prompted\, enter access code 2833791\nPLEASE NOTE that it is important to mute your phones when you are not praying.
URL:https://cbcburlingtonnj.org/event/prayer-meeting/2028-08-30/
LOCATION:Virtual
END:VEVENT
BEGIN:VEVENT
DTSTART;TZID=America/New_York:20280906T190000
DTEND;TZID=America/New_York:20280906T200000
DTSTAMP:20260423T221440
CREATED:20250610T153513Z
LAST-MODIFIED:20250610T153513Z
UID:10002370-1851879600-1851883200@cbcburlingtonnj.org
SUMMARY:Prayer Meeting
DESCRIPTION:Join us every Wednesday at 7:00 p.m. for our Prayer Meeting.\nCALL-IN NUMBER: 605 472 5657\nWhen prompted\, enter access code 2833791\nPLEASE NOTE that it is important to mute your phones when you are not praying.
URL:https://cbcburlingtonnj.org/event/prayer-meeting/2028-09-06/
LOCATION:Virtual
END:VEVENT
BEGIN:VEVENT
DTSTART;TZID=America/New_York:20280913T190000
DTEND;TZID=America/New_York:20280913T200000
DTSTAMP:20260423T221440
CREATED:20250610T153513Z
LAST-MODIFIED:20250610T153513Z
UID:10002371-1852484400-1852488000@cbcburlingtonnj.org
SUMMARY:Prayer Meeting
DESCRIPTION:Join us every Wednesday at 7:00 p.m. for our Prayer Meeting.\nCALL-IN NUMBER: 605 472 5657\nWhen prompted\, enter access code 2833791\nPLEASE NOTE that it is important to mute your phones when you are not praying.
URL:https://cbcburlingtonnj.org/event/prayer-meeting/2028-09-13/
LOCATION:Virtual
END:VEVENT
BEGIN:VEVENT
DTSTART;TZID=America/New_York:20280920T190000
DTEND;TZID=America/New_York:20280920T200000
DTSTAMP:20260423T221440
CREATED:20250610T153513Z
LAST-MODIFIED:20250610T153513Z
UID:10002372-1853089200-1853092800@cbcburlingtonnj.org
SUMMARY:Prayer Meeting
DESCRIPTION:Join us every Wednesday at 7:00 p.m. for our Prayer Meeting.\nCALL-IN NUMBER: 605 472 5657\nWhen prompted\, enter access code 2833791\nPLEASE NOTE that it is important to mute your phones when you are not praying.
URL:https://cbcburlingtonnj.org/event/prayer-meeting/2028-09-20/
LOCATION:Virtual
END:VEVENT
BEGIN:VEVENT
DTSTART;TZID=America/New_York:20280927T190000
DTEND;TZID=America/New_York:20280927T200000
DTSTAMP:20260423T221440
CREATED:20250610T153513Z
LAST-MODIFIED:20250610T153513Z
UID:10002373-1853694000-1853697600@cbcburlingtonnj.org
SUMMARY:Prayer Meeting
DESCRIPTION:Join us every Wednesday at 7:00 p.m. for our Prayer Meeting.\nCALL-IN NUMBER: 605 472 5657\nWhen prompted\, enter access code 2833791\nPLEASE NOTE that it is important to mute your phones when you are not praying.
URL:https://cbcburlingtonnj.org/event/prayer-meeting/2028-09-27/
LOCATION:Virtual
END:VEVENT
BEGIN:VEVENT
DTSTART;TZID=America/New_York:20281004T190000
DTEND;TZID=America/New_York:20281004T200000
DTSTAMP:20260423T221440
CREATED:20250610T153513Z
LAST-MODIFIED:20250610T153513Z
UID:10002374-1854298800-1854302400@cbcburlingtonnj.org
SUMMARY:Prayer Meeting
DESCRIPTION:Join us every Wednesday at 7:00 p.m. for our Prayer Meeting.\nCALL-IN NUMBER: 605 472 5657\nWhen prompted\, enter access code 2833791\nPLEASE NOTE that it is important to mute your phones when you are not praying.
URL:https://cbcburlingtonnj.org/event/prayer-meeting/2028-10-04/
LOCATION:Virtual
END:VEVENT
BEGIN:VEVENT
DTSTART;TZID=America/New_York:20281011T190000
DTEND;TZID=America/New_York:20281011T200000
DTSTAMP:20260423T221440
CREATED:20250610T153513Z
LAST-MODIFIED:20250610T153513Z
UID:10002375-1854903600-1854907200@cbcburlingtonnj.org
SUMMARY:Prayer Meeting
DESCRIPTION:Join us every Wednesday at 7:00 p.m. for our Prayer Meeting.\nCALL-IN NUMBER: 605 472 5657\nWhen prompted\, enter access code 2833791\nPLEASE NOTE that it is important to mute your phones when you are not praying.
URL:https://cbcburlingtonnj.org/event/prayer-meeting/2028-10-11/
LOCATION:Virtual
END:VEVENT
BEGIN:VEVENT
DTSTART;TZID=America/New_York:20281018T190000
DTEND;TZID=America/New_York:20281018T200000
DTSTAMP:20260423T221440
CREATED:20250610T153513Z
LAST-MODIFIED:20250610T153513Z
UID:10002376-1855508400-1855512000@cbcburlingtonnj.org
SUMMARY:Prayer Meeting
DESCRIPTION:Join us every Wednesday at 7:00 p.m. for our Prayer Meeting.\nCALL-IN NUMBER: 605 472 5657\nWhen prompted\, enter access code 2833791\nPLEASE NOTE that it is important to mute your phones when you are not praying.
URL:https://cbcburlingtonnj.org/event/prayer-meeting/2028-10-18/
LOCATION:Virtual
END:VEVENT
BEGIN:VEVENT
DTSTART;TZID=America/New_York:20281025T190000
DTEND;TZID=America/New_York:20281025T200000
DTSTAMP:20260423T221440
CREATED:20250610T153513Z
LAST-MODIFIED:20250610T153513Z
UID:10002377-1856113200-1856116800@cbcburlingtonnj.org
SUMMARY:Prayer Meeting
DESCRIPTION:Join us every Wednesday at 7:00 p.m. for our Prayer Meeting.\nCALL-IN NUMBER: 605 472 5657\nWhen prompted\, enter access code 2833791\nPLEASE NOTE that it is important to mute your phones when you are not praying.
URL:https://cbcburlingtonnj.org/event/prayer-meeting/2028-10-25/
LOCATION:Virtual
END:VEVENT
BEGIN:VEVENT
DTSTART;TZID=America/New_York:20281101T190000
DTEND;TZID=America/New_York:20281101T200000
DTSTAMP:20260423T221440
CREATED:20250610T153513Z
LAST-MODIFIED:20250610T153513Z
UID:10002378-1856718000-1856721600@cbcburlingtonnj.org
SUMMARY:Prayer Meeting
DESCRIPTION:Join us every Wednesday at 7:00 p.m. for our Prayer Meeting.\nCALL-IN NUMBER: 605 472 5657\nWhen prompted\, enter access code 2833791\nPLEASE NOTE that it is important to mute your phones when you are not praying.
URL:https://cbcburlingtonnj.org/event/prayer-meeting/2028-11-01/
LOCATION:Virtual
END:VEVENT
BEGIN:VEVENT
DTSTART;TZID=America/New_York:20281108T190000
DTEND;TZID=America/New_York:20281108T200000
DTSTAMP:20260423T221440
CREATED:20250610T153513Z
LAST-MODIFIED:20250610T153513Z
UID:10002379-1857322800-1857326400@cbcburlingtonnj.org
SUMMARY:Prayer Meeting
DESCRIPTION:Join us every Wednesday at 7:00 p.m. for our Prayer Meeting.\nCALL-IN NUMBER: 605 472 5657\nWhen prompted\, enter access code 2833791\nPLEASE NOTE that it is important to mute your phones when you are not praying.
URL:https://cbcburlingtonnj.org/event/prayer-meeting/2028-11-08/
LOCATION:Virtual
END:VEVENT
BEGIN:VEVENT
DTSTART;TZID=America/New_York:20281115T190000
DTEND;TZID=America/New_York:20281115T200000
DTSTAMP:20260423T221440
CREATED:20250610T153513Z
LAST-MODIFIED:20250610T153513Z
UID:10002380-1857927600-1857931200@cbcburlingtonnj.org
SUMMARY:Prayer Meeting
DESCRIPTION:Join us every Wednesday at 7:00 p.m. for our Prayer Meeting.\nCALL-IN NUMBER: 605 472 5657\nWhen prompted\, enter access code 2833791\nPLEASE NOTE that it is important to mute your phones when you are not praying.
URL:https://cbcburlingtonnj.org/event/prayer-meeting/2028-11-15/
LOCATION:Virtual
END:VEVENT
BEGIN:VEVENT
DTSTART;TZID=America/New_York:20281122T190000
DTEND;TZID=America/New_York:20281122T200000
DTSTAMP:20260423T221440
CREATED:20250610T153513Z
LAST-MODIFIED:20250610T153513Z
UID:10002381-1858532400-1858536000@cbcburlingtonnj.org
SUMMARY:Prayer Meeting
DESCRIPTION:Join us every Wednesday at 7:00 p.m. for our Prayer Meeting.\nCALL-IN NUMBER: 605 472 5657\nWhen prompted\, enter access code 2833791\nPLEASE NOTE that it is important to mute your phones when you are not praying.
URL:https://cbcburlingtonnj.org/event/prayer-meeting/2028-11-22/
LOCATION:Virtual
END:VEVENT
BEGIN:VEVENT
DTSTART;TZID=America/New_York:20281129T190000
DTEND;TZID=America/New_York:20281129T200000
DTSTAMP:20260423T221440
CREATED:20250610T153513Z
LAST-MODIFIED:20250610T153513Z
UID:10002382-1859137200-1859140800@cbcburlingtonnj.org
SUMMARY:Prayer Meeting
DESCRIPTION:Join us every Wednesday at 7:00 p.m. for our Prayer Meeting.\nCALL-IN NUMBER: 605 472 5657\nWhen prompted\, enter access code 2833791\nPLEASE NOTE that it is important to mute your phones when you are not praying.
URL:https://cbcburlingtonnj.org/event/prayer-meeting/2028-11-29/
LOCATION:Virtual
END:VEVENT
BEGIN:VEVENT
DTSTART;TZID=America/New_York:20281206T190000
DTEND;TZID=America/New_York:20281206T200000
DTSTAMP:20260423T221440
CREATED:20250610T153513Z
LAST-MODIFIED:20250610T153513Z
UID:10002383-1859742000-1859745600@cbcburlingtonnj.org
SUMMARY:Prayer Meeting
DESCRIPTION:Join us every Wednesday at 7:00 p.m. for our Prayer Meeting.\nCALL-IN NUMBER: 605 472 5657\nWhen prompted\, enter access code 2833791\nPLEASE NOTE that it is important to mute your phones when you are not praying.
URL:https://cbcburlingtonnj.org/event/prayer-meeting/2028-12-06/
LOCATION:Virtual
END:VEVENT
BEGIN:VEVENT
DTSTART;TZID=America/New_York:20281213T190000
DTEND;TZID=America/New_York:20281213T200000
DTSTAMP:20260423T221440
CREATED:20250610T153513Z
LAST-MODIFIED:20250610T153513Z
UID:10002384-1860346800-1860350400@cbcburlingtonnj.org
SUMMARY:Prayer Meeting
DESCRIPTION:Join us every Wednesday at 7:00 p.m. for our Prayer Meeting.\nCALL-IN NUMBER: 605 472 5657\nWhen prompted\, enter access code 2833791\nPLEASE NOTE that it is important to mute your phones when you are not praying.
URL:https://cbcburlingtonnj.org/event/prayer-meeting/2028-12-13/
LOCATION:Virtual
END:VEVENT
END:VCALENDAR