BEGIN:VCALENDAR
VERSION:2.0
PRODID:-//Christ Baptist Church - Burlington, NJ - ECPv6.15.20//NONSGML v1.0//EN
CALSCALE:GREGORIAN
METHOD:PUBLISH
X-WR-CALNAME:Christ Baptist Church - Burlington, NJ
X-ORIGINAL-URL:https://cbcburlingtonnj.org
X-WR-CALDESC:Events for Christ Baptist Church - Burlington, NJ
REFRESH-INTERVAL;VALUE=DURATION:PT1H
X-Robots-Tag:noindex
X-PUBLISHED-TTL:PT1H
BEGIN:VTIMEZONE
TZID:America/New_York
BEGIN:DAYLIGHT
TZOFFSETFROM:-0500
TZOFFSETTO:-0400
TZNAME:EDT
DTSTART:20270314T070000
END:DAYLIGHT
BEGIN:STANDARD
TZOFFSETFROM:-0400
TZOFFSETTO:-0500
TZNAME:EST
DTSTART:20271107T060000
END:STANDARD
BEGIN:DAYLIGHT
TZOFFSETFROM:-0500
TZOFFSETTO:-0400
TZNAME:EDT
DTSTART:20280312T070000
END:DAYLIGHT
BEGIN:STANDARD
TZOFFSETFROM:-0400
TZOFFSETTO:-0500
TZNAME:EST
DTSTART:20281105T060000
END:STANDARD
BEGIN:DAYLIGHT
TZOFFSETFROM:-0500
TZOFFSETTO:-0400
TZNAME:EDT
DTSTART:20290311T070000
END:DAYLIGHT
BEGIN:STANDARD
TZOFFSETFROM:-0400
TZOFFSETTO:-0500
TZNAME:EST
DTSTART:20291104T060000
END:STANDARD
BEGIN:DAYLIGHT
TZOFFSETFROM:-0500
TZOFFSETTO:-0400
TZNAME:EDT
DTSTART:20300310T070000
END:DAYLIGHT
BEGIN:STANDARD
TZOFFSETFROM:-0400
TZOFFSETTO:-0500
TZNAME:EST
DTSTART:20301103T060000
END:STANDARD
END:VTIMEZONE
BEGIN:VEVENT
DTSTART;TZID=America/New_York:20280813T090000
DTEND;TZID=America/New_York:20280813T100000
DTSTAMP:20260424T003725
CREATED:20250610T153929Z
LAST-MODIFIED:20250610T153929Z
UID:10002633-1849770000-1849773600@cbcburlingtonnj.org
SUMMARY:Sunday School
DESCRIPTION:
URL:https://cbcburlingtonnj.org/event/sunday-school/2028-08-13/
LOCATION:Christ Baptist Church Burlington NJ\, 950 Jacksonville Road\, Burlington\, NJ\, 08016\, United States
END:VEVENT
BEGIN:VEVENT
DTSTART;TZID=America/New_York:20280820T090000
DTEND;TZID=America/New_York:20280820T100000
DTSTAMP:20260424T003725
CREATED:20250610T153929Z
LAST-MODIFIED:20250610T153929Z
UID:10002634-1850374800-1850378400@cbcburlingtonnj.org
SUMMARY:Sunday School
DESCRIPTION:
URL:https://cbcburlingtonnj.org/event/sunday-school/2028-08-20/
LOCATION:Christ Baptist Church Burlington NJ\, 950 Jacksonville Road\, Burlington\, NJ\, 08016\, United States
END:VEVENT
BEGIN:VEVENT
DTSTART;TZID=America/New_York:20280827T090000
DTEND;TZID=America/New_York:20280827T100000
DTSTAMP:20260424T003725
CREATED:20250610T153929Z
LAST-MODIFIED:20250610T153929Z
UID:10002635-1850979600-1850983200@cbcburlingtonnj.org
SUMMARY:Sunday School
DESCRIPTION:
URL:https://cbcburlingtonnj.org/event/sunday-school/2028-08-27/
LOCATION:Christ Baptist Church Burlington NJ\, 950 Jacksonville Road\, Burlington\, NJ\, 08016\, United States
END:VEVENT
BEGIN:VEVENT
DTSTART;TZID=America/New_York:20280903T090000
DTEND;TZID=America/New_York:20280903T100000
DTSTAMP:20260424T003725
CREATED:20250610T153929Z
LAST-MODIFIED:20250610T153929Z
UID:10002636-1851584400-1851588000@cbcburlingtonnj.org
SUMMARY:Sunday School
DESCRIPTION:
URL:https://cbcburlingtonnj.org/event/sunday-school/2028-09-03/
LOCATION:Christ Baptist Church Burlington NJ\, 950 Jacksonville Road\, Burlington\, NJ\, 08016\, United States
END:VEVENT
BEGIN:VEVENT
DTSTART;TZID=America/New_York:20280910T090000
DTEND;TZID=America/New_York:20280910T100000
DTSTAMP:20260424T003725
CREATED:20250610T153929Z
LAST-MODIFIED:20250610T153929Z
UID:10002637-1852189200-1852192800@cbcburlingtonnj.org
SUMMARY:Sunday School
DESCRIPTION:
URL:https://cbcburlingtonnj.org/event/sunday-school/2028-09-10/
LOCATION:Christ Baptist Church Burlington NJ\, 950 Jacksonville Road\, Burlington\, NJ\, 08016\, United States
END:VEVENT
BEGIN:VEVENT
DTSTART;TZID=America/New_York:20280917T090000
DTEND;TZID=America/New_York:20280917T100000
DTSTAMP:20260424T003725
CREATED:20250610T153929Z
LAST-MODIFIED:20250610T153929Z
UID:10002638-1852794000-1852797600@cbcburlingtonnj.org
SUMMARY:Sunday School
DESCRIPTION:
URL:https://cbcburlingtonnj.org/event/sunday-school/2028-09-17/
LOCATION:Christ Baptist Church Burlington NJ\, 950 Jacksonville Road\, Burlington\, NJ\, 08016\, United States
END:VEVENT
BEGIN:VEVENT
DTSTART;TZID=America/New_York:20280924T090000
DTEND;TZID=America/New_York:20280924T100000
DTSTAMP:20260424T003725
CREATED:20250610T153929Z
LAST-MODIFIED:20250610T153929Z
UID:10002639-1853398800-1853402400@cbcburlingtonnj.org
SUMMARY:Sunday School
DESCRIPTION:
URL:https://cbcburlingtonnj.org/event/sunday-school/2028-09-24/
LOCATION:Christ Baptist Church Burlington NJ\, 950 Jacksonville Road\, Burlington\, NJ\, 08016\, United States
END:VEVENT
BEGIN:VEVENT
DTSTART;TZID=America/New_York:20281001T090000
DTEND;TZID=America/New_York:20281001T100000
DTSTAMP:20260424T003725
CREATED:20250610T153929Z
LAST-MODIFIED:20250610T153929Z
UID:10002640-1854003600-1854007200@cbcburlingtonnj.org
SUMMARY:Sunday School
DESCRIPTION:
URL:https://cbcburlingtonnj.org/event/sunday-school/2028-10-01/
LOCATION:Christ Baptist Church Burlington NJ\, 950 Jacksonville Road\, Burlington\, NJ\, 08016\, United States
END:VEVENT
BEGIN:VEVENT
DTSTART;TZID=America/New_York:20281008T090000
DTEND;TZID=America/New_York:20281008T100000
DTSTAMP:20260424T003725
CREATED:20250610T153929Z
LAST-MODIFIED:20250610T153929Z
UID:10002641-1854608400-1854612000@cbcburlingtonnj.org
SUMMARY:Sunday School
DESCRIPTION:
URL:https://cbcburlingtonnj.org/event/sunday-school/2028-10-08/
LOCATION:Christ Baptist Church Burlington NJ\, 950 Jacksonville Road\, Burlington\, NJ\, 08016\, United States
END:VEVENT
BEGIN:VEVENT
DTSTART;TZID=America/New_York:20281015T090000
DTEND;TZID=America/New_York:20281015T100000
DTSTAMP:20260424T003725
CREATED:20250610T153929Z
LAST-MODIFIED:20250610T153929Z
UID:10002642-1855213200-1855216800@cbcburlingtonnj.org
SUMMARY:Sunday School
DESCRIPTION:
URL:https://cbcburlingtonnj.org/event/sunday-school/2028-10-15/
LOCATION:Christ Baptist Church Burlington NJ\, 950 Jacksonville Road\, Burlington\, NJ\, 08016\, United States
END:VEVENT
BEGIN:VEVENT
DTSTART;TZID=America/New_York:20281022T090000
DTEND;TZID=America/New_York:20281022T100000
DTSTAMP:20260424T003725
CREATED:20250610T153929Z
LAST-MODIFIED:20250610T153929Z
UID:10002643-1855818000-1855821600@cbcburlingtonnj.org
SUMMARY:Sunday School
DESCRIPTION:
URL:https://cbcburlingtonnj.org/event/sunday-school/2028-10-22/
LOCATION:Christ Baptist Church Burlington NJ\, 950 Jacksonville Road\, Burlington\, NJ\, 08016\, United States
END:VEVENT
BEGIN:VEVENT
DTSTART;TZID=America/New_York:20281029T090000
DTEND;TZID=America/New_York:20281029T100000
DTSTAMP:20260424T003725
CREATED:20250610T153929Z
LAST-MODIFIED:20250610T153929Z
UID:10002644-1856422800-1856426400@cbcburlingtonnj.org
SUMMARY:Sunday School
DESCRIPTION:
URL:https://cbcburlingtonnj.org/event/sunday-school/2028-10-29/
LOCATION:Christ Baptist Church Burlington NJ\, 950 Jacksonville Road\, Burlington\, NJ\, 08016\, United States
END:VEVENT
BEGIN:VEVENT
DTSTART;TZID=America/New_York:20281105T090000
DTEND;TZID=America/New_York:20281105T100000
DTSTAMP:20260424T003725
CREATED:20250610T153929Z
LAST-MODIFIED:20250610T153929Z
UID:10002645-1857027600-1857031200@cbcburlingtonnj.org
SUMMARY:Sunday School
DESCRIPTION:
URL:https://cbcburlingtonnj.org/event/sunday-school/2028-11-05/
LOCATION:Christ Baptist Church Burlington NJ\, 950 Jacksonville Road\, Burlington\, NJ\, 08016\, United States
END:VEVENT
BEGIN:VEVENT
DTSTART;TZID=America/New_York:20281112T090000
DTEND;TZID=America/New_York:20281112T100000
DTSTAMP:20260424T003725
CREATED:20250610T153929Z
LAST-MODIFIED:20250610T153929Z
UID:10002646-1857632400-1857636000@cbcburlingtonnj.org
SUMMARY:Sunday School
DESCRIPTION:
URL:https://cbcburlingtonnj.org/event/sunday-school/2028-11-12/
LOCATION:Christ Baptist Church Burlington NJ\, 950 Jacksonville Road\, Burlington\, NJ\, 08016\, United States
END:VEVENT
BEGIN:VEVENT
DTSTART;TZID=America/New_York:20281119T090000
DTEND;TZID=America/New_York:20281119T100000
DTSTAMP:20260424T003725
CREATED:20250610T153929Z
LAST-MODIFIED:20250610T153929Z
UID:10002647-1858237200-1858240800@cbcburlingtonnj.org
SUMMARY:Sunday School
DESCRIPTION:
URL:https://cbcburlingtonnj.org/event/sunday-school/2028-11-19/
LOCATION:Christ Baptist Church Burlington NJ\, 950 Jacksonville Road\, Burlington\, NJ\, 08016\, United States
END:VEVENT
BEGIN:VEVENT
DTSTART;TZID=America/New_York:20281126T090000
DTEND;TZID=America/New_York:20281126T100000
DTSTAMP:20260424T003725
CREATED:20250610T153929Z
LAST-MODIFIED:20250610T153929Z
UID:10002648-1858842000-1858845600@cbcburlingtonnj.org
SUMMARY:Sunday School
DESCRIPTION:
URL:https://cbcburlingtonnj.org/event/sunday-school/2028-11-26/
LOCATION:Christ Baptist Church Burlington NJ\, 950 Jacksonville Road\, Burlington\, NJ\, 08016\, United States
END:VEVENT
BEGIN:VEVENT
DTSTART;TZID=America/New_York:20281203T090000
DTEND;TZID=America/New_York:20281203T100000
DTSTAMP:20260424T003725
CREATED:20250610T153929Z
LAST-MODIFIED:20250610T153929Z
UID:10002649-1859446800-1859450400@cbcburlingtonnj.org
SUMMARY:Sunday School
DESCRIPTION:
URL:https://cbcburlingtonnj.org/event/sunday-school/2028-12-03/
LOCATION:Christ Baptist Church Burlington NJ\, 950 Jacksonville Road\, Burlington\, NJ\, 08016\, United States
END:VEVENT
BEGIN:VEVENT
DTSTART;TZID=America/New_York:20281210T090000
DTEND;TZID=America/New_York:20281210T100000
DTSTAMP:20260424T003725
CREATED:20250610T153929Z
LAST-MODIFIED:20250610T153929Z
UID:10002650-1860051600-1860055200@cbcburlingtonnj.org
SUMMARY:Sunday School
DESCRIPTION:
URL:https://cbcburlingtonnj.org/event/sunday-school/2028-12-10/
LOCATION:Christ Baptist Church Burlington NJ\, 950 Jacksonville Road\, Burlington\, NJ\, 08016\, United States
END:VEVENT
BEGIN:VEVENT
DTSTART;TZID=America/New_York:20281217T090000
DTEND;TZID=America/New_York:20281217T100000
DTSTAMP:20260424T003725
CREATED:20250610T153929Z
LAST-MODIFIED:20250610T153929Z
UID:10002651-1860656400-1860660000@cbcburlingtonnj.org
SUMMARY:Sunday School
DESCRIPTION:
URL:https://cbcburlingtonnj.org/event/sunday-school/2028-12-17/
LOCATION:Christ Baptist Church Burlington NJ\, 950 Jacksonville Road\, Burlington\, NJ\, 08016\, United States
END:VEVENT
BEGIN:VEVENT
DTSTART;TZID=America/New_York:20281224T090000
DTEND;TZID=America/New_York:20281224T100000
DTSTAMP:20260424T003725
CREATED:20250610T153929Z
LAST-MODIFIED:20250610T153929Z
UID:10002652-1861261200-1861264800@cbcburlingtonnj.org
SUMMARY:Sunday School
DESCRIPTION:
URL:https://cbcburlingtonnj.org/event/sunday-school/2028-12-24/
LOCATION:Christ Baptist Church Burlington NJ\, 950 Jacksonville Road\, Burlington\, NJ\, 08016\, United States
END:VEVENT
BEGIN:VEVENT
DTSTART;TZID=America/New_York:20281231T090000
DTEND;TZID=America/New_York:20281231T100000
DTSTAMP:20260424T003725
CREATED:20250610T153929Z
LAST-MODIFIED:20250610T153929Z
UID:10002653-1861866000-1861869600@cbcburlingtonnj.org
SUMMARY:Sunday School
DESCRIPTION:
URL:https://cbcburlingtonnj.org/event/sunday-school/2028-12-31/
LOCATION:Christ Baptist Church Burlington NJ\, 950 Jacksonville Road\, Burlington\, NJ\, 08016\, United States
END:VEVENT
BEGIN:VEVENT
DTSTART;TZID=America/New_York:20290107T090000
DTEND;TZID=America/New_York:20290107T100000
DTSTAMP:20260424T003725
CREATED:20250610T153929Z
LAST-MODIFIED:20250610T153929Z
UID:10002654-1862470800-1862474400@cbcburlingtonnj.org
SUMMARY:Sunday School
DESCRIPTION:
URL:https://cbcburlingtonnj.org/event/sunday-school/2029-01-07/
LOCATION:Christ Baptist Church Burlington NJ\, 950 Jacksonville Road\, Burlington\, NJ\, 08016\, United States
END:VEVENT
BEGIN:VEVENT
DTSTART;TZID=America/New_York:20290114T090000
DTEND;TZID=America/New_York:20290114T100000
DTSTAMP:20260424T003725
CREATED:20250610T153929Z
LAST-MODIFIED:20250610T153929Z
UID:10002655-1863075600-1863079200@cbcburlingtonnj.org
SUMMARY:Sunday School
DESCRIPTION:
URL:https://cbcburlingtonnj.org/event/sunday-school/2029-01-14/
LOCATION:Christ Baptist Church Burlington NJ\, 950 Jacksonville Road\, Burlington\, NJ\, 08016\, United States
END:VEVENT
BEGIN:VEVENT
DTSTART;TZID=America/New_York:20290121T090000
DTEND;TZID=America/New_York:20290121T100000
DTSTAMP:20260424T003725
CREATED:20250610T153929Z
LAST-MODIFIED:20250610T153929Z
UID:10002656-1863680400-1863684000@cbcburlingtonnj.org
SUMMARY:Sunday School
DESCRIPTION:
URL:https://cbcburlingtonnj.org/event/sunday-school/2029-01-21/
LOCATION:Christ Baptist Church Burlington NJ\, 950 Jacksonville Road\, Burlington\, NJ\, 08016\, United States
END:VEVENT
BEGIN:VEVENT
DTSTART;TZID=America/New_York:20290128T090000
DTEND;TZID=America/New_York:20290128T100000
DTSTAMP:20260424T003725
CREATED:20250610T153929Z
LAST-MODIFIED:20250610T153929Z
UID:10002657-1864285200-1864288800@cbcburlingtonnj.org
SUMMARY:Sunday School
DESCRIPTION:
URL:https://cbcburlingtonnj.org/event/sunday-school/2029-01-28/
LOCATION:Christ Baptist Church Burlington NJ\, 950 Jacksonville Road\, Burlington\, NJ\, 08016\, United States
END:VEVENT
BEGIN:VEVENT
DTSTART;TZID=America/New_York:20290204T090000
DTEND;TZID=America/New_York:20290204T100000
DTSTAMP:20260424T003725
CREATED:20250610T153929Z
LAST-MODIFIED:20250610T153929Z
UID:10002658-1864890000-1864893600@cbcburlingtonnj.org
SUMMARY:Sunday School
DESCRIPTION:
URL:https://cbcburlingtonnj.org/event/sunday-school/2029-02-04/
LOCATION:Christ Baptist Church Burlington NJ\, 950 Jacksonville Road\, Burlington\, NJ\, 08016\, United States
END:VEVENT
BEGIN:VEVENT
DTSTART;TZID=America/New_York:20290211T090000
DTEND;TZID=America/New_York:20290211T100000
DTSTAMP:20260424T003725
CREATED:20250610T153929Z
LAST-MODIFIED:20250610T153929Z
UID:10002659-1865494800-1865498400@cbcburlingtonnj.org
SUMMARY:Sunday School
DESCRIPTION:
URL:https://cbcburlingtonnj.org/event/sunday-school/2029-02-11/
LOCATION:Christ Baptist Church Burlington NJ\, 950 Jacksonville Road\, Burlington\, NJ\, 08016\, United States
END:VEVENT
BEGIN:VEVENT
DTSTART;TZID=America/New_York:20290218T090000
DTEND;TZID=America/New_York:20290218T100000
DTSTAMP:20260424T003725
CREATED:20250610T153929Z
LAST-MODIFIED:20250610T153929Z
UID:10002660-1866099600-1866103200@cbcburlingtonnj.org
SUMMARY:Sunday School
DESCRIPTION:
URL:https://cbcburlingtonnj.org/event/sunday-school/2029-02-18/
LOCATION:Christ Baptist Church Burlington NJ\, 950 Jacksonville Road\, Burlington\, NJ\, 08016\, United States
END:VEVENT
BEGIN:VEVENT
DTSTART;TZID=America/New_York:20290225T090000
DTEND;TZID=America/New_York:20290225T100000
DTSTAMP:20260424T003725
CREATED:20250610T153929Z
LAST-MODIFIED:20250610T153929Z
UID:10002661-1866704400-1866708000@cbcburlingtonnj.org
SUMMARY:Sunday School
DESCRIPTION:
URL:https://cbcburlingtonnj.org/event/sunday-school/2029-02-25/
LOCATION:Christ Baptist Church Burlington NJ\, 950 Jacksonville Road\, Burlington\, NJ\, 08016\, United States
END:VEVENT
BEGIN:VEVENT
DTSTART;TZID=America/New_York:20290304T090000
DTEND;TZID=America/New_York:20290304T100000
DTSTAMP:20260424T003725
CREATED:20250610T153929Z
LAST-MODIFIED:20250610T153929Z
UID:10002662-1867309200-1867312800@cbcburlingtonnj.org
SUMMARY:Sunday School
DESCRIPTION:
URL:https://cbcburlingtonnj.org/event/sunday-school/2029-03-04/
LOCATION:Christ Baptist Church Burlington NJ\, 950 Jacksonville Road\, Burlington\, NJ\, 08016\, United States
END:VEVENT
END:VCALENDAR