BEGIN:VCALENDAR
VERSION:2.0
PRODID:-//Christ Baptist Church - Burlington, NJ - ECPv6.15.20//NONSGML v1.0//EN
CALSCALE:GREGORIAN
METHOD:PUBLISH
X-WR-CALNAME:Christ Baptist Church - Burlington, NJ
X-ORIGINAL-URL:https://cbcburlingtonnj.org
X-WR-CALDESC:Events for Christ Baptist Church - Burlington, NJ
REFRESH-INTERVAL;VALUE=DURATION:PT1H
X-Robots-Tag:noindex
X-PUBLISHED-TTL:PT1H
BEGIN:VTIMEZONE
TZID:America/New_York
BEGIN:DAYLIGHT
TZOFFSETFROM:-0500
TZOFFSETTO:-0400
TZNAME:EDT
DTSTART:20280312T070000
END:DAYLIGHT
BEGIN:STANDARD
TZOFFSETFROM:-0400
TZOFFSETTO:-0500
TZNAME:EST
DTSTART:20281105T060000
END:STANDARD
BEGIN:DAYLIGHT
TZOFFSETFROM:-0500
TZOFFSETTO:-0400
TZNAME:EDT
DTSTART:20290311T070000
END:DAYLIGHT
BEGIN:STANDARD
TZOFFSETFROM:-0400
TZOFFSETTO:-0500
TZNAME:EST
DTSTART:20291104T060000
END:STANDARD
BEGIN:DAYLIGHT
TZOFFSETFROM:-0500
TZOFFSETTO:-0400
TZNAME:EDT
DTSTART:20300310T070000
END:DAYLIGHT
BEGIN:STANDARD
TZOFFSETFROM:-0400
TZOFFSETTO:-0500
TZNAME:EST
DTSTART:20301103T060000
END:STANDARD
END:VTIMEZONE
BEGIN:VEVENT
DTSTART;TZID=America/New_York:20290422T100000
DTEND;TZID=America/New_York:20290422T113000
DTSTAMP:20260424T041057
CREATED:20250610T153100Z
LAST-MODIFIED:20250910T152602Z
UID:10002136-1871546400-1871551800@cbcburlingtonnj.org
SUMMARY:10 AM Sunday Service
DESCRIPTION:
URL:https://cbcburlingtonnj.org/event/10-am-sunday-service/2029-04-22/
LOCATION:Christ Baptist Church Burlington NJ\, 950 Jacksonville Road\, Burlington\, NJ\, 08016\, United States
CATEGORIES:Sunday Service
END:VEVENT
BEGIN:VEVENT
DTSTART;TZID=America/New_York:20290429T100000
DTEND;TZID=America/New_York:20290429T113000
DTSTAMP:20260424T041057
CREATED:20250610T153100Z
LAST-MODIFIED:20250910T152602Z
UID:10002137-1872151200-1872156600@cbcburlingtonnj.org
SUMMARY:10 AM Sunday Service
DESCRIPTION:
URL:https://cbcburlingtonnj.org/event/10-am-sunday-service/2029-04-29/
LOCATION:Christ Baptist Church Burlington NJ\, 950 Jacksonville Road\, Burlington\, NJ\, 08016\, United States
CATEGORIES:Sunday Service
END:VEVENT
BEGIN:VEVENT
DTSTART;TZID=America/New_York:20290506T100000
DTEND;TZID=America/New_York:20290506T113000
DTSTAMP:20260424T041057
CREATED:20250610T153100Z
LAST-MODIFIED:20250910T152602Z
UID:10002138-1872756000-1872761400@cbcburlingtonnj.org
SUMMARY:10 AM Sunday Service
DESCRIPTION:
URL:https://cbcburlingtonnj.org/event/10-am-sunday-service/2029-05-06/
LOCATION:Christ Baptist Church Burlington NJ\, 950 Jacksonville Road\, Burlington\, NJ\, 08016\, United States
CATEGORIES:Sunday Service
END:VEVENT
BEGIN:VEVENT
DTSTART;TZID=America/New_York:20290513T100000
DTEND;TZID=America/New_York:20290513T113000
DTSTAMP:20260424T041057
CREATED:20250610T153100Z
LAST-MODIFIED:20250910T152602Z
UID:10002139-1873360800-1873366200@cbcburlingtonnj.org
SUMMARY:10 AM Sunday Service
DESCRIPTION:
URL:https://cbcburlingtonnj.org/event/10-am-sunday-service/2029-05-13/
LOCATION:Christ Baptist Church Burlington NJ\, 950 Jacksonville Road\, Burlington\, NJ\, 08016\, United States
CATEGORIES:Sunday Service
END:VEVENT
BEGIN:VEVENT
DTSTART;TZID=America/New_York:20290520T100000
DTEND;TZID=America/New_York:20290520T113000
DTSTAMP:20260424T041057
CREATED:20250610T153100Z
LAST-MODIFIED:20250910T152602Z
UID:10002140-1873965600-1873971000@cbcburlingtonnj.org
SUMMARY:10 AM Sunday Service
DESCRIPTION:
URL:https://cbcburlingtonnj.org/event/10-am-sunday-service/2029-05-20/
LOCATION:Christ Baptist Church Burlington NJ\, 950 Jacksonville Road\, Burlington\, NJ\, 08016\, United States
CATEGORIES:Sunday Service
END:VEVENT
BEGIN:VEVENT
DTSTART;TZID=America/New_York:20290527T100000
DTEND;TZID=America/New_York:20290527T113000
DTSTAMP:20260424T041057
CREATED:20250610T153100Z
LAST-MODIFIED:20250910T152602Z
UID:10002141-1874570400-1874575800@cbcburlingtonnj.org
SUMMARY:10 AM Sunday Service
DESCRIPTION:
URL:https://cbcburlingtonnj.org/event/10-am-sunday-service/2029-05-27/
LOCATION:Christ Baptist Church Burlington NJ\, 950 Jacksonville Road\, Burlington\, NJ\, 08016\, United States
CATEGORIES:Sunday Service
END:VEVENT
BEGIN:VEVENT
DTSTART;TZID=America/New_York:20290603T100000
DTEND;TZID=America/New_York:20290603T113000
DTSTAMP:20260424T041057
CREATED:20250610T153100Z
LAST-MODIFIED:20250910T152602Z
UID:10002142-1875175200-1875180600@cbcburlingtonnj.org
SUMMARY:10 AM Sunday Service
DESCRIPTION:
URL:https://cbcburlingtonnj.org/event/10-am-sunday-service/2029-06-03/
LOCATION:Christ Baptist Church Burlington NJ\, 950 Jacksonville Road\, Burlington\, NJ\, 08016\, United States
CATEGORIES:Sunday Service
END:VEVENT
BEGIN:VEVENT
DTSTART;TZID=America/New_York:20290610T100000
DTEND;TZID=America/New_York:20290610T113000
DTSTAMP:20260424T041057
CREATED:20250610T153100Z
LAST-MODIFIED:20250910T152602Z
UID:10002143-1875780000-1875785400@cbcburlingtonnj.org
SUMMARY:10 AM Sunday Service
DESCRIPTION:
URL:https://cbcburlingtonnj.org/event/10-am-sunday-service/2029-06-10/
LOCATION:Christ Baptist Church Burlington NJ\, 950 Jacksonville Road\, Burlington\, NJ\, 08016\, United States
CATEGORIES:Sunday Service
END:VEVENT
BEGIN:VEVENT
DTSTART;TZID=America/New_York:20290617T100000
DTEND;TZID=America/New_York:20290617T113000
DTSTAMP:20260424T041057
CREATED:20250610T153100Z
LAST-MODIFIED:20250910T152602Z
UID:10002144-1876384800-1876390200@cbcburlingtonnj.org
SUMMARY:10 AM Sunday Service
DESCRIPTION:
URL:https://cbcburlingtonnj.org/event/10-am-sunday-service/2029-06-17/
LOCATION:Christ Baptist Church Burlington NJ\, 950 Jacksonville Road\, Burlington\, NJ\, 08016\, United States
CATEGORIES:Sunday Service
END:VEVENT
BEGIN:VEVENT
DTSTART;TZID=America/New_York:20290624T100000
DTEND;TZID=America/New_York:20290624T113000
DTSTAMP:20260424T041057
CREATED:20250610T153100Z
LAST-MODIFIED:20250910T152602Z
UID:10002145-1876989600-1876995000@cbcburlingtonnj.org
SUMMARY:10 AM Sunday Service
DESCRIPTION:
URL:https://cbcburlingtonnj.org/event/10-am-sunday-service/2029-06-24/
LOCATION:Christ Baptist Church Burlington NJ\, 950 Jacksonville Road\, Burlington\, NJ\, 08016\, United States
CATEGORIES:Sunday Service
END:VEVENT
BEGIN:VEVENT
DTSTART;TZID=America/New_York:20290701T100000
DTEND;TZID=America/New_York:20290701T113000
DTSTAMP:20260424T041057
CREATED:20250610T153100Z
LAST-MODIFIED:20250910T152602Z
UID:10002146-1877594400-1877599800@cbcburlingtonnj.org
SUMMARY:10 AM Sunday Service
DESCRIPTION:
URL:https://cbcburlingtonnj.org/event/10-am-sunday-service/2029-07-01/
LOCATION:Christ Baptist Church Burlington NJ\, 950 Jacksonville Road\, Burlington\, NJ\, 08016\, United States
CATEGORIES:Sunday Service
END:VEVENT
BEGIN:VEVENT
DTSTART;TZID=America/New_York:20290708T100000
DTEND;TZID=America/New_York:20290708T113000
DTSTAMP:20260424T041057
CREATED:20250610T153100Z
LAST-MODIFIED:20250910T152602Z
UID:10002147-1878199200-1878204600@cbcburlingtonnj.org
SUMMARY:10 AM Sunday Service
DESCRIPTION:
URL:https://cbcburlingtonnj.org/event/10-am-sunday-service/2029-07-08/
LOCATION:Christ Baptist Church Burlington NJ\, 950 Jacksonville Road\, Burlington\, NJ\, 08016\, United States
CATEGORIES:Sunday Service
END:VEVENT
BEGIN:VEVENT
DTSTART;TZID=America/New_York:20290715T100000
DTEND;TZID=America/New_York:20290715T113000
DTSTAMP:20260424T041057
CREATED:20250610T153100Z
LAST-MODIFIED:20250910T152602Z
UID:10002148-1878804000-1878809400@cbcburlingtonnj.org
SUMMARY:10 AM Sunday Service
DESCRIPTION:
URL:https://cbcburlingtonnj.org/event/10-am-sunday-service/2029-07-15/
LOCATION:Christ Baptist Church Burlington NJ\, 950 Jacksonville Road\, Burlington\, NJ\, 08016\, United States
CATEGORIES:Sunday Service
END:VEVENT
BEGIN:VEVENT
DTSTART;TZID=America/New_York:20290722T100000
DTEND;TZID=America/New_York:20290722T113000
DTSTAMP:20260424T041057
CREATED:20250610T153100Z
LAST-MODIFIED:20250910T152602Z
UID:10002149-1879408800-1879414200@cbcburlingtonnj.org
SUMMARY:10 AM Sunday Service
DESCRIPTION:
URL:https://cbcburlingtonnj.org/event/10-am-sunday-service/2029-07-22/
LOCATION:Christ Baptist Church Burlington NJ\, 950 Jacksonville Road\, Burlington\, NJ\, 08016\, United States
CATEGORIES:Sunday Service
END:VEVENT
BEGIN:VEVENT
DTSTART;TZID=America/New_York:20290729T100000
DTEND;TZID=America/New_York:20290729T113000
DTSTAMP:20260424T041057
CREATED:20250610T153100Z
LAST-MODIFIED:20250910T152602Z
UID:10002150-1880013600-1880019000@cbcburlingtonnj.org
SUMMARY:10 AM Sunday Service
DESCRIPTION:
URL:https://cbcburlingtonnj.org/event/10-am-sunday-service/2029-07-29/
LOCATION:Christ Baptist Church Burlington NJ\, 950 Jacksonville Road\, Burlington\, NJ\, 08016\, United States
CATEGORIES:Sunday Service
END:VEVENT
BEGIN:VEVENT
DTSTART;TZID=America/New_York:20290805T100000
DTEND;TZID=America/New_York:20290805T113000
DTSTAMP:20260424T041057
CREATED:20250610T153100Z
LAST-MODIFIED:20250910T152602Z
UID:10002151-1880618400-1880623800@cbcburlingtonnj.org
SUMMARY:10 AM Sunday Service
DESCRIPTION:
URL:https://cbcburlingtonnj.org/event/10-am-sunday-service/2029-08-05/
LOCATION:Christ Baptist Church Burlington NJ\, 950 Jacksonville Road\, Burlington\, NJ\, 08016\, United States
CATEGORIES:Sunday Service
END:VEVENT
BEGIN:VEVENT
DTSTART;TZID=America/New_York:20290812T100000
DTEND;TZID=America/New_York:20290812T113000
DTSTAMP:20260424T041057
CREATED:20250610T153100Z
LAST-MODIFIED:20250910T152602Z
UID:10002152-1881223200-1881228600@cbcburlingtonnj.org
SUMMARY:10 AM Sunday Service
DESCRIPTION:
URL:https://cbcburlingtonnj.org/event/10-am-sunday-service/2029-08-12/
LOCATION:Christ Baptist Church Burlington NJ\, 950 Jacksonville Road\, Burlington\, NJ\, 08016\, United States
CATEGORIES:Sunday Service
END:VEVENT
BEGIN:VEVENT
DTSTART;TZID=America/New_York:20290819T100000
DTEND;TZID=America/New_York:20290819T113000
DTSTAMP:20260424T041057
CREATED:20250610T153100Z
LAST-MODIFIED:20250910T152602Z
UID:10002153-1881828000-1881833400@cbcburlingtonnj.org
SUMMARY:10 AM Sunday Service
DESCRIPTION:
URL:https://cbcburlingtonnj.org/event/10-am-sunday-service/2029-08-19/
LOCATION:Christ Baptist Church Burlington NJ\, 950 Jacksonville Road\, Burlington\, NJ\, 08016\, United States
CATEGORIES:Sunday Service
END:VEVENT
BEGIN:VEVENT
DTSTART;TZID=America/New_York:20290826T100000
DTEND;TZID=America/New_York:20290826T113000
DTSTAMP:20260424T041057
CREATED:20250610T153100Z
LAST-MODIFIED:20250910T152602Z
UID:10002154-1882432800-1882438200@cbcburlingtonnj.org
SUMMARY:10 AM Sunday Service
DESCRIPTION:
URL:https://cbcburlingtonnj.org/event/10-am-sunday-service/2029-08-26/
LOCATION:Christ Baptist Church Burlington NJ\, 950 Jacksonville Road\, Burlington\, NJ\, 08016\, United States
CATEGORIES:Sunday Service
END:VEVENT
BEGIN:VEVENT
DTSTART;TZID=America/New_York:20290902T100000
DTEND;TZID=America/New_York:20290902T113000
DTSTAMP:20260424T041057
CREATED:20250610T153100Z
LAST-MODIFIED:20250910T152602Z
UID:10002155-1883037600-1883043000@cbcburlingtonnj.org
SUMMARY:10 AM Sunday Service
DESCRIPTION:
URL:https://cbcburlingtonnj.org/event/10-am-sunday-service/2029-09-02/
LOCATION:Christ Baptist Church Burlington NJ\, 950 Jacksonville Road\, Burlington\, NJ\, 08016\, United States
CATEGORIES:Sunday Service
END:VEVENT
BEGIN:VEVENT
DTSTART;TZID=America/New_York:20290909T100000
DTEND;TZID=America/New_York:20290909T113000
DTSTAMP:20260424T041057
CREATED:20250610T153100Z
LAST-MODIFIED:20250910T152602Z
UID:10002156-1883642400-1883647800@cbcburlingtonnj.org
SUMMARY:10 AM Sunday Service
DESCRIPTION:
URL:https://cbcburlingtonnj.org/event/10-am-sunday-service/2029-09-09/
LOCATION:Christ Baptist Church Burlington NJ\, 950 Jacksonville Road\, Burlington\, NJ\, 08016\, United States
CATEGORIES:Sunday Service
END:VEVENT
BEGIN:VEVENT
DTSTART;TZID=America/New_York:20290916T100000
DTEND;TZID=America/New_York:20290916T113000
DTSTAMP:20260424T041057
CREATED:20250610T153100Z
LAST-MODIFIED:20250910T152602Z
UID:10002157-1884247200-1884252600@cbcburlingtonnj.org
SUMMARY:10 AM Sunday Service
DESCRIPTION:
URL:https://cbcburlingtonnj.org/event/10-am-sunday-service/2029-09-16/
LOCATION:Christ Baptist Church Burlington NJ\, 950 Jacksonville Road\, Burlington\, NJ\, 08016\, United States
CATEGORIES:Sunday Service
END:VEVENT
BEGIN:VEVENT
DTSTART;TZID=America/New_York:20290923T100000
DTEND;TZID=America/New_York:20290923T113000
DTSTAMP:20260424T041057
CREATED:20250610T153100Z
LAST-MODIFIED:20250910T152602Z
UID:10002158-1884852000-1884857400@cbcburlingtonnj.org
SUMMARY:10 AM Sunday Service
DESCRIPTION:
URL:https://cbcburlingtonnj.org/event/10-am-sunday-service/2029-09-23/
LOCATION:Christ Baptist Church Burlington NJ\, 950 Jacksonville Road\, Burlington\, NJ\, 08016\, United States
CATEGORIES:Sunday Service
END:VEVENT
BEGIN:VEVENT
DTSTART;TZID=America/New_York:20290930T100000
DTEND;TZID=America/New_York:20290930T113000
DTSTAMP:20260424T041057
CREATED:20250610T153100Z
LAST-MODIFIED:20250910T152602Z
UID:10002159-1885456800-1885462200@cbcburlingtonnj.org
SUMMARY:10 AM Sunday Service
DESCRIPTION:
URL:https://cbcburlingtonnj.org/event/10-am-sunday-service/2029-09-30/
LOCATION:Christ Baptist Church Burlington NJ\, 950 Jacksonville Road\, Burlington\, NJ\, 08016\, United States
CATEGORIES:Sunday Service
END:VEVENT
BEGIN:VEVENT
DTSTART;TZID=America/New_York:20291007T100000
DTEND;TZID=America/New_York:20291007T113000
DTSTAMP:20260424T041057
CREATED:20250610T153100Z
LAST-MODIFIED:20250910T152602Z
UID:10002160-1886061600-1886067000@cbcburlingtonnj.org
SUMMARY:10 AM Sunday Service
DESCRIPTION:
URL:https://cbcburlingtonnj.org/event/10-am-sunday-service/2029-10-07/
LOCATION:Christ Baptist Church Burlington NJ\, 950 Jacksonville Road\, Burlington\, NJ\, 08016\, United States
CATEGORIES:Sunday Service
END:VEVENT
BEGIN:VEVENT
DTSTART;TZID=America/New_York:20291014T100000
DTEND;TZID=America/New_York:20291014T113000
DTSTAMP:20260424T041057
CREATED:20250610T153100Z
LAST-MODIFIED:20250910T152602Z
UID:10002161-1886666400-1886671800@cbcburlingtonnj.org
SUMMARY:10 AM Sunday Service
DESCRIPTION:
URL:https://cbcburlingtonnj.org/event/10-am-sunday-service/2029-10-14/
LOCATION:Christ Baptist Church Burlington NJ\, 950 Jacksonville Road\, Burlington\, NJ\, 08016\, United States
CATEGORIES:Sunday Service
END:VEVENT
BEGIN:VEVENT
DTSTART;TZID=America/New_York:20291021T100000
DTEND;TZID=America/New_York:20291021T113000
DTSTAMP:20260424T041057
CREATED:20250610T153100Z
LAST-MODIFIED:20250910T152602Z
UID:10002162-1887271200-1887276600@cbcburlingtonnj.org
SUMMARY:10 AM Sunday Service
DESCRIPTION:
URL:https://cbcburlingtonnj.org/event/10-am-sunday-service/2029-10-21/
LOCATION:Christ Baptist Church Burlington NJ\, 950 Jacksonville Road\, Burlington\, NJ\, 08016\, United States
CATEGORIES:Sunday Service
END:VEVENT
BEGIN:VEVENT
DTSTART;TZID=America/New_York:20291028T100000
DTEND;TZID=America/New_York:20291028T113000
DTSTAMP:20260424T041057
CREATED:20250610T153100Z
LAST-MODIFIED:20250910T152602Z
UID:10002163-1887876000-1887881400@cbcburlingtonnj.org
SUMMARY:10 AM Sunday Service
DESCRIPTION:
URL:https://cbcburlingtonnj.org/event/10-am-sunday-service/2029-10-28/
LOCATION:Christ Baptist Church Burlington NJ\, 950 Jacksonville Road\, Burlington\, NJ\, 08016\, United States
CATEGORIES:Sunday Service
END:VEVENT
BEGIN:VEVENT
DTSTART;TZID=America/New_York:20291104T100000
DTEND;TZID=America/New_York:20291104T113000
DTSTAMP:20260424T041057
CREATED:20250610T153100Z
LAST-MODIFIED:20250910T152602Z
UID:10002164-1888480800-1888486200@cbcburlingtonnj.org
SUMMARY:10 AM Sunday Service
DESCRIPTION:
URL:https://cbcburlingtonnj.org/event/10-am-sunday-service/2029-11-04/
LOCATION:Christ Baptist Church Burlington NJ\, 950 Jacksonville Road\, Burlington\, NJ\, 08016\, United States
CATEGORIES:Sunday Service
END:VEVENT
BEGIN:VEVENT
DTSTART;TZID=America/New_York:20291111T100000
DTEND;TZID=America/New_York:20291111T113000
DTSTAMP:20260424T041057
CREATED:20250610T153100Z
LAST-MODIFIED:20250910T152602Z
UID:10002165-1889085600-1889091000@cbcburlingtonnj.org
SUMMARY:10 AM Sunday Service
DESCRIPTION:
URL:https://cbcburlingtonnj.org/event/10-am-sunday-service/2029-11-11/
LOCATION:Christ Baptist Church Burlington NJ\, 950 Jacksonville Road\, Burlington\, NJ\, 08016\, United States
CATEGORIES:Sunday Service
END:VEVENT
END:VCALENDAR