BEGIN:VCALENDAR
VERSION:2.0
PRODID:-//Christ Baptist Church - Burlington, NJ - ECPv6.15.20//NONSGML v1.0//EN
CALSCALE:GREGORIAN
METHOD:PUBLISH
X-WR-CALNAME:Christ Baptist Church - Burlington, NJ
X-ORIGINAL-URL:https://cbcburlingtonnj.org
X-WR-CALDESC:Events for Christ Baptist Church - Burlington, NJ
REFRESH-INTERVAL;VALUE=DURATION:PT1H
X-Robots-Tag:noindex
X-PUBLISHED-TTL:PT1H
BEGIN:VTIMEZONE
TZID:America/New_York
BEGIN:DAYLIGHT
TZOFFSETFROM:-0500
TZOFFSETTO:-0400
TZNAME:EDT
DTSTART:20280312T070000
END:DAYLIGHT
BEGIN:STANDARD
TZOFFSETFROM:-0400
TZOFFSETTO:-0500
TZNAME:EST
DTSTART:20281105T060000
END:STANDARD
BEGIN:DAYLIGHT
TZOFFSETFROM:-0500
TZOFFSETTO:-0400
TZNAME:EDT
DTSTART:20290311T070000
END:DAYLIGHT
BEGIN:STANDARD
TZOFFSETFROM:-0400
TZOFFSETTO:-0500
TZNAME:EST
DTSTART:20291104T060000
END:STANDARD
BEGIN:DAYLIGHT
TZOFFSETFROM:-0500
TZOFFSETTO:-0400
TZNAME:EDT
DTSTART:20300310T070000
END:DAYLIGHT
BEGIN:STANDARD
TZOFFSETFROM:-0400
TZOFFSETTO:-0500
TZNAME:EST
DTSTART:20301103T060000
END:STANDARD
BEGIN:DAYLIGHT
TZOFFSETFROM:-0500
TZOFFSETTO:-0400
TZNAME:EDT
DTSTART:20310309T070000
END:DAYLIGHT
BEGIN:STANDARD
TZOFFSETFROM:-0400
TZOFFSETTO:-0500
TZNAME:EST
DTSTART:20311102T060000
END:STANDARD
END:VTIMEZONE
BEGIN:VEVENT
DTSTART;TZID=America/New_York:20290715T090000
DTEND;TZID=America/New_York:20290715T100000
DTSTAMP:20260424T060002
CREATED:20250610T153929Z
LAST-MODIFIED:20250610T153929Z
UID:10002681-1878800400-1878804000@cbcburlingtonnj.org
SUMMARY:Sunday School
DESCRIPTION:
URL:https://cbcburlingtonnj.org/event/sunday-school/2029-07-15/
LOCATION:Christ Baptist Church Burlington NJ\, 950 Jacksonville Road\, Burlington\, NJ\, 08016\, United States
END:VEVENT
BEGIN:VEVENT
DTSTART;TZID=America/New_York:20290722T090000
DTEND;TZID=America/New_York:20290722T100000
DTSTAMP:20260424T060002
CREATED:20250610T153929Z
LAST-MODIFIED:20250610T153929Z
UID:10002682-1879405200-1879408800@cbcburlingtonnj.org
SUMMARY:Sunday School
DESCRIPTION:
URL:https://cbcburlingtonnj.org/event/sunday-school/2029-07-22/
LOCATION:Christ Baptist Church Burlington NJ\, 950 Jacksonville Road\, Burlington\, NJ\, 08016\, United States
END:VEVENT
BEGIN:VEVENT
DTSTART;TZID=America/New_York:20290729T090000
DTEND;TZID=America/New_York:20290729T100000
DTSTAMP:20260424T060002
CREATED:20250610T153929Z
LAST-MODIFIED:20250610T153929Z
UID:10002683-1880010000-1880013600@cbcburlingtonnj.org
SUMMARY:Sunday School
DESCRIPTION:
URL:https://cbcburlingtonnj.org/event/sunday-school/2029-07-29/
LOCATION:Christ Baptist Church Burlington NJ\, 950 Jacksonville Road\, Burlington\, NJ\, 08016\, United States
END:VEVENT
BEGIN:VEVENT
DTSTART;TZID=America/New_York:20290805T090000
DTEND;TZID=America/New_York:20290805T100000
DTSTAMP:20260424T060002
CREATED:20250610T153929Z
LAST-MODIFIED:20250610T153929Z
UID:10002684-1880614800-1880618400@cbcburlingtonnj.org
SUMMARY:Sunday School
DESCRIPTION:
URL:https://cbcburlingtonnj.org/event/sunday-school/2029-08-05/
LOCATION:Christ Baptist Church Burlington NJ\, 950 Jacksonville Road\, Burlington\, NJ\, 08016\, United States
END:VEVENT
BEGIN:VEVENT
DTSTART;TZID=America/New_York:20290812T090000
DTEND;TZID=America/New_York:20290812T100000
DTSTAMP:20260424T060002
CREATED:20250610T153929Z
LAST-MODIFIED:20250610T153929Z
UID:10002685-1881219600-1881223200@cbcburlingtonnj.org
SUMMARY:Sunday School
DESCRIPTION:
URL:https://cbcburlingtonnj.org/event/sunday-school/2029-08-12/
LOCATION:Christ Baptist Church Burlington NJ\, 950 Jacksonville Road\, Burlington\, NJ\, 08016\, United States
END:VEVENT
BEGIN:VEVENT
DTSTART;TZID=America/New_York:20290819T090000
DTEND;TZID=America/New_York:20290819T100000
DTSTAMP:20260424T060002
CREATED:20250610T153929Z
LAST-MODIFIED:20250610T153929Z
UID:10002686-1881824400-1881828000@cbcburlingtonnj.org
SUMMARY:Sunday School
DESCRIPTION:
URL:https://cbcburlingtonnj.org/event/sunday-school/2029-08-19/
LOCATION:Christ Baptist Church Burlington NJ\, 950 Jacksonville Road\, Burlington\, NJ\, 08016\, United States
END:VEVENT
BEGIN:VEVENT
DTSTART;TZID=America/New_York:20290826T090000
DTEND;TZID=America/New_York:20290826T100000
DTSTAMP:20260424T060002
CREATED:20250610T153929Z
LAST-MODIFIED:20250610T153929Z
UID:10002687-1882429200-1882432800@cbcburlingtonnj.org
SUMMARY:Sunday School
DESCRIPTION:
URL:https://cbcburlingtonnj.org/event/sunday-school/2029-08-26/
LOCATION:Christ Baptist Church Burlington NJ\, 950 Jacksonville Road\, Burlington\, NJ\, 08016\, United States
END:VEVENT
BEGIN:VEVENT
DTSTART;TZID=America/New_York:20290902T090000
DTEND;TZID=America/New_York:20290902T100000
DTSTAMP:20260424T060002
CREATED:20250610T153929Z
LAST-MODIFIED:20250610T153929Z
UID:10002688-1883034000-1883037600@cbcburlingtonnj.org
SUMMARY:Sunday School
DESCRIPTION:
URL:https://cbcburlingtonnj.org/event/sunday-school/2029-09-02/
LOCATION:Christ Baptist Church Burlington NJ\, 950 Jacksonville Road\, Burlington\, NJ\, 08016\, United States
END:VEVENT
BEGIN:VEVENT
DTSTART;TZID=America/New_York:20290909T090000
DTEND;TZID=America/New_York:20290909T100000
DTSTAMP:20260424T060002
CREATED:20250610T153929Z
LAST-MODIFIED:20250610T153929Z
UID:10002689-1883638800-1883642400@cbcburlingtonnj.org
SUMMARY:Sunday School
DESCRIPTION:
URL:https://cbcburlingtonnj.org/event/sunday-school/2029-09-09/
LOCATION:Christ Baptist Church Burlington NJ\, 950 Jacksonville Road\, Burlington\, NJ\, 08016\, United States
END:VEVENT
BEGIN:VEVENT
DTSTART;TZID=America/New_York:20290916T090000
DTEND;TZID=America/New_York:20290916T100000
DTSTAMP:20260424T060002
CREATED:20250610T153929Z
LAST-MODIFIED:20250610T153929Z
UID:10002690-1884243600-1884247200@cbcburlingtonnj.org
SUMMARY:Sunday School
DESCRIPTION:
URL:https://cbcburlingtonnj.org/event/sunday-school/2029-09-16/
LOCATION:Christ Baptist Church Burlington NJ\, 950 Jacksonville Road\, Burlington\, NJ\, 08016\, United States
END:VEVENT
BEGIN:VEVENT
DTSTART;TZID=America/New_York:20290923T090000
DTEND;TZID=America/New_York:20290923T100000
DTSTAMP:20260424T060002
CREATED:20250610T153929Z
LAST-MODIFIED:20250610T153929Z
UID:10002691-1884848400-1884852000@cbcburlingtonnj.org
SUMMARY:Sunday School
DESCRIPTION:
URL:https://cbcburlingtonnj.org/event/sunday-school/2029-09-23/
LOCATION:Christ Baptist Church Burlington NJ\, 950 Jacksonville Road\, Burlington\, NJ\, 08016\, United States
END:VEVENT
BEGIN:VEVENT
DTSTART;TZID=America/New_York:20290930T090000
DTEND;TZID=America/New_York:20290930T100000
DTSTAMP:20260424T060002
CREATED:20250610T153929Z
LAST-MODIFIED:20250610T153929Z
UID:10002692-1885453200-1885456800@cbcburlingtonnj.org
SUMMARY:Sunday School
DESCRIPTION:
URL:https://cbcburlingtonnj.org/event/sunday-school/2029-09-30/
LOCATION:Christ Baptist Church Burlington NJ\, 950 Jacksonville Road\, Burlington\, NJ\, 08016\, United States
END:VEVENT
BEGIN:VEVENT
DTSTART;TZID=America/New_York:20291007T090000
DTEND;TZID=America/New_York:20291007T100000
DTSTAMP:20260424T060002
CREATED:20250610T153929Z
LAST-MODIFIED:20250610T153929Z
UID:10002693-1886058000-1886061600@cbcburlingtonnj.org
SUMMARY:Sunday School
DESCRIPTION:
URL:https://cbcburlingtonnj.org/event/sunday-school/2029-10-07/
LOCATION:Christ Baptist Church Burlington NJ\, 950 Jacksonville Road\, Burlington\, NJ\, 08016\, United States
END:VEVENT
BEGIN:VEVENT
DTSTART;TZID=America/New_York:20291014T090000
DTEND;TZID=America/New_York:20291014T100000
DTSTAMP:20260424T060002
CREATED:20250610T153929Z
LAST-MODIFIED:20250610T153929Z
UID:10002694-1886662800-1886666400@cbcburlingtonnj.org
SUMMARY:Sunday School
DESCRIPTION:
URL:https://cbcburlingtonnj.org/event/sunday-school/2029-10-14/
LOCATION:Christ Baptist Church Burlington NJ\, 950 Jacksonville Road\, Burlington\, NJ\, 08016\, United States
END:VEVENT
BEGIN:VEVENT
DTSTART;TZID=America/New_York:20291021T090000
DTEND;TZID=America/New_York:20291021T100000
DTSTAMP:20260424T060002
CREATED:20250610T153929Z
LAST-MODIFIED:20250610T153929Z
UID:10002695-1887267600-1887271200@cbcburlingtonnj.org
SUMMARY:Sunday School
DESCRIPTION:
URL:https://cbcburlingtonnj.org/event/sunday-school/2029-10-21/
LOCATION:Christ Baptist Church Burlington NJ\, 950 Jacksonville Road\, Burlington\, NJ\, 08016\, United States
END:VEVENT
BEGIN:VEVENT
DTSTART;TZID=America/New_York:20291028T090000
DTEND;TZID=America/New_York:20291028T100000
DTSTAMP:20260424T060002
CREATED:20250610T153929Z
LAST-MODIFIED:20250610T153929Z
UID:10002696-1887872400-1887876000@cbcburlingtonnj.org
SUMMARY:Sunday School
DESCRIPTION:
URL:https://cbcburlingtonnj.org/event/sunday-school/2029-10-28/
LOCATION:Christ Baptist Church Burlington NJ\, 950 Jacksonville Road\, Burlington\, NJ\, 08016\, United States
END:VEVENT
BEGIN:VEVENT
DTSTART;TZID=America/New_York:20291104T090000
DTEND;TZID=America/New_York:20291104T100000
DTSTAMP:20260424T060002
CREATED:20250610T153929Z
LAST-MODIFIED:20250610T153929Z
UID:10002697-1888477200-1888480800@cbcburlingtonnj.org
SUMMARY:Sunday School
DESCRIPTION:
URL:https://cbcburlingtonnj.org/event/sunday-school/2029-11-04/
LOCATION:Christ Baptist Church Burlington NJ\, 950 Jacksonville Road\, Burlington\, NJ\, 08016\, United States
END:VEVENT
BEGIN:VEVENT
DTSTART;TZID=America/New_York:20291111T090000
DTEND;TZID=America/New_York:20291111T100000
DTSTAMP:20260424T060002
CREATED:20250610T153929Z
LAST-MODIFIED:20250610T153929Z
UID:10002698-1889082000-1889085600@cbcburlingtonnj.org
SUMMARY:Sunday School
DESCRIPTION:
URL:https://cbcburlingtonnj.org/event/sunday-school/2029-11-11/
LOCATION:Christ Baptist Church Burlington NJ\, 950 Jacksonville Road\, Burlington\, NJ\, 08016\, United States
END:VEVENT
BEGIN:VEVENT
DTSTART;TZID=America/New_York:20291118T090000
DTEND;TZID=America/New_York:20291118T100000
DTSTAMP:20260424T060002
CREATED:20250610T153929Z
LAST-MODIFIED:20250610T153929Z
UID:10002699-1889686800-1889690400@cbcburlingtonnj.org
SUMMARY:Sunday School
DESCRIPTION:
URL:https://cbcburlingtonnj.org/event/sunday-school/2029-11-18/
LOCATION:Christ Baptist Church Burlington NJ\, 950 Jacksonville Road\, Burlington\, NJ\, 08016\, United States
END:VEVENT
BEGIN:VEVENT
DTSTART;TZID=America/New_York:20291125T090000
DTEND;TZID=America/New_York:20291125T100000
DTSTAMP:20260424T060002
CREATED:20250610T153929Z
LAST-MODIFIED:20250610T153929Z
UID:10002700-1890291600-1890295200@cbcburlingtonnj.org
SUMMARY:Sunday School
DESCRIPTION:
URL:https://cbcburlingtonnj.org/event/sunday-school/2029-11-25/
LOCATION:Christ Baptist Church Burlington NJ\, 950 Jacksonville Road\, Burlington\, NJ\, 08016\, United States
END:VEVENT
BEGIN:VEVENT
DTSTART;TZID=America/New_York:20291202T090000
DTEND;TZID=America/New_York:20291202T100000
DTSTAMP:20260424T060002
CREATED:20250610T153929Z
LAST-MODIFIED:20250610T153929Z
UID:10002701-1890896400-1890900000@cbcburlingtonnj.org
SUMMARY:Sunday School
DESCRIPTION:
URL:https://cbcburlingtonnj.org/event/sunday-school/2029-12-02/
LOCATION:Christ Baptist Church Burlington NJ\, 950 Jacksonville Road\, Burlington\, NJ\, 08016\, United States
END:VEVENT
BEGIN:VEVENT
DTSTART;TZID=America/New_York:20291209T090000
DTEND;TZID=America/New_York:20291209T100000
DTSTAMP:20260424T060002
CREATED:20250610T153929Z
LAST-MODIFIED:20250610T153929Z
UID:10002702-1891501200-1891504800@cbcburlingtonnj.org
SUMMARY:Sunday School
DESCRIPTION:
URL:https://cbcburlingtonnj.org/event/sunday-school/2029-12-09/
LOCATION:Christ Baptist Church Burlington NJ\, 950 Jacksonville Road\, Burlington\, NJ\, 08016\, United States
END:VEVENT
BEGIN:VEVENT
DTSTART;TZID=America/New_York:20291216T090000
DTEND;TZID=America/New_York:20291216T100000
DTSTAMP:20260424T060002
CREATED:20250610T153929Z
LAST-MODIFIED:20250610T153929Z
UID:10002703-1892106000-1892109600@cbcburlingtonnj.org
SUMMARY:Sunday School
DESCRIPTION:
URL:https://cbcburlingtonnj.org/event/sunday-school/2029-12-16/
LOCATION:Christ Baptist Church Burlington NJ\, 950 Jacksonville Road\, Burlington\, NJ\, 08016\, United States
END:VEVENT
BEGIN:VEVENT
DTSTART;TZID=America/New_York:20291223T090000
DTEND;TZID=America/New_York:20291223T100000
DTSTAMP:20260424T060002
CREATED:20250610T153929Z
LAST-MODIFIED:20250610T153929Z
UID:10002704-1892710800-1892714400@cbcburlingtonnj.org
SUMMARY:Sunday School
DESCRIPTION:
URL:https://cbcburlingtonnj.org/event/sunday-school/2029-12-23/
LOCATION:Christ Baptist Church Burlington NJ\, 950 Jacksonville Road\, Burlington\, NJ\, 08016\, United States
END:VEVENT
BEGIN:VEVENT
DTSTART;TZID=America/New_York:20291230T090000
DTEND;TZID=America/New_York:20291230T100000
DTSTAMP:20260424T060002
CREATED:20250610T153929Z
LAST-MODIFIED:20250610T153929Z
UID:10002705-1893315600-1893319200@cbcburlingtonnj.org
SUMMARY:Sunday School
DESCRIPTION:
URL:https://cbcburlingtonnj.org/event/sunday-school/2029-12-30/
LOCATION:Christ Baptist Church Burlington NJ\, 950 Jacksonville Road\, Burlington\, NJ\, 08016\, United States
END:VEVENT
BEGIN:VEVENT
DTSTART;TZID=America/New_York:20300106T090000
DTEND;TZID=America/New_York:20300106T100000
DTSTAMP:20260424T060002
CREATED:20250610T153929Z
LAST-MODIFIED:20250610T153929Z
UID:10002706-1893920400-1893924000@cbcburlingtonnj.org
SUMMARY:Sunday School
DESCRIPTION:
URL:https://cbcburlingtonnj.org/event/sunday-school/2030-01-06/
LOCATION:Christ Baptist Church Burlington NJ\, 950 Jacksonville Road\, Burlington\, NJ\, 08016\, United States
END:VEVENT
BEGIN:VEVENT
DTSTART;TZID=America/New_York:20300113T090000
DTEND;TZID=America/New_York:20300113T100000
DTSTAMP:20260424T060002
CREATED:20250610T153929Z
LAST-MODIFIED:20250610T153929Z
UID:10002707-1894525200-1894528800@cbcburlingtonnj.org
SUMMARY:Sunday School
DESCRIPTION:
URL:https://cbcburlingtonnj.org/event/sunday-school/2030-01-13/
LOCATION:Christ Baptist Church Burlington NJ\, 950 Jacksonville Road\, Burlington\, NJ\, 08016\, United States
END:VEVENT
BEGIN:VEVENT
DTSTART;TZID=America/New_York:20300120T090000
DTEND;TZID=America/New_York:20300120T100000
DTSTAMP:20260424T060002
CREATED:20250610T153929Z
LAST-MODIFIED:20250610T153929Z
UID:10002708-1895130000-1895133600@cbcburlingtonnj.org
SUMMARY:Sunday School
DESCRIPTION:
URL:https://cbcburlingtonnj.org/event/sunday-school/2030-01-20/
LOCATION:Christ Baptist Church Burlington NJ\, 950 Jacksonville Road\, Burlington\, NJ\, 08016\, United States
END:VEVENT
BEGIN:VEVENT
DTSTART;TZID=America/New_York:20300127T090000
DTEND;TZID=America/New_York:20300127T100000
DTSTAMP:20260424T060002
CREATED:20250610T153929Z
LAST-MODIFIED:20250610T153929Z
UID:10002709-1895734800-1895738400@cbcburlingtonnj.org
SUMMARY:Sunday School
DESCRIPTION:
URL:https://cbcburlingtonnj.org/event/sunday-school/2030-01-27/
LOCATION:Christ Baptist Church Burlington NJ\, 950 Jacksonville Road\, Burlington\, NJ\, 08016\, United States
END:VEVENT
BEGIN:VEVENT
DTSTART;TZID=America/New_York:20300203T090000
DTEND;TZID=America/New_York:20300203T100000
DTSTAMP:20260424T060002
CREATED:20250610T153929Z
LAST-MODIFIED:20250610T153929Z
UID:10002710-1896339600-1896343200@cbcburlingtonnj.org
SUMMARY:Sunday School
DESCRIPTION:
URL:https://cbcburlingtonnj.org/event/sunday-school/2030-02-03/
LOCATION:Christ Baptist Church Burlington NJ\, 950 Jacksonville Road\, Burlington\, NJ\, 08016\, United States
END:VEVENT
END:VCALENDAR