BEGIN:VCALENDAR
VERSION:2.0
PRODID:-//Christ Baptist Church - Burlington, NJ - ECPv6.15.20//NONSGML v1.0//EN
CALSCALE:GREGORIAN
METHOD:PUBLISH
X-ORIGINAL-URL:https://cbcburlingtonnj.org
X-WR-CALDESC:Events for Christ Baptist Church - Burlington, NJ
REFRESH-INTERVAL;VALUE=DURATION:PT1H
X-Robots-Tag:noindex
X-PUBLISHED-TTL:PT1H
BEGIN:VTIMEZONE
TZID:America/New_York
BEGIN:DAYLIGHT
TZOFFSETFROM:-0500
TZOFFSETTO:-0400
TZNAME:EDT
DTSTART:20280312T070000
END:DAYLIGHT
BEGIN:STANDARD
TZOFFSETFROM:-0400
TZOFFSETTO:-0500
TZNAME:EST
DTSTART:20281105T060000
END:STANDARD
BEGIN:DAYLIGHT
TZOFFSETFROM:-0500
TZOFFSETTO:-0400
TZNAME:EDT
DTSTART:20290311T070000
END:DAYLIGHT
BEGIN:STANDARD
TZOFFSETFROM:-0400
TZOFFSETTO:-0500
TZNAME:EST
DTSTART:20291104T060000
END:STANDARD
BEGIN:DAYLIGHT
TZOFFSETFROM:-0500
TZOFFSETTO:-0400
TZNAME:EDT
DTSTART:20300310T070000
END:DAYLIGHT
BEGIN:STANDARD
TZOFFSETFROM:-0400
TZOFFSETTO:-0500
TZNAME:EST
DTSTART:20301103T060000
END:STANDARD
BEGIN:DAYLIGHT
TZOFFSETFROM:-0500
TZOFFSETTO:-0400
TZNAME:EDT
DTSTART:20310309T070000
END:DAYLIGHT
BEGIN:STANDARD
TZOFFSETFROM:-0400
TZOFFSETTO:-0500
TZNAME:EST
DTSTART:20311102T060000
END:STANDARD
END:VTIMEZONE
BEGIN:VEVENT
DTSTART;TZID=America/New_York:20291007T100000
DTEND;TZID=America/New_York:20291007T113000
DTSTAMP:20260424T062720
CREATED:20250610T153100Z
LAST-MODIFIED:20250910T152602Z
UID:10002160-1886061600-1886067000@cbcburlingtonnj.org
SUMMARY:10 AM Sunday Service
DESCRIPTION:
URL:https://cbcburlingtonnj.org/event/10-am-sunday-service/2029-10-07/
LOCATION:Christ Baptist Church Burlington NJ\, 950 Jacksonville Road\, Burlington\, NJ\, 08016\, United States
CATEGORIES:Sunday Service
END:VEVENT
BEGIN:VEVENT
DTSTART;TZID=America/New_York:20291014T100000
DTEND;TZID=America/New_York:20291014T113000
DTSTAMP:20260424T062720
CREATED:20250610T153100Z
LAST-MODIFIED:20250910T152602Z
UID:10002161-1886666400-1886671800@cbcburlingtonnj.org
SUMMARY:10 AM Sunday Service
DESCRIPTION:
URL:https://cbcburlingtonnj.org/event/10-am-sunday-service/2029-10-14/
LOCATION:Christ Baptist Church Burlington NJ\, 950 Jacksonville Road\, Burlington\, NJ\, 08016\, United States
CATEGORIES:Sunday Service
END:VEVENT
BEGIN:VEVENT
DTSTART;TZID=America/New_York:20291021T100000
DTEND;TZID=America/New_York:20291021T113000
DTSTAMP:20260424T062720
CREATED:20250610T153100Z
LAST-MODIFIED:20250910T152602Z
UID:10002162-1887271200-1887276600@cbcburlingtonnj.org
SUMMARY:10 AM Sunday Service
DESCRIPTION:
URL:https://cbcburlingtonnj.org/event/10-am-sunday-service/2029-10-21/
LOCATION:Christ Baptist Church Burlington NJ\, 950 Jacksonville Road\, Burlington\, NJ\, 08016\, United States
CATEGORIES:Sunday Service
END:VEVENT
BEGIN:VEVENT
DTSTART;TZID=America/New_York:20291028T100000
DTEND;TZID=America/New_York:20291028T113000
DTSTAMP:20260424T062720
CREATED:20250610T153100Z
LAST-MODIFIED:20250910T152602Z
UID:10002163-1887876000-1887881400@cbcburlingtonnj.org
SUMMARY:10 AM Sunday Service
DESCRIPTION:
URL:https://cbcburlingtonnj.org/event/10-am-sunday-service/2029-10-28/
LOCATION:Christ Baptist Church Burlington NJ\, 950 Jacksonville Road\, Burlington\, NJ\, 08016\, United States
CATEGORIES:Sunday Service
END:VEVENT
BEGIN:VEVENT
DTSTART;TZID=America/New_York:20291104T100000
DTEND;TZID=America/New_York:20291104T113000
DTSTAMP:20260424T062720
CREATED:20250610T153100Z
LAST-MODIFIED:20250910T152602Z
UID:10002164-1888480800-1888486200@cbcburlingtonnj.org
SUMMARY:10 AM Sunday Service
DESCRIPTION:
URL:https://cbcburlingtonnj.org/event/10-am-sunday-service/2029-11-04/
LOCATION:Christ Baptist Church Burlington NJ\, 950 Jacksonville Road\, Burlington\, NJ\, 08016\, United States
CATEGORIES:Sunday Service
END:VEVENT
BEGIN:VEVENT
DTSTART;TZID=America/New_York:20291111T100000
DTEND;TZID=America/New_York:20291111T113000
DTSTAMP:20260424T062720
CREATED:20250610T153100Z
LAST-MODIFIED:20250910T152602Z
UID:10002165-1889085600-1889091000@cbcburlingtonnj.org
SUMMARY:10 AM Sunday Service
DESCRIPTION:
URL:https://cbcburlingtonnj.org/event/10-am-sunday-service/2029-11-11/
LOCATION:Christ Baptist Church Burlington NJ\, 950 Jacksonville Road\, Burlington\, NJ\, 08016\, United States
CATEGORIES:Sunday Service
END:VEVENT
BEGIN:VEVENT
DTSTART;TZID=America/New_York:20291118T100000
DTEND;TZID=America/New_York:20291118T113000
DTSTAMP:20260424T062720
CREATED:20250610T153100Z
LAST-MODIFIED:20250910T152602Z
UID:10002166-1889690400-1889695800@cbcburlingtonnj.org
SUMMARY:10 AM Sunday Service
DESCRIPTION:
URL:https://cbcburlingtonnj.org/event/10-am-sunday-service/2029-11-18/
LOCATION:Christ Baptist Church Burlington NJ\, 950 Jacksonville Road\, Burlington\, NJ\, 08016\, United States
CATEGORIES:Sunday Service
END:VEVENT
BEGIN:VEVENT
DTSTART;TZID=America/New_York:20291125T100000
DTEND;TZID=America/New_York:20291125T113000
DTSTAMP:20260424T062720
CREATED:20250610T153100Z
LAST-MODIFIED:20250910T152602Z
UID:10002167-1890295200-1890300600@cbcburlingtonnj.org
SUMMARY:10 AM Sunday Service
DESCRIPTION:
URL:https://cbcburlingtonnj.org/event/10-am-sunday-service/2029-11-25/
LOCATION:Christ Baptist Church Burlington NJ\, 950 Jacksonville Road\, Burlington\, NJ\, 08016\, United States
CATEGORIES:Sunday Service
END:VEVENT
BEGIN:VEVENT
DTSTART;TZID=America/New_York:20291202T100000
DTEND;TZID=America/New_York:20291202T113000
DTSTAMP:20260424T062720
CREATED:20250610T153100Z
LAST-MODIFIED:20250910T152602Z
UID:10002168-1890900000-1890905400@cbcburlingtonnj.org
SUMMARY:10 AM Sunday Service
DESCRIPTION:
URL:https://cbcburlingtonnj.org/event/10-am-sunday-service/2029-12-02/
LOCATION:Christ Baptist Church Burlington NJ\, 950 Jacksonville Road\, Burlington\, NJ\, 08016\, United States
CATEGORIES:Sunday Service
END:VEVENT
BEGIN:VEVENT
DTSTART;TZID=America/New_York:20291209T100000
DTEND;TZID=America/New_York:20291209T113000
DTSTAMP:20260424T062720
CREATED:20250610T153100Z
LAST-MODIFIED:20250910T152602Z
UID:10002169-1891504800-1891510200@cbcburlingtonnj.org
SUMMARY:10 AM Sunday Service
DESCRIPTION:
URL:https://cbcburlingtonnj.org/event/10-am-sunday-service/2029-12-09/
LOCATION:Christ Baptist Church Burlington NJ\, 950 Jacksonville Road\, Burlington\, NJ\, 08016\, United States
CATEGORIES:Sunday Service
END:VEVENT
BEGIN:VEVENT
DTSTART;TZID=America/New_York:20291216T100000
DTEND;TZID=America/New_York:20291216T113000
DTSTAMP:20260424T062720
CREATED:20250610T153100Z
LAST-MODIFIED:20250910T152602Z
UID:10002170-1892109600-1892115000@cbcburlingtonnj.org
SUMMARY:10 AM Sunday Service
DESCRIPTION:
URL:https://cbcburlingtonnj.org/event/10-am-sunday-service/2029-12-16/
LOCATION:Christ Baptist Church Burlington NJ\, 950 Jacksonville Road\, Burlington\, NJ\, 08016\, United States
CATEGORIES:Sunday Service
END:VEVENT
BEGIN:VEVENT
DTSTART;TZID=America/New_York:20291223T100000
DTEND;TZID=America/New_York:20291223T113000
DTSTAMP:20260424T062720
CREATED:20250610T153100Z
LAST-MODIFIED:20250910T152602Z
UID:10002171-1892714400-1892719800@cbcburlingtonnj.org
SUMMARY:10 AM Sunday Service
DESCRIPTION:
URL:https://cbcburlingtonnj.org/event/10-am-sunday-service/2029-12-23/
LOCATION:Christ Baptist Church Burlington NJ\, 950 Jacksonville Road\, Burlington\, NJ\, 08016\, United States
CATEGORIES:Sunday Service
END:VEVENT
BEGIN:VEVENT
DTSTART;TZID=America/New_York:20291230T100000
DTEND;TZID=America/New_York:20291230T113000
DTSTAMP:20260424T062720
CREATED:20250610T153100Z
LAST-MODIFIED:20250910T152602Z
UID:10002172-1893319200-1893324600@cbcburlingtonnj.org
SUMMARY:10 AM Sunday Service
DESCRIPTION:
URL:https://cbcburlingtonnj.org/event/10-am-sunday-service/2029-12-30/
LOCATION:Christ Baptist Church Burlington NJ\, 950 Jacksonville Road\, Burlington\, NJ\, 08016\, United States
CATEGORIES:Sunday Service
END:VEVENT
BEGIN:VEVENT
DTSTART;TZID=America/New_York:20300106T100000
DTEND;TZID=America/New_York:20300106T113000
DTSTAMP:20260424T062720
CREATED:20250610T153100Z
LAST-MODIFIED:20250910T152602Z
UID:10002173-1893924000-1893929400@cbcburlingtonnj.org
SUMMARY:10 AM Sunday Service
DESCRIPTION:
URL:https://cbcburlingtonnj.org/event/10-am-sunday-service/2030-01-06/
LOCATION:Christ Baptist Church Burlington NJ\, 950 Jacksonville Road\, Burlington\, NJ\, 08016\, United States
CATEGORIES:Sunday Service
END:VEVENT
BEGIN:VEVENT
DTSTART;TZID=America/New_York:20300113T100000
DTEND;TZID=America/New_York:20300113T113000
DTSTAMP:20260424T062720
CREATED:20250610T153100Z
LAST-MODIFIED:20250910T152602Z
UID:10002174-1894528800-1894534200@cbcburlingtonnj.org
SUMMARY:10 AM Sunday Service
DESCRIPTION:
URL:https://cbcburlingtonnj.org/event/10-am-sunday-service/2030-01-13/
LOCATION:Christ Baptist Church Burlington NJ\, 950 Jacksonville Road\, Burlington\, NJ\, 08016\, United States
CATEGORIES:Sunday Service
END:VEVENT
BEGIN:VEVENT
DTSTART;TZID=America/New_York:20300120T100000
DTEND;TZID=America/New_York:20300120T113000
DTSTAMP:20260424T062720
CREATED:20250610T153100Z
LAST-MODIFIED:20250910T152602Z
UID:10002175-1895133600-1895139000@cbcburlingtonnj.org
SUMMARY:10 AM Sunday Service
DESCRIPTION:
URL:https://cbcburlingtonnj.org/event/10-am-sunday-service/2030-01-20/
LOCATION:Christ Baptist Church Burlington NJ\, 950 Jacksonville Road\, Burlington\, NJ\, 08016\, United States
CATEGORIES:Sunday Service
END:VEVENT
BEGIN:VEVENT
DTSTART;TZID=America/New_York:20300127T100000
DTEND;TZID=America/New_York:20300127T113000
DTSTAMP:20260424T062720
CREATED:20250610T153100Z
LAST-MODIFIED:20250910T152602Z
UID:10002176-1895738400-1895743800@cbcburlingtonnj.org
SUMMARY:10 AM Sunday Service
DESCRIPTION:
URL:https://cbcburlingtonnj.org/event/10-am-sunday-service/2030-01-27/
LOCATION:Christ Baptist Church Burlington NJ\, 950 Jacksonville Road\, Burlington\, NJ\, 08016\, United States
CATEGORIES:Sunday Service
END:VEVENT
BEGIN:VEVENT
DTSTART;TZID=America/New_York:20300203T100000
DTEND;TZID=America/New_York:20300203T113000
DTSTAMP:20260424T062720
CREATED:20250610T153100Z
LAST-MODIFIED:20250910T152602Z
UID:10002177-1896343200-1896348600@cbcburlingtonnj.org
SUMMARY:10 AM Sunday Service
DESCRIPTION:
URL:https://cbcburlingtonnj.org/event/10-am-sunday-service/2030-02-03/
LOCATION:Christ Baptist Church Burlington NJ\, 950 Jacksonville Road\, Burlington\, NJ\, 08016\, United States
CATEGORIES:Sunday Service
END:VEVENT
BEGIN:VEVENT
DTSTART;TZID=America/New_York:20300210T100000
DTEND;TZID=America/New_York:20300210T113000
DTSTAMP:20260424T062720
CREATED:20250610T153100Z
LAST-MODIFIED:20250910T152602Z
UID:10002178-1896948000-1896953400@cbcburlingtonnj.org
SUMMARY:10 AM Sunday Service
DESCRIPTION:
URL:https://cbcburlingtonnj.org/event/10-am-sunday-service/2030-02-10/
LOCATION:Christ Baptist Church Burlington NJ\, 950 Jacksonville Road\, Burlington\, NJ\, 08016\, United States
CATEGORIES:Sunday Service
END:VEVENT
BEGIN:VEVENT
DTSTART;TZID=America/New_York:20300217T100000
DTEND;TZID=America/New_York:20300217T113000
DTSTAMP:20260424T062720
CREATED:20250610T153100Z
LAST-MODIFIED:20250910T152602Z
UID:10002179-1897552800-1897558200@cbcburlingtonnj.org
SUMMARY:10 AM Sunday Service
DESCRIPTION:
URL:https://cbcburlingtonnj.org/event/10-am-sunday-service/2030-02-17/
LOCATION:Christ Baptist Church Burlington NJ\, 950 Jacksonville Road\, Burlington\, NJ\, 08016\, United States
CATEGORIES:Sunday Service
END:VEVENT
BEGIN:VEVENT
DTSTART;TZID=America/New_York:20300224T100000
DTEND;TZID=America/New_York:20300224T113000
DTSTAMP:20260424T062720
CREATED:20250610T153100Z
LAST-MODIFIED:20250910T152602Z
UID:10002180-1898157600-1898163000@cbcburlingtonnj.org
SUMMARY:10 AM Sunday Service
DESCRIPTION:
URL:https://cbcburlingtonnj.org/event/10-am-sunday-service/2030-02-24/
LOCATION:Christ Baptist Church Burlington NJ\, 950 Jacksonville Road\, Burlington\, NJ\, 08016\, United States
CATEGORIES:Sunday Service
END:VEVENT
BEGIN:VEVENT
DTSTART;TZID=America/New_York:20300303T100000
DTEND;TZID=America/New_York:20300303T113000
DTSTAMP:20260424T062720
CREATED:20250610T153100Z
LAST-MODIFIED:20250910T152602Z
UID:10002181-1898762400-1898767800@cbcburlingtonnj.org
SUMMARY:10 AM Sunday Service
DESCRIPTION:
URL:https://cbcburlingtonnj.org/event/10-am-sunday-service/2030-03-03/
LOCATION:Christ Baptist Church Burlington NJ\, 950 Jacksonville Road\, Burlington\, NJ\, 08016\, United States
CATEGORIES:Sunday Service
END:VEVENT
BEGIN:VEVENT
DTSTART;TZID=America/New_York:20300310T100000
DTEND;TZID=America/New_York:20300310T113000
DTSTAMP:20260424T062720
CREATED:20250610T153100Z
LAST-MODIFIED:20250910T152602Z
UID:10002182-1899367200-1899372600@cbcburlingtonnj.org
SUMMARY:10 AM Sunday Service
DESCRIPTION:
URL:https://cbcburlingtonnj.org/event/10-am-sunday-service/2030-03-10/
LOCATION:Christ Baptist Church Burlington NJ\, 950 Jacksonville Road\, Burlington\, NJ\, 08016\, United States
CATEGORIES:Sunday Service
END:VEVENT
BEGIN:VEVENT
DTSTART;TZID=America/New_York:20300317T100000
DTEND;TZID=America/New_York:20300317T113000
DTSTAMP:20260424T062720
CREATED:20250610T153100Z
LAST-MODIFIED:20250910T152602Z
UID:10002183-1899972000-1899977400@cbcburlingtonnj.org
SUMMARY:10 AM Sunday Service
DESCRIPTION:
URL:https://cbcburlingtonnj.org/event/10-am-sunday-service/2030-03-17/
LOCATION:Christ Baptist Church Burlington NJ\, 950 Jacksonville Road\, Burlington\, NJ\, 08016\, United States
CATEGORIES:Sunday Service
END:VEVENT
BEGIN:VEVENT
DTSTART;TZID=America/New_York:20300324T100000
DTEND;TZID=America/New_York:20300324T113000
DTSTAMP:20260424T062720
CREATED:20250610T153100Z
LAST-MODIFIED:20250910T152602Z
UID:10002184-1900576800-1900582200@cbcburlingtonnj.org
SUMMARY:10 AM Sunday Service
DESCRIPTION:
URL:https://cbcburlingtonnj.org/event/10-am-sunday-service/2030-03-24/
LOCATION:Christ Baptist Church Burlington NJ\, 950 Jacksonville Road\, Burlington\, NJ\, 08016\, United States
CATEGORIES:Sunday Service
END:VEVENT
BEGIN:VEVENT
DTSTART;TZID=America/New_York:20300331T100000
DTEND;TZID=America/New_York:20300331T113000
DTSTAMP:20260424T062720
CREATED:20250610T153100Z
LAST-MODIFIED:20250910T152602Z
UID:10002185-1901181600-1901187000@cbcburlingtonnj.org
SUMMARY:10 AM Sunday Service
DESCRIPTION:
URL:https://cbcburlingtonnj.org/event/10-am-sunday-service/2030-03-31/
LOCATION:Christ Baptist Church Burlington NJ\, 950 Jacksonville Road\, Burlington\, NJ\, 08016\, United States
CATEGORIES:Sunday Service
END:VEVENT
BEGIN:VEVENT
DTSTART;TZID=America/New_York:20300407T100000
DTEND;TZID=America/New_York:20300407T113000
DTSTAMP:20260424T062720
CREATED:20250610T153100Z
LAST-MODIFIED:20250910T152602Z
UID:10002186-1901786400-1901791800@cbcburlingtonnj.org
SUMMARY:10 AM Sunday Service
DESCRIPTION:
URL:https://cbcburlingtonnj.org/event/10-am-sunday-service/2030-04-07/
LOCATION:Christ Baptist Church Burlington NJ\, 950 Jacksonville Road\, Burlington\, NJ\, 08016\, United States
CATEGORIES:Sunday Service
END:VEVENT
BEGIN:VEVENT
DTSTART;TZID=America/New_York:20300414T100000
DTEND;TZID=America/New_York:20300414T113000
DTSTAMP:20260424T062720
CREATED:20250610T153100Z
LAST-MODIFIED:20250910T152602Z
UID:10002187-1902391200-1902396600@cbcburlingtonnj.org
SUMMARY:10 AM Sunday Service
DESCRIPTION:
URL:https://cbcburlingtonnj.org/event/10-am-sunday-service/2030-04-14/
LOCATION:Christ Baptist Church Burlington NJ\, 950 Jacksonville Road\, Burlington\, NJ\, 08016\, United States
CATEGORIES:Sunday Service
END:VEVENT
BEGIN:VEVENT
DTSTART;TZID=America/New_York:20300421T100000
DTEND;TZID=America/New_York:20300421T113000
DTSTAMP:20260424T062720
CREATED:20250610T153100Z
LAST-MODIFIED:20250910T152602Z
UID:10002188-1902996000-1903001400@cbcburlingtonnj.org
SUMMARY:10 AM Sunday Service
DESCRIPTION:
URL:https://cbcburlingtonnj.org/event/10-am-sunday-service/2030-04-21/
LOCATION:Christ Baptist Church Burlington NJ\, 950 Jacksonville Road\, Burlington\, NJ\, 08016\, United States
CATEGORIES:Sunday Service
END:VEVENT
BEGIN:VEVENT
DTSTART;TZID=America/New_York:20300428T100000
DTEND;TZID=America/New_York:20300428T113000
DTSTAMP:20260424T062720
CREATED:20250610T153100Z
LAST-MODIFIED:20250910T152602Z
UID:10002189-1903600800-1903606200@cbcburlingtonnj.org
SUMMARY:10 AM Sunday Service
DESCRIPTION:
URL:https://cbcburlingtonnj.org/event/10-am-sunday-service/2030-04-28/
LOCATION:Christ Baptist Church Burlington NJ\, 950 Jacksonville Road\, Burlington\, NJ\, 08016\, United States
CATEGORIES:Sunday Service
END:VEVENT
END:VCALENDAR