BEGIN:VCALENDAR
VERSION:2.0
PRODID:-//Christ Baptist Church - Burlington, NJ - ECPv6.15.20//NONSGML v1.0//EN
CALSCALE:GREGORIAN
METHOD:PUBLISH
X-WR-CALNAME:Christ Baptist Church - Burlington, NJ
X-ORIGINAL-URL:https://cbcburlingtonnj.org
X-WR-CALDESC:Events for Christ Baptist Church - Burlington, NJ
REFRESH-INTERVAL;VALUE=DURATION:PT1H
X-Robots-Tag:noindex
X-PUBLISHED-TTL:PT1H
BEGIN:VTIMEZONE
TZID:America/New_York
BEGIN:DAYLIGHT
TZOFFSETFROM:-0500
TZOFFSETTO:-0400
TZNAME:EDT
DTSTART:20280312T070000
END:DAYLIGHT
BEGIN:STANDARD
TZOFFSETFROM:-0400
TZOFFSETTO:-0500
TZNAME:EST
DTSTART:20281105T060000
END:STANDARD
BEGIN:DAYLIGHT
TZOFFSETFROM:-0500
TZOFFSETTO:-0400
TZNAME:EDT
DTSTART:20290311T070000
END:DAYLIGHT
BEGIN:STANDARD
TZOFFSETFROM:-0400
TZOFFSETTO:-0500
TZNAME:EST
DTSTART:20291104T060000
END:STANDARD
BEGIN:DAYLIGHT
TZOFFSETFROM:-0500
TZOFFSETTO:-0400
TZNAME:EDT
DTSTART:20300310T070000
END:DAYLIGHT
BEGIN:STANDARD
TZOFFSETFROM:-0400
TZOFFSETTO:-0500
TZNAME:EST
DTSTART:20301103T060000
END:STANDARD
BEGIN:DAYLIGHT
TZOFFSETFROM:-0500
TZOFFSETTO:-0400
TZNAME:EDT
DTSTART:20310309T070000
END:DAYLIGHT
BEGIN:STANDARD
TZOFFSETFROM:-0400
TZOFFSETTO:-0500
TZNAME:EST
DTSTART:20311102T060000
END:STANDARD
END:VTIMEZONE
BEGIN:VEVENT
DTSTART;TZID=America/New_York:20291230T190000
DTEND;TZID=America/New_York:20291230T200000
DTSTAMP:20260424T063040
CREATED:20251013T165115Z
LAST-MODIFIED:20251013T165115Z
UID:10003242-1893351600-1893355200@cbcburlingtonnj.org
SUMMARY:Fuel for Courage
DESCRIPTION:Join Us Every Sunday at 7:00 p.m. You may participate on a “phone only” basis by calling 1 929 205 6099. Then\, when prompted\, enter the same I.D. number and access code listed above. \nZoom Meeting ID: 538 277 6972\nPasscode 160051
URL:https://cbcburlingtonnj.org/event/fuel-for-courage/2029-12-30/
LOCATION:Virtual
CATEGORIES:Bible Study
END:VEVENT
BEGIN:VEVENT
DTSTART;TZID=America/New_York:20300106T190000
DTEND;TZID=America/New_York:20300106T200000
DTSTAMP:20260424T063040
CREATED:20251013T165115Z
LAST-MODIFIED:20251013T165115Z
UID:10003243-1893956400-1893960000@cbcburlingtonnj.org
SUMMARY:Fuel for Courage
DESCRIPTION:Join Us Every Sunday at 7:00 p.m. You may participate on a “phone only” basis by calling 1 929 205 6099. Then\, when prompted\, enter the same I.D. number and access code listed above. \nZoom Meeting ID: 538 277 6972\nPasscode 160051
URL:https://cbcburlingtonnj.org/event/fuel-for-courage/2030-01-06/
LOCATION:Virtual
CATEGORIES:Bible Study
END:VEVENT
BEGIN:VEVENT
DTSTART;TZID=America/New_York:20300113T190000
DTEND;TZID=America/New_York:20300113T200000
DTSTAMP:20260424T063040
CREATED:20251013T165115Z
LAST-MODIFIED:20251013T165115Z
UID:10003244-1894561200-1894564800@cbcburlingtonnj.org
SUMMARY:Fuel for Courage
DESCRIPTION:Join Us Every Sunday at 7:00 p.m. You may participate on a “phone only” basis by calling 1 929 205 6099. Then\, when prompted\, enter the same I.D. number and access code listed above. \nZoom Meeting ID: 538 277 6972\nPasscode 160051
URL:https://cbcburlingtonnj.org/event/fuel-for-courage/2030-01-13/
LOCATION:Virtual
CATEGORIES:Bible Study
END:VEVENT
BEGIN:VEVENT
DTSTART;TZID=America/New_York:20300120T190000
DTEND;TZID=America/New_York:20300120T200000
DTSTAMP:20260424T063040
CREATED:20251013T165115Z
LAST-MODIFIED:20251013T165115Z
UID:10003245-1895166000-1895169600@cbcburlingtonnj.org
SUMMARY:Fuel for Courage
DESCRIPTION:Join Us Every Sunday at 7:00 p.m. You may participate on a “phone only” basis by calling 1 929 205 6099. Then\, when prompted\, enter the same I.D. number and access code listed above. \nZoom Meeting ID: 538 277 6972\nPasscode 160051
URL:https://cbcburlingtonnj.org/event/fuel-for-courage/2030-01-20/
LOCATION:Virtual
CATEGORIES:Bible Study
END:VEVENT
BEGIN:VEVENT
DTSTART;TZID=America/New_York:20300127T190000
DTEND;TZID=America/New_York:20300127T200000
DTSTAMP:20260424T063040
CREATED:20251013T165115Z
LAST-MODIFIED:20251013T165115Z
UID:10003246-1895770800-1895774400@cbcburlingtonnj.org
SUMMARY:Fuel for Courage
DESCRIPTION:Join Us Every Sunday at 7:00 p.m. You may participate on a “phone only” basis by calling 1 929 205 6099. Then\, when prompted\, enter the same I.D. number and access code listed above. \nZoom Meeting ID: 538 277 6972\nPasscode 160051
URL:https://cbcburlingtonnj.org/event/fuel-for-courage/2030-01-27/
LOCATION:Virtual
CATEGORIES:Bible Study
END:VEVENT
BEGIN:VEVENT
DTSTART;TZID=America/New_York:20300203T190000
DTEND;TZID=America/New_York:20300203T200000
DTSTAMP:20260424T063040
CREATED:20251013T165115Z
LAST-MODIFIED:20251013T165115Z
UID:10003247-1896375600-1896379200@cbcburlingtonnj.org
SUMMARY:Fuel for Courage
DESCRIPTION:Join Us Every Sunday at 7:00 p.m. You may participate on a “phone only” basis by calling 1 929 205 6099. Then\, when prompted\, enter the same I.D. number and access code listed above. \nZoom Meeting ID: 538 277 6972\nPasscode 160051
URL:https://cbcburlingtonnj.org/event/fuel-for-courage/2030-02-03/
LOCATION:Virtual
CATEGORIES:Bible Study
END:VEVENT
BEGIN:VEVENT
DTSTART;TZID=America/New_York:20300210T190000
DTEND;TZID=America/New_York:20300210T200000
DTSTAMP:20260424T063040
CREATED:20251013T165115Z
LAST-MODIFIED:20251013T165115Z
UID:10003248-1896980400-1896984000@cbcburlingtonnj.org
SUMMARY:Fuel for Courage
DESCRIPTION:Join Us Every Sunday at 7:00 p.m. You may participate on a “phone only” basis by calling 1 929 205 6099. Then\, when prompted\, enter the same I.D. number and access code listed above. \nZoom Meeting ID: 538 277 6972\nPasscode 160051
URL:https://cbcburlingtonnj.org/event/fuel-for-courage/2030-02-10/
LOCATION:Virtual
CATEGORIES:Bible Study
END:VEVENT
BEGIN:VEVENT
DTSTART;TZID=America/New_York:20300217T190000
DTEND;TZID=America/New_York:20300217T200000
DTSTAMP:20260424T063040
CREATED:20251013T165115Z
LAST-MODIFIED:20251013T165115Z
UID:10003249-1897585200-1897588800@cbcburlingtonnj.org
SUMMARY:Fuel for Courage
DESCRIPTION:Join Us Every Sunday at 7:00 p.m. You may participate on a “phone only” basis by calling 1 929 205 6099. Then\, when prompted\, enter the same I.D. number and access code listed above. \nZoom Meeting ID: 538 277 6972\nPasscode 160051
URL:https://cbcburlingtonnj.org/event/fuel-for-courage/2030-02-17/
LOCATION:Virtual
CATEGORIES:Bible Study
END:VEVENT
BEGIN:VEVENT
DTSTART;TZID=America/New_York:20300224T190000
DTEND;TZID=America/New_York:20300224T200000
DTSTAMP:20260424T063040
CREATED:20251013T165115Z
LAST-MODIFIED:20251013T165115Z
UID:10003250-1898190000-1898193600@cbcburlingtonnj.org
SUMMARY:Fuel for Courage
DESCRIPTION:Join Us Every Sunday at 7:00 p.m. You may participate on a “phone only” basis by calling 1 929 205 6099. Then\, when prompted\, enter the same I.D. number and access code listed above. \nZoom Meeting ID: 538 277 6972\nPasscode 160051
URL:https://cbcburlingtonnj.org/event/fuel-for-courage/2030-02-24/
LOCATION:Virtual
CATEGORIES:Bible Study
END:VEVENT
BEGIN:VEVENT
DTSTART;TZID=America/New_York:20300303T190000
DTEND;TZID=America/New_York:20300303T200000
DTSTAMP:20260424T063040
CREATED:20251013T165115Z
LAST-MODIFIED:20251013T165115Z
UID:10003251-1898794800-1898798400@cbcburlingtonnj.org
SUMMARY:Fuel for Courage
DESCRIPTION:Join Us Every Sunday at 7:00 p.m. You may participate on a “phone only” basis by calling 1 929 205 6099. Then\, when prompted\, enter the same I.D. number and access code listed above. \nZoom Meeting ID: 538 277 6972\nPasscode 160051
URL:https://cbcburlingtonnj.org/event/fuel-for-courage/2030-03-03/
LOCATION:Virtual
CATEGORIES:Bible Study
END:VEVENT
BEGIN:VEVENT
DTSTART;TZID=America/New_York:20300310T190000
DTEND;TZID=America/New_York:20300310T200000
DTSTAMP:20260424T063040
CREATED:20251013T165115Z
LAST-MODIFIED:20251013T165115Z
UID:10003252-1899399600-1899403200@cbcburlingtonnj.org
SUMMARY:Fuel for Courage
DESCRIPTION:Join Us Every Sunday at 7:00 p.m. You may participate on a “phone only” basis by calling 1 929 205 6099. Then\, when prompted\, enter the same I.D. number and access code listed above. \nZoom Meeting ID: 538 277 6972\nPasscode 160051
URL:https://cbcburlingtonnj.org/event/fuel-for-courage/2030-03-10/
LOCATION:Virtual
CATEGORIES:Bible Study
END:VEVENT
BEGIN:VEVENT
DTSTART;TZID=America/New_York:20300317T190000
DTEND;TZID=America/New_York:20300317T200000
DTSTAMP:20260424T063040
CREATED:20251013T165115Z
LAST-MODIFIED:20251013T165115Z
UID:10003253-1900004400-1900008000@cbcburlingtonnj.org
SUMMARY:Fuel for Courage
DESCRIPTION:Join Us Every Sunday at 7:00 p.m. You may participate on a “phone only” basis by calling 1 929 205 6099. Then\, when prompted\, enter the same I.D. number and access code listed above. \nZoom Meeting ID: 538 277 6972\nPasscode 160051
URL:https://cbcburlingtonnj.org/event/fuel-for-courage/2030-03-17/
LOCATION:Virtual
CATEGORIES:Bible Study
END:VEVENT
BEGIN:VEVENT
DTSTART;TZID=America/New_York:20300324T190000
DTEND;TZID=America/New_York:20300324T200000
DTSTAMP:20260424T063040
CREATED:20251013T165115Z
LAST-MODIFIED:20251013T165115Z
UID:10003254-1900609200-1900612800@cbcburlingtonnj.org
SUMMARY:Fuel for Courage
DESCRIPTION:Join Us Every Sunday at 7:00 p.m. You may participate on a “phone only” basis by calling 1 929 205 6099. Then\, when prompted\, enter the same I.D. number and access code listed above. \nZoom Meeting ID: 538 277 6972\nPasscode 160051
URL:https://cbcburlingtonnj.org/event/fuel-for-courage/2030-03-24/
LOCATION:Virtual
CATEGORIES:Bible Study
END:VEVENT
BEGIN:VEVENT
DTSTART;TZID=America/New_York:20300331T190000
DTEND;TZID=America/New_York:20300331T200000
DTSTAMP:20260424T063040
CREATED:20251013T165115Z
LAST-MODIFIED:20251013T165115Z
UID:10003255-1901214000-1901217600@cbcburlingtonnj.org
SUMMARY:Fuel for Courage
DESCRIPTION:Join Us Every Sunday at 7:00 p.m. You may participate on a “phone only” basis by calling 1 929 205 6099. Then\, when prompted\, enter the same I.D. number and access code listed above. \nZoom Meeting ID: 538 277 6972\nPasscode 160051
URL:https://cbcburlingtonnj.org/event/fuel-for-courage/2030-03-31/
LOCATION:Virtual
CATEGORIES:Bible Study
END:VEVENT
BEGIN:VEVENT
DTSTART;TZID=America/New_York:20300407T190000
DTEND;TZID=America/New_York:20300407T200000
DTSTAMP:20260424T063040
CREATED:20251013T165115Z
LAST-MODIFIED:20251013T165115Z
UID:10003256-1901818800-1901822400@cbcburlingtonnj.org
SUMMARY:Fuel for Courage
DESCRIPTION:Join Us Every Sunday at 7:00 p.m. You may participate on a “phone only” basis by calling 1 929 205 6099. Then\, when prompted\, enter the same I.D. number and access code listed above. \nZoom Meeting ID: 538 277 6972\nPasscode 160051
URL:https://cbcburlingtonnj.org/event/fuel-for-courage/2030-04-07/
LOCATION:Virtual
CATEGORIES:Bible Study
END:VEVENT
BEGIN:VEVENT
DTSTART;TZID=America/New_York:20300414T190000
DTEND;TZID=America/New_York:20300414T200000
DTSTAMP:20260424T063040
CREATED:20251013T165115Z
LAST-MODIFIED:20251013T165115Z
UID:10003257-1902423600-1902427200@cbcburlingtonnj.org
SUMMARY:Fuel for Courage
DESCRIPTION:Join Us Every Sunday at 7:00 p.m. You may participate on a “phone only” basis by calling 1 929 205 6099. Then\, when prompted\, enter the same I.D. number and access code listed above. \nZoom Meeting ID: 538 277 6972\nPasscode 160051
URL:https://cbcburlingtonnj.org/event/fuel-for-courage/2030-04-14/
LOCATION:Virtual
CATEGORIES:Bible Study
END:VEVENT
BEGIN:VEVENT
DTSTART;TZID=America/New_York:20300421T190000
DTEND;TZID=America/New_York:20300421T200000
DTSTAMP:20260424T063040
CREATED:20251013T165115Z
LAST-MODIFIED:20251013T165115Z
UID:10003258-1903028400-1903032000@cbcburlingtonnj.org
SUMMARY:Fuel for Courage
DESCRIPTION:Join Us Every Sunday at 7:00 p.m. You may participate on a “phone only” basis by calling 1 929 205 6099. Then\, when prompted\, enter the same I.D. number and access code listed above. \nZoom Meeting ID: 538 277 6972\nPasscode 160051
URL:https://cbcburlingtonnj.org/event/fuel-for-courage/2030-04-21/
LOCATION:Virtual
CATEGORIES:Bible Study
END:VEVENT
BEGIN:VEVENT
DTSTART;TZID=America/New_York:20300428T190000
DTEND;TZID=America/New_York:20300428T200000
DTSTAMP:20260424T063040
CREATED:20251013T165115Z
LAST-MODIFIED:20251013T165115Z
UID:10003259-1903633200-1903636800@cbcburlingtonnj.org
SUMMARY:Fuel for Courage
DESCRIPTION:Join Us Every Sunday at 7:00 p.m. You may participate on a “phone only” basis by calling 1 929 205 6099. Then\, when prompted\, enter the same I.D. number and access code listed above. \nZoom Meeting ID: 538 277 6972\nPasscode 160051
URL:https://cbcburlingtonnj.org/event/fuel-for-courage/2030-04-28/
LOCATION:Virtual
CATEGORIES:Bible Study
END:VEVENT
BEGIN:VEVENT
DTSTART;TZID=America/New_York:20300505T190000
DTEND;TZID=America/New_York:20300505T200000
DTSTAMP:20260424T063040
CREATED:20251013T165115Z
LAST-MODIFIED:20251013T165115Z
UID:10003260-1904238000-1904241600@cbcburlingtonnj.org
SUMMARY:Fuel for Courage
DESCRIPTION:Join Us Every Sunday at 7:00 p.m. You may participate on a “phone only” basis by calling 1 929 205 6099. Then\, when prompted\, enter the same I.D. number and access code listed above. \nZoom Meeting ID: 538 277 6972\nPasscode 160051
URL:https://cbcburlingtonnj.org/event/fuel-for-courage/2030-05-05/
LOCATION:Virtual
CATEGORIES:Bible Study
END:VEVENT
BEGIN:VEVENT
DTSTART;TZID=America/New_York:20300512T190000
DTEND;TZID=America/New_York:20300512T200000
DTSTAMP:20260424T063040
CREATED:20251013T165115Z
LAST-MODIFIED:20251013T165115Z
UID:10003261-1904842800-1904846400@cbcburlingtonnj.org
SUMMARY:Fuel for Courage
DESCRIPTION:Join Us Every Sunday at 7:00 p.m. You may participate on a “phone only” basis by calling 1 929 205 6099. Then\, when prompted\, enter the same I.D. number and access code listed above. \nZoom Meeting ID: 538 277 6972\nPasscode 160051
URL:https://cbcburlingtonnj.org/event/fuel-for-courage/2030-05-12/
LOCATION:Virtual
CATEGORIES:Bible Study
END:VEVENT
BEGIN:VEVENT
DTSTART;TZID=America/New_York:20300519T190000
DTEND;TZID=America/New_York:20300519T200000
DTSTAMP:20260424T063040
CREATED:20251013T165115Z
LAST-MODIFIED:20251013T165115Z
UID:10003262-1905447600-1905451200@cbcburlingtonnj.org
SUMMARY:Fuel for Courage
DESCRIPTION:Join Us Every Sunday at 7:00 p.m. You may participate on a “phone only” basis by calling 1 929 205 6099. Then\, when prompted\, enter the same I.D. number and access code listed above. \nZoom Meeting ID: 538 277 6972\nPasscode 160051
URL:https://cbcburlingtonnj.org/event/fuel-for-courage/2030-05-19/
LOCATION:Virtual
CATEGORIES:Bible Study
END:VEVENT
BEGIN:VEVENT
DTSTART;TZID=America/New_York:20300526T190000
DTEND;TZID=America/New_York:20300526T200000
DTSTAMP:20260424T063040
CREATED:20251013T165115Z
LAST-MODIFIED:20251013T165115Z
UID:10003263-1906052400-1906056000@cbcburlingtonnj.org
SUMMARY:Fuel for Courage
DESCRIPTION:Join Us Every Sunday at 7:00 p.m. You may participate on a “phone only” basis by calling 1 929 205 6099. Then\, when prompted\, enter the same I.D. number and access code listed above. \nZoom Meeting ID: 538 277 6972\nPasscode 160051
URL:https://cbcburlingtonnj.org/event/fuel-for-courage/2030-05-26/
LOCATION:Virtual
CATEGORIES:Bible Study
END:VEVENT
BEGIN:VEVENT
DTSTART;TZID=America/New_York:20300602T190000
DTEND;TZID=America/New_York:20300602T200000
DTSTAMP:20260424T063040
CREATED:20251013T165115Z
LAST-MODIFIED:20251013T165115Z
UID:10003264-1906657200-1906660800@cbcburlingtonnj.org
SUMMARY:Fuel for Courage
DESCRIPTION:Join Us Every Sunday at 7:00 p.m. You may participate on a “phone only” basis by calling 1 929 205 6099. Then\, when prompted\, enter the same I.D. number and access code listed above. \nZoom Meeting ID: 538 277 6972\nPasscode 160051
URL:https://cbcburlingtonnj.org/event/fuel-for-courage/2030-06-02/
LOCATION:Virtual
CATEGORIES:Bible Study
END:VEVENT
BEGIN:VEVENT
DTSTART;TZID=America/New_York:20300609T190000
DTEND;TZID=America/New_York:20300609T200000
DTSTAMP:20260424T063040
CREATED:20251013T165115Z
LAST-MODIFIED:20251013T165115Z
UID:10003265-1907262000-1907265600@cbcburlingtonnj.org
SUMMARY:Fuel for Courage
DESCRIPTION:Join Us Every Sunday at 7:00 p.m. You may participate on a “phone only” basis by calling 1 929 205 6099. Then\, when prompted\, enter the same I.D. number and access code listed above. \nZoom Meeting ID: 538 277 6972\nPasscode 160051
URL:https://cbcburlingtonnj.org/event/fuel-for-courage/2030-06-09/
LOCATION:Virtual
CATEGORIES:Bible Study
END:VEVENT
BEGIN:VEVENT
DTSTART;TZID=America/New_York:20300616T190000
DTEND;TZID=America/New_York:20300616T200000
DTSTAMP:20260424T063040
CREATED:20251013T165115Z
LAST-MODIFIED:20251013T165115Z
UID:10003266-1907866800-1907870400@cbcburlingtonnj.org
SUMMARY:Fuel for Courage
DESCRIPTION:Join Us Every Sunday at 7:00 p.m. You may participate on a “phone only” basis by calling 1 929 205 6099. Then\, when prompted\, enter the same I.D. number and access code listed above. \nZoom Meeting ID: 538 277 6972\nPasscode 160051
URL:https://cbcburlingtonnj.org/event/fuel-for-courage/2030-06-16/
LOCATION:Virtual
CATEGORIES:Bible Study
END:VEVENT
BEGIN:VEVENT
DTSTART;TZID=America/New_York:20300623T190000
DTEND;TZID=America/New_York:20300623T200000
DTSTAMP:20260424T063040
CREATED:20251013T165115Z
LAST-MODIFIED:20251013T165115Z
UID:10003267-1908471600-1908475200@cbcburlingtonnj.org
SUMMARY:Fuel for Courage
DESCRIPTION:Join Us Every Sunday at 7:00 p.m. You may participate on a “phone only” basis by calling 1 929 205 6099. Then\, when prompted\, enter the same I.D. number and access code listed above. \nZoom Meeting ID: 538 277 6972\nPasscode 160051
URL:https://cbcburlingtonnj.org/event/fuel-for-courage/2030-06-23/
LOCATION:Virtual
CATEGORIES:Bible Study
END:VEVENT
BEGIN:VEVENT
DTSTART;TZID=America/New_York:20300630T190000
DTEND;TZID=America/New_York:20300630T200000
DTSTAMP:20260424T063040
CREATED:20251013T165115Z
LAST-MODIFIED:20251013T165115Z
UID:10003268-1909076400-1909080000@cbcburlingtonnj.org
SUMMARY:Fuel for Courage
DESCRIPTION:Join Us Every Sunday at 7:00 p.m. You may participate on a “phone only” basis by calling 1 929 205 6099. Then\, when prompted\, enter the same I.D. number and access code listed above. \nZoom Meeting ID: 538 277 6972\nPasscode 160051
URL:https://cbcburlingtonnj.org/event/fuel-for-courage/2030-06-30/
LOCATION:Virtual
CATEGORIES:Bible Study
END:VEVENT
BEGIN:VEVENT
DTSTART;TZID=America/New_York:20300707T190000
DTEND;TZID=America/New_York:20300707T200000
DTSTAMP:20260424T063040
CREATED:20251013T165115Z
LAST-MODIFIED:20251013T165115Z
UID:10003269-1909681200-1909684800@cbcburlingtonnj.org
SUMMARY:Fuel for Courage
DESCRIPTION:Join Us Every Sunday at 7:00 p.m. You may participate on a “phone only” basis by calling 1 929 205 6099. Then\, when prompted\, enter the same I.D. number and access code listed above. \nZoom Meeting ID: 538 277 6972\nPasscode 160051
URL:https://cbcburlingtonnj.org/event/fuel-for-courage/2030-07-07/
LOCATION:Virtual
CATEGORIES:Bible Study
END:VEVENT
BEGIN:VEVENT
DTSTART;TZID=America/New_York:20300714T190000
DTEND;TZID=America/New_York:20300714T200000
DTSTAMP:20260424T063040
CREATED:20251013T165115Z
LAST-MODIFIED:20251013T165115Z
UID:10003270-1910286000-1910289600@cbcburlingtonnj.org
SUMMARY:Fuel for Courage
DESCRIPTION:Join Us Every Sunday at 7:00 p.m. You may participate on a “phone only” basis by calling 1 929 205 6099. Then\, when prompted\, enter the same I.D. number and access code listed above. \nZoom Meeting ID: 538 277 6972\nPasscode 160051
URL:https://cbcburlingtonnj.org/event/fuel-for-courage/2030-07-14/
LOCATION:Virtual
CATEGORIES:Bible Study
END:VEVENT
BEGIN:VEVENT
DTSTART;TZID=America/New_York:20300721T190000
DTEND;TZID=America/New_York:20300721T200000
DTSTAMP:20260424T063040
CREATED:20251013T165115Z
LAST-MODIFIED:20251013T165115Z
UID:10003271-1910890800-1910894400@cbcburlingtonnj.org
SUMMARY:Fuel for Courage
DESCRIPTION:Join Us Every Sunday at 7:00 p.m. You may participate on a “phone only” basis by calling 1 929 205 6099. Then\, when prompted\, enter the same I.D. number and access code listed above. \nZoom Meeting ID: 538 277 6972\nPasscode 160051
URL:https://cbcburlingtonnj.org/event/fuel-for-courage/2030-07-21/
LOCATION:Virtual
CATEGORIES:Bible Study
END:VEVENT
END:VCALENDAR