BEGIN:VCALENDAR
VERSION:2.0
PRODID:-//Christ Baptist Church - Burlington, NJ - ECPv6.15.20//NONSGML v1.0//EN
CALSCALE:GREGORIAN
METHOD:PUBLISH
X-ORIGINAL-URL:https://cbcburlingtonnj.org
X-WR-CALDESC:Events for Christ Baptist Church - Burlington, NJ
REFRESH-INTERVAL;VALUE=DURATION:PT1H
X-Robots-Tag:noindex
X-PUBLISHED-TTL:PT1H
BEGIN:VTIMEZONE
TZID:America/New_York
BEGIN:DAYLIGHT
TZOFFSETFROM:-0500
TZOFFSETTO:-0400
TZNAME:EDT
DTSTART:20290311T070000
END:DAYLIGHT
BEGIN:STANDARD
TZOFFSETFROM:-0400
TZOFFSETTO:-0500
TZNAME:EST
DTSTART:20291104T060000
END:STANDARD
BEGIN:DAYLIGHT
TZOFFSETFROM:-0500
TZOFFSETTO:-0400
TZNAME:EDT
DTSTART:20300310T070000
END:DAYLIGHT
BEGIN:STANDARD
TZOFFSETFROM:-0400
TZOFFSETTO:-0500
TZNAME:EST
DTSTART:20301103T060000
END:STANDARD
BEGIN:DAYLIGHT
TZOFFSETFROM:-0500
TZOFFSETTO:-0400
TZNAME:EDT
DTSTART:20310309T070000
END:DAYLIGHT
BEGIN:STANDARD
TZOFFSETFROM:-0400
TZOFFSETTO:-0500
TZNAME:EST
DTSTART:20311102T060000
END:STANDARD
END:VTIMEZONE
BEGIN:VEVENT
DTSTART;TZID=America/New_York:20300102T190000
DTEND;TZID=America/New_York:20300102T200000
DTSTAMP:20260424T060215
CREATED:20250610T153513Z
LAST-MODIFIED:20250610T153513Z
UID:10002439-1893610800-1893614400@cbcburlingtonnj.org
SUMMARY:Prayer Meeting
DESCRIPTION:Join us every Wednesday at 7:00 p.m. for our Prayer Meeting.\nCALL-IN NUMBER: 605 472 5657\nWhen prompted\, enter access code 2833791\nPLEASE NOTE that it is important to mute your phones when you are not praying.
URL:https://cbcburlingtonnj.org/event/prayer-meeting/2030-01-02/
LOCATION:Virtual
END:VEVENT
BEGIN:VEVENT
DTSTART;TZID=America/New_York:20300109T190000
DTEND;TZID=America/New_York:20300109T200000
DTSTAMP:20260424T060215
CREATED:20250610T153513Z
LAST-MODIFIED:20250610T153513Z
UID:10002440-1894215600-1894219200@cbcburlingtonnj.org
SUMMARY:Prayer Meeting
DESCRIPTION:Join us every Wednesday at 7:00 p.m. for our Prayer Meeting.\nCALL-IN NUMBER: 605 472 5657\nWhen prompted\, enter access code 2833791\nPLEASE NOTE that it is important to mute your phones when you are not praying.
URL:https://cbcburlingtonnj.org/event/prayer-meeting/2030-01-09/
LOCATION:Virtual
END:VEVENT
BEGIN:VEVENT
DTSTART;TZID=America/New_York:20300116T190000
DTEND;TZID=America/New_York:20300116T200000
DTSTAMP:20260424T060215
CREATED:20250610T153513Z
LAST-MODIFIED:20250610T153513Z
UID:10002441-1894820400-1894824000@cbcburlingtonnj.org
SUMMARY:Prayer Meeting
DESCRIPTION:Join us every Wednesday at 7:00 p.m. for our Prayer Meeting.\nCALL-IN NUMBER: 605 472 5657\nWhen prompted\, enter access code 2833791\nPLEASE NOTE that it is important to mute your phones when you are not praying.
URL:https://cbcburlingtonnj.org/event/prayer-meeting/2030-01-16/
LOCATION:Virtual
END:VEVENT
BEGIN:VEVENT
DTSTART;TZID=America/New_York:20300123T190000
DTEND;TZID=America/New_York:20300123T200000
DTSTAMP:20260424T060215
CREATED:20250610T153513Z
LAST-MODIFIED:20250610T153513Z
UID:10002442-1895425200-1895428800@cbcburlingtonnj.org
SUMMARY:Prayer Meeting
DESCRIPTION:Join us every Wednesday at 7:00 p.m. for our Prayer Meeting.\nCALL-IN NUMBER: 605 472 5657\nWhen prompted\, enter access code 2833791\nPLEASE NOTE that it is important to mute your phones when you are not praying.
URL:https://cbcburlingtonnj.org/event/prayer-meeting/2030-01-23/
LOCATION:Virtual
END:VEVENT
BEGIN:VEVENT
DTSTART;TZID=America/New_York:20300130T190000
DTEND;TZID=America/New_York:20300130T200000
DTSTAMP:20260424T060215
CREATED:20250610T153513Z
LAST-MODIFIED:20250610T153513Z
UID:10002443-1896030000-1896033600@cbcburlingtonnj.org
SUMMARY:Prayer Meeting
DESCRIPTION:Join us every Wednesday at 7:00 p.m. for our Prayer Meeting.\nCALL-IN NUMBER: 605 472 5657\nWhen prompted\, enter access code 2833791\nPLEASE NOTE that it is important to mute your phones when you are not praying.
URL:https://cbcburlingtonnj.org/event/prayer-meeting/2030-01-30/
LOCATION:Virtual
END:VEVENT
BEGIN:VEVENT
DTSTART;TZID=America/New_York:20300206T190000
DTEND;TZID=America/New_York:20300206T200000
DTSTAMP:20260424T060215
CREATED:20250610T153513Z
LAST-MODIFIED:20250610T153513Z
UID:10002444-1896634800-1896638400@cbcburlingtonnj.org
SUMMARY:Prayer Meeting
DESCRIPTION:Join us every Wednesday at 7:00 p.m. for our Prayer Meeting.\nCALL-IN NUMBER: 605 472 5657\nWhen prompted\, enter access code 2833791\nPLEASE NOTE that it is important to mute your phones when you are not praying.
URL:https://cbcburlingtonnj.org/event/prayer-meeting/2030-02-06/
LOCATION:Virtual
END:VEVENT
BEGIN:VEVENT
DTSTART;TZID=America/New_York:20300213T190000
DTEND;TZID=America/New_York:20300213T200000
DTSTAMP:20260424T060215
CREATED:20250610T153513Z
LAST-MODIFIED:20250610T153513Z
UID:10002445-1897239600-1897243200@cbcburlingtonnj.org
SUMMARY:Prayer Meeting
DESCRIPTION:Join us every Wednesday at 7:00 p.m. for our Prayer Meeting.\nCALL-IN NUMBER: 605 472 5657\nWhen prompted\, enter access code 2833791\nPLEASE NOTE that it is important to mute your phones when you are not praying.
URL:https://cbcburlingtonnj.org/event/prayer-meeting/2030-02-13/
LOCATION:Virtual
END:VEVENT
BEGIN:VEVENT
DTSTART;TZID=America/New_York:20300220T190000
DTEND;TZID=America/New_York:20300220T200000
DTSTAMP:20260424T060215
CREATED:20250610T153513Z
LAST-MODIFIED:20250610T153513Z
UID:10002446-1897844400-1897848000@cbcburlingtonnj.org
SUMMARY:Prayer Meeting
DESCRIPTION:Join us every Wednesday at 7:00 p.m. for our Prayer Meeting.\nCALL-IN NUMBER: 605 472 5657\nWhen prompted\, enter access code 2833791\nPLEASE NOTE that it is important to mute your phones when you are not praying.
URL:https://cbcburlingtonnj.org/event/prayer-meeting/2030-02-20/
LOCATION:Virtual
END:VEVENT
BEGIN:VEVENT
DTSTART;TZID=America/New_York:20300227T190000
DTEND;TZID=America/New_York:20300227T200000
DTSTAMP:20260424T060215
CREATED:20250610T153513Z
LAST-MODIFIED:20250610T153513Z
UID:10002447-1898449200-1898452800@cbcburlingtonnj.org
SUMMARY:Prayer Meeting
DESCRIPTION:Join us every Wednesday at 7:00 p.m. for our Prayer Meeting.\nCALL-IN NUMBER: 605 472 5657\nWhen prompted\, enter access code 2833791\nPLEASE NOTE that it is important to mute your phones when you are not praying.
URL:https://cbcburlingtonnj.org/event/prayer-meeting/2030-02-27/
LOCATION:Virtual
END:VEVENT
BEGIN:VEVENT
DTSTART;TZID=America/New_York:20300306T190000
DTEND;TZID=America/New_York:20300306T200000
DTSTAMP:20260424T060215
CREATED:20250610T153513Z
LAST-MODIFIED:20250610T153513Z
UID:10002448-1899054000-1899057600@cbcburlingtonnj.org
SUMMARY:Prayer Meeting
DESCRIPTION:Join us every Wednesday at 7:00 p.m. for our Prayer Meeting.\nCALL-IN NUMBER: 605 472 5657\nWhen prompted\, enter access code 2833791\nPLEASE NOTE that it is important to mute your phones when you are not praying.
URL:https://cbcburlingtonnj.org/event/prayer-meeting/2030-03-06/
LOCATION:Virtual
END:VEVENT
BEGIN:VEVENT
DTSTART;TZID=America/New_York:20300313T190000
DTEND;TZID=America/New_York:20300313T200000
DTSTAMP:20260424T060215
CREATED:20250610T153513Z
LAST-MODIFIED:20250610T153513Z
UID:10002449-1899658800-1899662400@cbcburlingtonnj.org
SUMMARY:Prayer Meeting
DESCRIPTION:Join us every Wednesday at 7:00 p.m. for our Prayer Meeting.\nCALL-IN NUMBER: 605 472 5657\nWhen prompted\, enter access code 2833791\nPLEASE NOTE that it is important to mute your phones when you are not praying.
URL:https://cbcburlingtonnj.org/event/prayer-meeting/2030-03-13/
LOCATION:Virtual
END:VEVENT
BEGIN:VEVENT
DTSTART;TZID=America/New_York:20300320T190000
DTEND;TZID=America/New_York:20300320T200000
DTSTAMP:20260424T060215
CREATED:20250610T153513Z
LAST-MODIFIED:20250610T153513Z
UID:10002450-1900263600-1900267200@cbcburlingtonnj.org
SUMMARY:Prayer Meeting
DESCRIPTION:Join us every Wednesday at 7:00 p.m. for our Prayer Meeting.\nCALL-IN NUMBER: 605 472 5657\nWhen prompted\, enter access code 2833791\nPLEASE NOTE that it is important to mute your phones when you are not praying.
URL:https://cbcburlingtonnj.org/event/prayer-meeting/2030-03-20/
LOCATION:Virtual
END:VEVENT
BEGIN:VEVENT
DTSTART;TZID=America/New_York:20300327T190000
DTEND;TZID=America/New_York:20300327T200000
DTSTAMP:20260424T060215
CREATED:20250610T153513Z
LAST-MODIFIED:20250610T153513Z
UID:10002451-1900868400-1900872000@cbcburlingtonnj.org
SUMMARY:Prayer Meeting
DESCRIPTION:Join us every Wednesday at 7:00 p.m. for our Prayer Meeting.\nCALL-IN NUMBER: 605 472 5657\nWhen prompted\, enter access code 2833791\nPLEASE NOTE that it is important to mute your phones when you are not praying.
URL:https://cbcburlingtonnj.org/event/prayer-meeting/2030-03-27/
LOCATION:Virtual
END:VEVENT
BEGIN:VEVENT
DTSTART;TZID=America/New_York:20300403T190000
DTEND;TZID=America/New_York:20300403T200000
DTSTAMP:20260424T060215
CREATED:20250610T153513Z
LAST-MODIFIED:20250610T153513Z
UID:10002452-1901473200-1901476800@cbcburlingtonnj.org
SUMMARY:Prayer Meeting
DESCRIPTION:Join us every Wednesday at 7:00 p.m. for our Prayer Meeting.\nCALL-IN NUMBER: 605 472 5657\nWhen prompted\, enter access code 2833791\nPLEASE NOTE that it is important to mute your phones when you are not praying.
URL:https://cbcburlingtonnj.org/event/prayer-meeting/2030-04-03/
LOCATION:Virtual
END:VEVENT
BEGIN:VEVENT
DTSTART;TZID=America/New_York:20300410T190000
DTEND;TZID=America/New_York:20300410T200000
DTSTAMP:20260424T060215
CREATED:20250610T153513Z
LAST-MODIFIED:20250610T153513Z
UID:10002453-1902078000-1902081600@cbcburlingtonnj.org
SUMMARY:Prayer Meeting
DESCRIPTION:Join us every Wednesday at 7:00 p.m. for our Prayer Meeting.\nCALL-IN NUMBER: 605 472 5657\nWhen prompted\, enter access code 2833791\nPLEASE NOTE that it is important to mute your phones when you are not praying.
URL:https://cbcburlingtonnj.org/event/prayer-meeting/2030-04-10/
LOCATION:Virtual
END:VEVENT
BEGIN:VEVENT
DTSTART;TZID=America/New_York:20300417T190000
DTEND;TZID=America/New_York:20300417T200000
DTSTAMP:20260424T060215
CREATED:20250610T153513Z
LAST-MODIFIED:20250610T153513Z
UID:10002454-1902682800-1902686400@cbcburlingtonnj.org
SUMMARY:Prayer Meeting
DESCRIPTION:Join us every Wednesday at 7:00 p.m. for our Prayer Meeting.\nCALL-IN NUMBER: 605 472 5657\nWhen prompted\, enter access code 2833791\nPLEASE NOTE that it is important to mute your phones when you are not praying.
URL:https://cbcburlingtonnj.org/event/prayer-meeting/2030-04-17/
LOCATION:Virtual
END:VEVENT
BEGIN:VEVENT
DTSTART;TZID=America/New_York:20300424T190000
DTEND;TZID=America/New_York:20300424T200000
DTSTAMP:20260424T060215
CREATED:20250610T153513Z
LAST-MODIFIED:20250610T153513Z
UID:10002455-1903287600-1903291200@cbcburlingtonnj.org
SUMMARY:Prayer Meeting
DESCRIPTION:Join us every Wednesday at 7:00 p.m. for our Prayer Meeting.\nCALL-IN NUMBER: 605 472 5657\nWhen prompted\, enter access code 2833791\nPLEASE NOTE that it is important to mute your phones when you are not praying.
URL:https://cbcburlingtonnj.org/event/prayer-meeting/2030-04-24/
LOCATION:Virtual
END:VEVENT
BEGIN:VEVENT
DTSTART;TZID=America/New_York:20300501T190000
DTEND;TZID=America/New_York:20300501T200000
DTSTAMP:20260424T060215
CREATED:20250610T153513Z
LAST-MODIFIED:20250610T153513Z
UID:10002456-1903892400-1903896000@cbcburlingtonnj.org
SUMMARY:Prayer Meeting
DESCRIPTION:Join us every Wednesday at 7:00 p.m. for our Prayer Meeting.\nCALL-IN NUMBER: 605 472 5657\nWhen prompted\, enter access code 2833791\nPLEASE NOTE that it is important to mute your phones when you are not praying.
URL:https://cbcburlingtonnj.org/event/prayer-meeting/2030-05-01/
LOCATION:Virtual
END:VEVENT
BEGIN:VEVENT
DTSTART;TZID=America/New_York:20300508T190000
DTEND;TZID=America/New_York:20300508T200000
DTSTAMP:20260424T060215
CREATED:20250610T153513Z
LAST-MODIFIED:20250610T153513Z
UID:10002457-1904497200-1904500800@cbcburlingtonnj.org
SUMMARY:Prayer Meeting
DESCRIPTION:Join us every Wednesday at 7:00 p.m. for our Prayer Meeting.\nCALL-IN NUMBER: 605 472 5657\nWhen prompted\, enter access code 2833791\nPLEASE NOTE that it is important to mute your phones when you are not praying.
URL:https://cbcburlingtonnj.org/event/prayer-meeting/2030-05-08/
LOCATION:Virtual
END:VEVENT
BEGIN:VEVENT
DTSTART;TZID=America/New_York:20300515T190000
DTEND;TZID=America/New_York:20300515T200000
DTSTAMP:20260424T060215
CREATED:20250610T153513Z
LAST-MODIFIED:20250610T153513Z
UID:10002458-1905102000-1905105600@cbcburlingtonnj.org
SUMMARY:Prayer Meeting
DESCRIPTION:Join us every Wednesday at 7:00 p.m. for our Prayer Meeting.\nCALL-IN NUMBER: 605 472 5657\nWhen prompted\, enter access code 2833791\nPLEASE NOTE that it is important to mute your phones when you are not praying.
URL:https://cbcburlingtonnj.org/event/prayer-meeting/2030-05-15/
LOCATION:Virtual
END:VEVENT
BEGIN:VEVENT
DTSTART;TZID=America/New_York:20300522T190000
DTEND;TZID=America/New_York:20300522T200000
DTSTAMP:20260424T060215
CREATED:20250610T153513Z
LAST-MODIFIED:20250610T153513Z
UID:10002459-1905706800-1905710400@cbcburlingtonnj.org
SUMMARY:Prayer Meeting
DESCRIPTION:Join us every Wednesday at 7:00 p.m. for our Prayer Meeting.\nCALL-IN NUMBER: 605 472 5657\nWhen prompted\, enter access code 2833791\nPLEASE NOTE that it is important to mute your phones when you are not praying.
URL:https://cbcburlingtonnj.org/event/prayer-meeting/2030-05-22/
LOCATION:Virtual
END:VEVENT
BEGIN:VEVENT
DTSTART;TZID=America/New_York:20300529T190000
DTEND;TZID=America/New_York:20300529T200000
DTSTAMP:20260424T060215
CREATED:20250610T153513Z
LAST-MODIFIED:20250610T153513Z
UID:10002460-1906311600-1906315200@cbcburlingtonnj.org
SUMMARY:Prayer Meeting
DESCRIPTION:Join us every Wednesday at 7:00 p.m. for our Prayer Meeting.\nCALL-IN NUMBER: 605 472 5657\nWhen prompted\, enter access code 2833791\nPLEASE NOTE that it is important to mute your phones when you are not praying.
URL:https://cbcburlingtonnj.org/event/prayer-meeting/2030-05-29/
LOCATION:Virtual
END:VEVENT
BEGIN:VEVENT
DTSTART;TZID=America/New_York:20300605T190000
DTEND;TZID=America/New_York:20300605T200000
DTSTAMP:20260424T060215
CREATED:20250610T153513Z
LAST-MODIFIED:20250610T153513Z
UID:10002461-1906916400-1906920000@cbcburlingtonnj.org
SUMMARY:Prayer Meeting
DESCRIPTION:Join us every Wednesday at 7:00 p.m. for our Prayer Meeting.\nCALL-IN NUMBER: 605 472 5657\nWhen prompted\, enter access code 2833791\nPLEASE NOTE that it is important to mute your phones when you are not praying.
URL:https://cbcburlingtonnj.org/event/prayer-meeting/2030-06-05/
LOCATION:Virtual
END:VEVENT
END:VCALENDAR