BEGIN:VCALENDAR
VERSION:2.0
PRODID:-//Christ Baptist Church - Burlington, NJ - ECPv6.15.20//NONSGML v1.0//EN
CALSCALE:GREGORIAN
METHOD:PUBLISH
X-WR-CALNAME:Christ Baptist Church - Burlington, NJ
X-ORIGINAL-URL:https://cbcburlingtonnj.org
X-WR-CALDESC:Events for Christ Baptist Church - Burlington, NJ
REFRESH-INTERVAL;VALUE=DURATION:PT1H
X-Robots-Tag:noindex
X-PUBLISHED-TTL:PT1H
BEGIN:VTIMEZONE
TZID:America/New_York
BEGIN:DAYLIGHT
TZOFFSETFROM:-0500
TZOFFSETTO:-0400
TZNAME:EDT
DTSTART:20250309T070000
END:DAYLIGHT
BEGIN:STANDARD
TZOFFSETFROM:-0400
TZOFFSETTO:-0500
TZNAME:EST
DTSTART:20251102T060000
END:STANDARD
BEGIN:DAYLIGHT
TZOFFSETFROM:-0500
TZOFFSETTO:-0400
TZNAME:EDT
DTSTART:20260308T070000
END:DAYLIGHT
BEGIN:STANDARD
TZOFFSETFROM:-0400
TZOFFSETTO:-0500
TZNAME:EST
DTSTART:20261101T060000
END:STANDARD
BEGIN:DAYLIGHT
TZOFFSETFROM:-0500
TZOFFSETTO:-0400
TZNAME:EDT
DTSTART:20270314T070000
END:DAYLIGHT
BEGIN:STANDARD
TZOFFSETFROM:-0400
TZOFFSETTO:-0500
TZNAME:EST
DTSTART:20271107T060000
END:STANDARD
BEGIN:DAYLIGHT
TZOFFSETFROM:-0500
TZOFFSETTO:-0400
TZNAME:EDT
DTSTART:20280312T070000
END:DAYLIGHT
BEGIN:STANDARD
TZOFFSETFROM:-0400
TZOFFSETTO:-0500
TZNAME:EST
DTSTART:20281105T060000
END:STANDARD
END:VTIMEZONE
BEGIN:VEVENT
DTSTART;TZID=America/New_York:20261014T190000
DTEND;TZID=America/New_York:20261014T200000
DTSTAMP:20260423T135315
CREATED:20250610T153513Z
LAST-MODIFIED:20250610T153513Z
UID:10002271-1792004400-1792008000@cbcburlingtonnj.org
SUMMARY:Prayer Meeting
DESCRIPTION:Join us every Wednesday at 7:00 p.m. for our Prayer Meeting.\nCALL-IN NUMBER: 605 472 5657\nWhen prompted\, enter access code 2833791\nPLEASE NOTE that it is important to mute your phones when you are not praying.
URL:https://cbcburlingtonnj.org/event/prayer-meeting/2026-10-14/
LOCATION:Virtual
END:VEVENT
BEGIN:VEVENT
DTSTART;TZID=America/New_York:20261021T190000
DTEND;TZID=America/New_York:20261021T200000
DTSTAMP:20260423T135315
CREATED:20250610T153513Z
LAST-MODIFIED:20250610T153513Z
UID:10002272-1792609200-1792612800@cbcburlingtonnj.org
SUMMARY:Prayer Meeting
DESCRIPTION:Join us every Wednesday at 7:00 p.m. for our Prayer Meeting.\nCALL-IN NUMBER: 605 472 5657\nWhen prompted\, enter access code 2833791\nPLEASE NOTE that it is important to mute your phones when you are not praying.
URL:https://cbcburlingtonnj.org/event/prayer-meeting/2026-10-21/
LOCATION:Virtual
END:VEVENT
BEGIN:VEVENT
DTSTART;TZID=America/New_York:20261028T190000
DTEND;TZID=America/New_York:20261028T200000
DTSTAMP:20260423T135315
CREATED:20250610T153513Z
LAST-MODIFIED:20250610T153513Z
UID:10002273-1793214000-1793217600@cbcburlingtonnj.org
SUMMARY:Prayer Meeting
DESCRIPTION:Join us every Wednesday at 7:00 p.m. for our Prayer Meeting.\nCALL-IN NUMBER: 605 472 5657\nWhen prompted\, enter access code 2833791\nPLEASE NOTE that it is important to mute your phones when you are not praying.
URL:https://cbcburlingtonnj.org/event/prayer-meeting/2026-10-28/
LOCATION:Virtual
END:VEVENT
BEGIN:VEVENT
DTSTART;TZID=America/New_York:20261104T190000
DTEND;TZID=America/New_York:20261104T200000
DTSTAMP:20260423T135315
CREATED:20250610T153513Z
LAST-MODIFIED:20250610T153513Z
UID:10002274-1793818800-1793822400@cbcburlingtonnj.org
SUMMARY:Prayer Meeting
DESCRIPTION:Join us every Wednesday at 7:00 p.m. for our Prayer Meeting.\nCALL-IN NUMBER: 605 472 5657\nWhen prompted\, enter access code 2833791\nPLEASE NOTE that it is important to mute your phones when you are not praying.
URL:https://cbcburlingtonnj.org/event/prayer-meeting/2026-11-04/
LOCATION:Virtual
END:VEVENT
BEGIN:VEVENT
DTSTART;TZID=America/New_York:20261111T190000
DTEND;TZID=America/New_York:20261111T200000
DTSTAMP:20260423T135315
CREATED:20250610T153513Z
LAST-MODIFIED:20250610T153513Z
UID:10002275-1794423600-1794427200@cbcburlingtonnj.org
SUMMARY:Prayer Meeting
DESCRIPTION:Join us every Wednesday at 7:00 p.m. for our Prayer Meeting.\nCALL-IN NUMBER: 605 472 5657\nWhen prompted\, enter access code 2833791\nPLEASE NOTE that it is important to mute your phones when you are not praying.
URL:https://cbcburlingtonnj.org/event/prayer-meeting/2026-11-11/
LOCATION:Virtual
END:VEVENT
BEGIN:VEVENT
DTSTART;TZID=America/New_York:20261118T190000
DTEND;TZID=America/New_York:20261118T200000
DTSTAMP:20260423T135315
CREATED:20250610T153513Z
LAST-MODIFIED:20250610T153513Z
UID:10002276-1795028400-1795032000@cbcburlingtonnj.org
SUMMARY:Prayer Meeting
DESCRIPTION:Join us every Wednesday at 7:00 p.m. for our Prayer Meeting.\nCALL-IN NUMBER: 605 472 5657\nWhen prompted\, enter access code 2833791\nPLEASE NOTE that it is important to mute your phones when you are not praying.
URL:https://cbcburlingtonnj.org/event/prayer-meeting/2026-11-18/
LOCATION:Virtual
END:VEVENT
BEGIN:VEVENT
DTSTART;TZID=America/New_York:20261125T190000
DTEND;TZID=America/New_York:20261125T200000
DTSTAMP:20260423T135315
CREATED:20250610T153513Z
LAST-MODIFIED:20250610T153513Z
UID:10002277-1795633200-1795636800@cbcburlingtonnj.org
SUMMARY:Prayer Meeting
DESCRIPTION:Join us every Wednesday at 7:00 p.m. for our Prayer Meeting.\nCALL-IN NUMBER: 605 472 5657\nWhen prompted\, enter access code 2833791\nPLEASE NOTE that it is important to mute your phones when you are not praying.
URL:https://cbcburlingtonnj.org/event/prayer-meeting/2026-11-25/
LOCATION:Virtual
END:VEVENT
BEGIN:VEVENT
DTSTART;TZID=America/New_York:20261202T190000
DTEND;TZID=America/New_York:20261202T200000
DTSTAMP:20260423T135315
CREATED:20250610T153513Z
LAST-MODIFIED:20250610T153513Z
UID:10002278-1796238000-1796241600@cbcburlingtonnj.org
SUMMARY:Prayer Meeting
DESCRIPTION:Join us every Wednesday at 7:00 p.m. for our Prayer Meeting.\nCALL-IN NUMBER: 605 472 5657\nWhen prompted\, enter access code 2833791\nPLEASE NOTE that it is important to mute your phones when you are not praying.
URL:https://cbcburlingtonnj.org/event/prayer-meeting/2026-12-02/
LOCATION:Virtual
END:VEVENT
BEGIN:VEVENT
DTSTART;TZID=America/New_York:20261209T190000
DTEND;TZID=America/New_York:20261209T200000
DTSTAMP:20260423T135315
CREATED:20250610T153513Z
LAST-MODIFIED:20250610T153513Z
UID:10002279-1796842800-1796846400@cbcburlingtonnj.org
SUMMARY:Prayer Meeting
DESCRIPTION:Join us every Wednesday at 7:00 p.m. for our Prayer Meeting.\nCALL-IN NUMBER: 605 472 5657\nWhen prompted\, enter access code 2833791\nPLEASE NOTE that it is important to mute your phones when you are not praying.
URL:https://cbcburlingtonnj.org/event/prayer-meeting/2026-12-09/
LOCATION:Virtual
END:VEVENT
BEGIN:VEVENT
DTSTART;TZID=America/New_York:20261216T190000
DTEND;TZID=America/New_York:20261216T200000
DTSTAMP:20260423T135315
CREATED:20250610T153513Z
LAST-MODIFIED:20250610T153513Z
UID:10002280-1797447600-1797451200@cbcburlingtonnj.org
SUMMARY:Prayer Meeting
DESCRIPTION:Join us every Wednesday at 7:00 p.m. for our Prayer Meeting.\nCALL-IN NUMBER: 605 472 5657\nWhen prompted\, enter access code 2833791\nPLEASE NOTE that it is important to mute your phones when you are not praying.
URL:https://cbcburlingtonnj.org/event/prayer-meeting/2026-12-16/
LOCATION:Virtual
END:VEVENT
BEGIN:VEVENT
DTSTART;TZID=America/New_York:20261223T190000
DTEND;TZID=America/New_York:20261223T200000
DTSTAMP:20260423T135315
CREATED:20250610T153513Z
LAST-MODIFIED:20250610T153513Z
UID:10002281-1798052400-1798056000@cbcburlingtonnj.org
SUMMARY:Prayer Meeting
DESCRIPTION:Join us every Wednesday at 7:00 p.m. for our Prayer Meeting.\nCALL-IN NUMBER: 605 472 5657\nWhen prompted\, enter access code 2833791\nPLEASE NOTE that it is important to mute your phones when you are not praying.
URL:https://cbcburlingtonnj.org/event/prayer-meeting/2026-12-23/
LOCATION:Virtual
END:VEVENT
BEGIN:VEVENT
DTSTART;TZID=America/New_York:20261230T190000
DTEND;TZID=America/New_York:20261230T200000
DTSTAMP:20260423T135315
CREATED:20250610T153513Z
LAST-MODIFIED:20250610T153513Z
UID:10002282-1798657200-1798660800@cbcburlingtonnj.org
SUMMARY:Prayer Meeting
DESCRIPTION:Join us every Wednesday at 7:00 p.m. for our Prayer Meeting.\nCALL-IN NUMBER: 605 472 5657\nWhen prompted\, enter access code 2833791\nPLEASE NOTE that it is important to mute your phones when you are not praying.
URL:https://cbcburlingtonnj.org/event/prayer-meeting/2026-12-30/
LOCATION:Virtual
END:VEVENT
BEGIN:VEVENT
DTSTART;TZID=America/New_York:20270106T190000
DTEND;TZID=America/New_York:20270106T200000
DTSTAMP:20260423T135315
CREATED:20250610T153513Z
LAST-MODIFIED:20250610T153513Z
UID:10002283-1799262000-1799265600@cbcburlingtonnj.org
SUMMARY:Prayer Meeting
DESCRIPTION:Join us every Wednesday at 7:00 p.m. for our Prayer Meeting.\nCALL-IN NUMBER: 605 472 5657\nWhen prompted\, enter access code 2833791\nPLEASE NOTE that it is important to mute your phones when you are not praying.
URL:https://cbcburlingtonnj.org/event/prayer-meeting/2027-01-06/
LOCATION:Virtual
END:VEVENT
BEGIN:VEVENT
DTSTART;TZID=America/New_York:20270113T190000
DTEND;TZID=America/New_York:20270113T200000
DTSTAMP:20260423T135315
CREATED:20250610T153513Z
LAST-MODIFIED:20250610T153513Z
UID:10002284-1799866800-1799870400@cbcburlingtonnj.org
SUMMARY:Prayer Meeting
DESCRIPTION:Join us every Wednesday at 7:00 p.m. for our Prayer Meeting.\nCALL-IN NUMBER: 605 472 5657\nWhen prompted\, enter access code 2833791\nPLEASE NOTE that it is important to mute your phones when you are not praying.
URL:https://cbcburlingtonnj.org/event/prayer-meeting/2027-01-13/
LOCATION:Virtual
END:VEVENT
BEGIN:VEVENT
DTSTART;TZID=America/New_York:20270120T190000
DTEND;TZID=America/New_York:20270120T200000
DTSTAMP:20260423T135315
CREATED:20250610T153513Z
LAST-MODIFIED:20250610T153513Z
UID:10002285-1800471600-1800475200@cbcburlingtonnj.org
SUMMARY:Prayer Meeting
DESCRIPTION:Join us every Wednesday at 7:00 p.m. for our Prayer Meeting.\nCALL-IN NUMBER: 605 472 5657\nWhen prompted\, enter access code 2833791\nPLEASE NOTE that it is important to mute your phones when you are not praying.
URL:https://cbcburlingtonnj.org/event/prayer-meeting/2027-01-20/
LOCATION:Virtual
END:VEVENT
BEGIN:VEVENT
DTSTART;TZID=America/New_York:20270127T190000
DTEND;TZID=America/New_York:20270127T200000
DTSTAMP:20260423T135315
CREATED:20250610T153513Z
LAST-MODIFIED:20250610T153513Z
UID:10002286-1801076400-1801080000@cbcburlingtonnj.org
SUMMARY:Prayer Meeting
DESCRIPTION:Join us every Wednesday at 7:00 p.m. for our Prayer Meeting.\nCALL-IN NUMBER: 605 472 5657\nWhen prompted\, enter access code 2833791\nPLEASE NOTE that it is important to mute your phones when you are not praying.
URL:https://cbcburlingtonnj.org/event/prayer-meeting/2027-01-27/
LOCATION:Virtual
END:VEVENT
BEGIN:VEVENT
DTSTART;TZID=America/New_York:20270203T190000
DTEND;TZID=America/New_York:20270203T200000
DTSTAMP:20260423T135315
CREATED:20250610T153513Z
LAST-MODIFIED:20250610T153513Z
UID:10002287-1801681200-1801684800@cbcburlingtonnj.org
SUMMARY:Prayer Meeting
DESCRIPTION:Join us every Wednesday at 7:00 p.m. for our Prayer Meeting.\nCALL-IN NUMBER: 605 472 5657\nWhen prompted\, enter access code 2833791\nPLEASE NOTE that it is important to mute your phones when you are not praying.
URL:https://cbcburlingtonnj.org/event/prayer-meeting/2027-02-03/
LOCATION:Virtual
END:VEVENT
BEGIN:VEVENT
DTSTART;TZID=America/New_York:20270210T190000
DTEND;TZID=America/New_York:20270210T200000
DTSTAMP:20260423T135315
CREATED:20250610T153513Z
LAST-MODIFIED:20250610T153513Z
UID:10002288-1802286000-1802289600@cbcburlingtonnj.org
SUMMARY:Prayer Meeting
DESCRIPTION:Join us every Wednesday at 7:00 p.m. for our Prayer Meeting.\nCALL-IN NUMBER: 605 472 5657\nWhen prompted\, enter access code 2833791\nPLEASE NOTE that it is important to mute your phones when you are not praying.
URL:https://cbcburlingtonnj.org/event/prayer-meeting/2027-02-10/
LOCATION:Virtual
END:VEVENT
BEGIN:VEVENT
DTSTART;TZID=America/New_York:20270217T190000
DTEND;TZID=America/New_York:20270217T200000
DTSTAMP:20260423T135315
CREATED:20250610T153513Z
LAST-MODIFIED:20250610T153513Z
UID:10002289-1802890800-1802894400@cbcburlingtonnj.org
SUMMARY:Prayer Meeting
DESCRIPTION:Join us every Wednesday at 7:00 p.m. for our Prayer Meeting.\nCALL-IN NUMBER: 605 472 5657\nWhen prompted\, enter access code 2833791\nPLEASE NOTE that it is important to mute your phones when you are not praying.
URL:https://cbcburlingtonnj.org/event/prayer-meeting/2027-02-17/
LOCATION:Virtual
END:VEVENT
BEGIN:VEVENT
DTSTART;TZID=America/New_York:20270224T190000
DTEND;TZID=America/New_York:20270224T200000
DTSTAMP:20260423T135315
CREATED:20250610T153513Z
LAST-MODIFIED:20250610T153513Z
UID:10002290-1803495600-1803499200@cbcburlingtonnj.org
SUMMARY:Prayer Meeting
DESCRIPTION:Join us every Wednesday at 7:00 p.m. for our Prayer Meeting.\nCALL-IN NUMBER: 605 472 5657\nWhen prompted\, enter access code 2833791\nPLEASE NOTE that it is important to mute your phones when you are not praying.
URL:https://cbcburlingtonnj.org/event/prayer-meeting/2027-02-24/
LOCATION:Virtual
END:VEVENT
BEGIN:VEVENT
DTSTART;TZID=America/New_York:20270303T190000
DTEND;TZID=America/New_York:20270303T200000
DTSTAMP:20260423T135315
CREATED:20250610T153513Z
LAST-MODIFIED:20250610T153513Z
UID:10002291-1804100400-1804104000@cbcburlingtonnj.org
SUMMARY:Prayer Meeting
DESCRIPTION:Join us every Wednesday at 7:00 p.m. for our Prayer Meeting.\nCALL-IN NUMBER: 605 472 5657\nWhen prompted\, enter access code 2833791\nPLEASE NOTE that it is important to mute your phones when you are not praying.
URL:https://cbcburlingtonnj.org/event/prayer-meeting/2027-03-03/
LOCATION:Virtual
END:VEVENT
BEGIN:VEVENT
DTSTART;TZID=America/New_York:20270310T190000
DTEND;TZID=America/New_York:20270310T200000
DTSTAMP:20260423T135315
CREATED:20250610T153513Z
LAST-MODIFIED:20250610T153513Z
UID:10002292-1804705200-1804708800@cbcburlingtonnj.org
SUMMARY:Prayer Meeting
DESCRIPTION:Join us every Wednesday at 7:00 p.m. for our Prayer Meeting.\nCALL-IN NUMBER: 605 472 5657\nWhen prompted\, enter access code 2833791\nPLEASE NOTE that it is important to mute your phones when you are not praying.
URL:https://cbcburlingtonnj.org/event/prayer-meeting/2027-03-10/
LOCATION:Virtual
END:VEVENT
BEGIN:VEVENT
DTSTART;TZID=America/New_York:20270317T190000
DTEND;TZID=America/New_York:20270317T200000
DTSTAMP:20260423T135315
CREATED:20250610T153513Z
LAST-MODIFIED:20250610T153513Z
UID:10002293-1805310000-1805313600@cbcburlingtonnj.org
SUMMARY:Prayer Meeting
DESCRIPTION:Join us every Wednesday at 7:00 p.m. for our Prayer Meeting.\nCALL-IN NUMBER: 605 472 5657\nWhen prompted\, enter access code 2833791\nPLEASE NOTE that it is important to mute your phones when you are not praying.
URL:https://cbcburlingtonnj.org/event/prayer-meeting/2027-03-17/
LOCATION:Virtual
END:VEVENT
BEGIN:VEVENT
DTSTART;TZID=America/New_York:20270324T190000
DTEND;TZID=America/New_York:20270324T200000
DTSTAMP:20260423T135315
CREATED:20250610T153513Z
LAST-MODIFIED:20250610T153513Z
UID:10002294-1805914800-1805918400@cbcburlingtonnj.org
SUMMARY:Prayer Meeting
DESCRIPTION:Join us every Wednesday at 7:00 p.m. for our Prayer Meeting.\nCALL-IN NUMBER: 605 472 5657\nWhen prompted\, enter access code 2833791\nPLEASE NOTE that it is important to mute your phones when you are not praying.
URL:https://cbcburlingtonnj.org/event/prayer-meeting/2027-03-24/
LOCATION:Virtual
END:VEVENT
BEGIN:VEVENT
DTSTART;TZID=America/New_York:20270331T190000
DTEND;TZID=America/New_York:20270331T200000
DTSTAMP:20260423T135315
CREATED:20250610T153513Z
LAST-MODIFIED:20250610T153513Z
UID:10002295-1806519600-1806523200@cbcburlingtonnj.org
SUMMARY:Prayer Meeting
DESCRIPTION:Join us every Wednesday at 7:00 p.m. for our Prayer Meeting.\nCALL-IN NUMBER: 605 472 5657\nWhen prompted\, enter access code 2833791\nPLEASE NOTE that it is important to mute your phones when you are not praying.
URL:https://cbcburlingtonnj.org/event/prayer-meeting/2027-03-31/
LOCATION:Virtual
END:VEVENT
BEGIN:VEVENT
DTSTART;TZID=America/New_York:20270407T190000
DTEND;TZID=America/New_York:20270407T200000
DTSTAMP:20260423T135315
CREATED:20250610T153513Z
LAST-MODIFIED:20250610T153513Z
UID:10002296-1807124400-1807128000@cbcburlingtonnj.org
SUMMARY:Prayer Meeting
DESCRIPTION:Join us every Wednesday at 7:00 p.m. for our Prayer Meeting.\nCALL-IN NUMBER: 605 472 5657\nWhen prompted\, enter access code 2833791\nPLEASE NOTE that it is important to mute your phones when you are not praying.
URL:https://cbcburlingtonnj.org/event/prayer-meeting/2027-04-07/
LOCATION:Virtual
END:VEVENT
BEGIN:VEVENT
DTSTART;TZID=America/New_York:20270414T190000
DTEND;TZID=America/New_York:20270414T200000
DTSTAMP:20260423T135315
CREATED:20250610T153513Z
LAST-MODIFIED:20250610T153513Z
UID:10002297-1807729200-1807732800@cbcburlingtonnj.org
SUMMARY:Prayer Meeting
DESCRIPTION:Join us every Wednesday at 7:00 p.m. for our Prayer Meeting.\nCALL-IN NUMBER: 605 472 5657\nWhen prompted\, enter access code 2833791\nPLEASE NOTE that it is important to mute your phones when you are not praying.
URL:https://cbcburlingtonnj.org/event/prayer-meeting/2027-04-14/
LOCATION:Virtual
END:VEVENT
BEGIN:VEVENT
DTSTART;TZID=America/New_York:20270421T190000
DTEND;TZID=America/New_York:20270421T200000
DTSTAMP:20260423T135315
CREATED:20250610T153513Z
LAST-MODIFIED:20250610T153513Z
UID:10002298-1808334000-1808337600@cbcburlingtonnj.org
SUMMARY:Prayer Meeting
DESCRIPTION:Join us every Wednesday at 7:00 p.m. for our Prayer Meeting.\nCALL-IN NUMBER: 605 472 5657\nWhen prompted\, enter access code 2833791\nPLEASE NOTE that it is important to mute your phones when you are not praying.
URL:https://cbcburlingtonnj.org/event/prayer-meeting/2027-04-21/
LOCATION:Virtual
END:VEVENT
BEGIN:VEVENT
DTSTART;TZID=America/New_York:20270428T190000
DTEND;TZID=America/New_York:20270428T200000
DTSTAMP:20260423T135315
CREATED:20250610T153513Z
LAST-MODIFIED:20250610T153513Z
UID:10002299-1808938800-1808942400@cbcburlingtonnj.org
SUMMARY:Prayer Meeting
DESCRIPTION:Join us every Wednesday at 7:00 p.m. for our Prayer Meeting.\nCALL-IN NUMBER: 605 472 5657\nWhen prompted\, enter access code 2833791\nPLEASE NOTE that it is important to mute your phones when you are not praying.
URL:https://cbcburlingtonnj.org/event/prayer-meeting/2027-04-28/
LOCATION:Virtual
END:VEVENT
BEGIN:VEVENT
DTSTART;TZID=America/New_York:20270505T190000
DTEND;TZID=America/New_York:20270505T200000
DTSTAMP:20260423T135315
CREATED:20250610T153513Z
LAST-MODIFIED:20250610T153513Z
UID:10002300-1809543600-1809547200@cbcburlingtonnj.org
SUMMARY:Prayer Meeting
DESCRIPTION:Join us every Wednesday at 7:00 p.m. for our Prayer Meeting.\nCALL-IN NUMBER: 605 472 5657\nWhen prompted\, enter access code 2833791\nPLEASE NOTE that it is important to mute your phones when you are not praying.
URL:https://cbcburlingtonnj.org/event/prayer-meeting/2027-05-05/
LOCATION:Virtual
END:VEVENT
END:VCALENDAR