BEGIN:VCALENDAR
VERSION:2.0
PRODID:-//Christ Baptist Church - Burlington, NJ - ECPv6.15.20//NONSGML v1.0//EN
CALSCALE:GREGORIAN
METHOD:PUBLISH
X-WR-CALNAME:Christ Baptist Church - Burlington, NJ
X-ORIGINAL-URL:https://cbcburlingtonnj.org
X-WR-CALDESC:Events for Christ Baptist Church - Burlington, NJ
REFRESH-INTERVAL;VALUE=DURATION:PT1H
X-Robots-Tag:noindex
X-PUBLISHED-TTL:PT1H
BEGIN:VTIMEZONE
TZID:America/New_York
BEGIN:DAYLIGHT
TZOFFSETFROM:-0500
TZOFFSETTO:-0400
TZNAME:EDT
DTSTART:20260308T070000
END:DAYLIGHT
BEGIN:STANDARD
TZOFFSETFROM:-0400
TZOFFSETTO:-0500
TZNAME:EST
DTSTART:20261101T060000
END:STANDARD
BEGIN:DAYLIGHT
TZOFFSETFROM:-0500
TZOFFSETTO:-0400
TZNAME:EDT
DTSTART:20270314T070000
END:DAYLIGHT
BEGIN:STANDARD
TZOFFSETFROM:-0400
TZOFFSETTO:-0500
TZNAME:EST
DTSTART:20271107T060000
END:STANDARD
BEGIN:DAYLIGHT
TZOFFSETFROM:-0500
TZOFFSETTO:-0400
TZNAME:EDT
DTSTART:20280312T070000
END:DAYLIGHT
BEGIN:STANDARD
TZOFFSETFROM:-0400
TZOFFSETTO:-0500
TZNAME:EST
DTSTART:20281105T060000
END:STANDARD
BEGIN:DAYLIGHT
TZOFFSETFROM:-0500
TZOFFSETTO:-0400
TZNAME:EDT
DTSTART:20290311T070000
END:DAYLIGHT
BEGIN:STANDARD
TZOFFSETFROM:-0400
TZOFFSETTO:-0500
TZNAME:EST
DTSTART:20291104T060000
END:STANDARD
END:VTIMEZONE
BEGIN:VEVENT
DTSTART;TZID=America/New_York:20270912T090000
DTEND;TZID=America/New_York:20270912T100000
DTSTAMP:20260423T185810
CREATED:20250610T153929Z
LAST-MODIFIED:20250610T153929Z
UID:10002585-1820739600-1820743200@cbcburlingtonnj.org
SUMMARY:Sunday School
DESCRIPTION:
URL:https://cbcburlingtonnj.org/event/sunday-school/2027-09-12/
LOCATION:Christ Baptist Church Burlington NJ\, 950 Jacksonville Road\, Burlington\, NJ\, 08016\, United States
END:VEVENT
BEGIN:VEVENT
DTSTART;TZID=America/New_York:20270919T090000
DTEND;TZID=America/New_York:20270919T100000
DTSTAMP:20260423T185810
CREATED:20250610T153929Z
LAST-MODIFIED:20250610T153929Z
UID:10002586-1821344400-1821348000@cbcburlingtonnj.org
SUMMARY:Sunday School
DESCRIPTION:
URL:https://cbcburlingtonnj.org/event/sunday-school/2027-09-19/
LOCATION:Christ Baptist Church Burlington NJ\, 950 Jacksonville Road\, Burlington\, NJ\, 08016\, United States
END:VEVENT
BEGIN:VEVENT
DTSTART;TZID=America/New_York:20270926T090000
DTEND;TZID=America/New_York:20270926T100000
DTSTAMP:20260423T185810
CREATED:20250610T153929Z
LAST-MODIFIED:20250610T153929Z
UID:10002587-1821949200-1821952800@cbcburlingtonnj.org
SUMMARY:Sunday School
DESCRIPTION:
URL:https://cbcburlingtonnj.org/event/sunday-school/2027-09-26/
LOCATION:Christ Baptist Church Burlington NJ\, 950 Jacksonville Road\, Burlington\, NJ\, 08016\, United States
END:VEVENT
BEGIN:VEVENT
DTSTART;TZID=America/New_York:20271003T090000
DTEND;TZID=America/New_York:20271003T100000
DTSTAMP:20260423T185810
CREATED:20250610T153929Z
LAST-MODIFIED:20250610T153929Z
UID:10002588-1822554000-1822557600@cbcburlingtonnj.org
SUMMARY:Sunday School
DESCRIPTION:
URL:https://cbcburlingtonnj.org/event/sunday-school/2027-10-03/
LOCATION:Christ Baptist Church Burlington NJ\, 950 Jacksonville Road\, Burlington\, NJ\, 08016\, United States
END:VEVENT
BEGIN:VEVENT
DTSTART;TZID=America/New_York:20271010T090000
DTEND;TZID=America/New_York:20271010T100000
DTSTAMP:20260423T185810
CREATED:20250610T153929Z
LAST-MODIFIED:20250610T153929Z
UID:10002589-1823158800-1823162400@cbcburlingtonnj.org
SUMMARY:Sunday School
DESCRIPTION:
URL:https://cbcburlingtonnj.org/event/sunday-school/2027-10-10/
LOCATION:Christ Baptist Church Burlington NJ\, 950 Jacksonville Road\, Burlington\, NJ\, 08016\, United States
END:VEVENT
BEGIN:VEVENT
DTSTART;TZID=America/New_York:20271017T090000
DTEND;TZID=America/New_York:20271017T100000
DTSTAMP:20260423T185810
CREATED:20250610T153929Z
LAST-MODIFIED:20250610T153929Z
UID:10002590-1823763600-1823767200@cbcburlingtonnj.org
SUMMARY:Sunday School
DESCRIPTION:
URL:https://cbcburlingtonnj.org/event/sunday-school/2027-10-17/
LOCATION:Christ Baptist Church Burlington NJ\, 950 Jacksonville Road\, Burlington\, NJ\, 08016\, United States
END:VEVENT
BEGIN:VEVENT
DTSTART;TZID=America/New_York:20271024T090000
DTEND;TZID=America/New_York:20271024T100000
DTSTAMP:20260423T185810
CREATED:20250610T153929Z
LAST-MODIFIED:20250610T153929Z
UID:10002591-1824368400-1824372000@cbcburlingtonnj.org
SUMMARY:Sunday School
DESCRIPTION:
URL:https://cbcburlingtonnj.org/event/sunday-school/2027-10-24/
LOCATION:Christ Baptist Church Burlington NJ\, 950 Jacksonville Road\, Burlington\, NJ\, 08016\, United States
END:VEVENT
BEGIN:VEVENT
DTSTART;TZID=America/New_York:20271031T090000
DTEND;TZID=America/New_York:20271031T100000
DTSTAMP:20260423T185810
CREATED:20250610T153929Z
LAST-MODIFIED:20250610T153929Z
UID:10002592-1824973200-1824976800@cbcburlingtonnj.org
SUMMARY:Sunday School
DESCRIPTION:
URL:https://cbcburlingtonnj.org/event/sunday-school/2027-10-31/
LOCATION:Christ Baptist Church Burlington NJ\, 950 Jacksonville Road\, Burlington\, NJ\, 08016\, United States
END:VEVENT
BEGIN:VEVENT
DTSTART;TZID=America/New_York:20271107T090000
DTEND;TZID=America/New_York:20271107T100000
DTSTAMP:20260423T185810
CREATED:20250610T153929Z
LAST-MODIFIED:20250610T153929Z
UID:10002593-1825578000-1825581600@cbcburlingtonnj.org
SUMMARY:Sunday School
DESCRIPTION:
URL:https://cbcburlingtonnj.org/event/sunday-school/2027-11-07/
LOCATION:Christ Baptist Church Burlington NJ\, 950 Jacksonville Road\, Burlington\, NJ\, 08016\, United States
END:VEVENT
BEGIN:VEVENT
DTSTART;TZID=America/New_York:20271114T090000
DTEND;TZID=America/New_York:20271114T100000
DTSTAMP:20260423T185810
CREATED:20250610T153929Z
LAST-MODIFIED:20250610T153929Z
UID:10002594-1826182800-1826186400@cbcburlingtonnj.org
SUMMARY:Sunday School
DESCRIPTION:
URL:https://cbcburlingtonnj.org/event/sunday-school/2027-11-14/
LOCATION:Christ Baptist Church Burlington NJ\, 950 Jacksonville Road\, Burlington\, NJ\, 08016\, United States
END:VEVENT
BEGIN:VEVENT
DTSTART;TZID=America/New_York:20271121T090000
DTEND;TZID=America/New_York:20271121T100000
DTSTAMP:20260423T185810
CREATED:20250610T153929Z
LAST-MODIFIED:20250610T153929Z
UID:10002595-1826787600-1826791200@cbcburlingtonnj.org
SUMMARY:Sunday School
DESCRIPTION:
URL:https://cbcburlingtonnj.org/event/sunday-school/2027-11-21/
LOCATION:Christ Baptist Church Burlington NJ\, 950 Jacksonville Road\, Burlington\, NJ\, 08016\, United States
END:VEVENT
BEGIN:VEVENT
DTSTART;TZID=America/New_York:20271128T090000
DTEND;TZID=America/New_York:20271128T100000
DTSTAMP:20260423T185810
CREATED:20250610T153929Z
LAST-MODIFIED:20250610T153929Z
UID:10002596-1827392400-1827396000@cbcburlingtonnj.org
SUMMARY:Sunday School
DESCRIPTION:
URL:https://cbcburlingtonnj.org/event/sunday-school/2027-11-28/
LOCATION:Christ Baptist Church Burlington NJ\, 950 Jacksonville Road\, Burlington\, NJ\, 08016\, United States
END:VEVENT
BEGIN:VEVENT
DTSTART;TZID=America/New_York:20271205T090000
DTEND;TZID=America/New_York:20271205T100000
DTSTAMP:20260423T185810
CREATED:20250610T153929Z
LAST-MODIFIED:20250610T153929Z
UID:10002597-1827997200-1828000800@cbcburlingtonnj.org
SUMMARY:Sunday School
DESCRIPTION:
URL:https://cbcburlingtonnj.org/event/sunday-school/2027-12-05/
LOCATION:Christ Baptist Church Burlington NJ\, 950 Jacksonville Road\, Burlington\, NJ\, 08016\, United States
END:VEVENT
BEGIN:VEVENT
DTSTART;TZID=America/New_York:20271212T090000
DTEND;TZID=America/New_York:20271212T100000
DTSTAMP:20260423T185810
CREATED:20250610T153929Z
LAST-MODIFIED:20250610T153929Z
UID:10002598-1828602000-1828605600@cbcburlingtonnj.org
SUMMARY:Sunday School
DESCRIPTION:
URL:https://cbcburlingtonnj.org/event/sunday-school/2027-12-12/
LOCATION:Christ Baptist Church Burlington NJ\, 950 Jacksonville Road\, Burlington\, NJ\, 08016\, United States
END:VEVENT
BEGIN:VEVENT
DTSTART;TZID=America/New_York:20271219T090000
DTEND;TZID=America/New_York:20271219T100000
DTSTAMP:20260423T185810
CREATED:20250610T153929Z
LAST-MODIFIED:20250610T153929Z
UID:10002599-1829206800-1829210400@cbcburlingtonnj.org
SUMMARY:Sunday School
DESCRIPTION:
URL:https://cbcburlingtonnj.org/event/sunday-school/2027-12-19/
LOCATION:Christ Baptist Church Burlington NJ\, 950 Jacksonville Road\, Burlington\, NJ\, 08016\, United States
END:VEVENT
BEGIN:VEVENT
DTSTART;TZID=America/New_York:20271226T090000
DTEND;TZID=America/New_York:20271226T100000
DTSTAMP:20260423T185810
CREATED:20250610T153929Z
LAST-MODIFIED:20250610T153929Z
UID:10002600-1829811600-1829815200@cbcburlingtonnj.org
SUMMARY:Sunday School
DESCRIPTION:
URL:https://cbcburlingtonnj.org/event/sunday-school/2027-12-26/
LOCATION:Christ Baptist Church Burlington NJ\, 950 Jacksonville Road\, Burlington\, NJ\, 08016\, United States
END:VEVENT
BEGIN:VEVENT
DTSTART;TZID=America/New_York:20280102T090000
DTEND;TZID=America/New_York:20280102T100000
DTSTAMP:20260423T185810
CREATED:20250610T153929Z
LAST-MODIFIED:20250610T153929Z
UID:10002601-1830416400-1830420000@cbcburlingtonnj.org
SUMMARY:Sunday School
DESCRIPTION:
URL:https://cbcburlingtonnj.org/event/sunday-school/2028-01-02/
LOCATION:Christ Baptist Church Burlington NJ\, 950 Jacksonville Road\, Burlington\, NJ\, 08016\, United States
END:VEVENT
BEGIN:VEVENT
DTSTART;TZID=America/New_York:20280109T090000
DTEND;TZID=America/New_York:20280109T100000
DTSTAMP:20260423T185810
CREATED:20250610T153929Z
LAST-MODIFIED:20250610T153929Z
UID:10002602-1831021200-1831024800@cbcburlingtonnj.org
SUMMARY:Sunday School
DESCRIPTION:
URL:https://cbcburlingtonnj.org/event/sunday-school/2028-01-09/
LOCATION:Christ Baptist Church Burlington NJ\, 950 Jacksonville Road\, Burlington\, NJ\, 08016\, United States
END:VEVENT
BEGIN:VEVENT
DTSTART;TZID=America/New_York:20280116T090000
DTEND;TZID=America/New_York:20280116T100000
DTSTAMP:20260423T185810
CREATED:20250610T153929Z
LAST-MODIFIED:20250610T153929Z
UID:10002603-1831626000-1831629600@cbcburlingtonnj.org
SUMMARY:Sunday School
DESCRIPTION:
URL:https://cbcburlingtonnj.org/event/sunday-school/2028-01-16/
LOCATION:Christ Baptist Church Burlington NJ\, 950 Jacksonville Road\, Burlington\, NJ\, 08016\, United States
END:VEVENT
BEGIN:VEVENT
DTSTART;TZID=America/New_York:20280123T090000
DTEND;TZID=America/New_York:20280123T100000
DTSTAMP:20260423T185810
CREATED:20250610T153929Z
LAST-MODIFIED:20250610T153929Z
UID:10002604-1832230800-1832234400@cbcburlingtonnj.org
SUMMARY:Sunday School
DESCRIPTION:
URL:https://cbcburlingtonnj.org/event/sunday-school/2028-01-23/
LOCATION:Christ Baptist Church Burlington NJ\, 950 Jacksonville Road\, Burlington\, NJ\, 08016\, United States
END:VEVENT
BEGIN:VEVENT
DTSTART;TZID=America/New_York:20280130T090000
DTEND;TZID=America/New_York:20280130T100000
DTSTAMP:20260423T185810
CREATED:20250610T153929Z
LAST-MODIFIED:20250610T153929Z
UID:10002605-1832835600-1832839200@cbcburlingtonnj.org
SUMMARY:Sunday School
DESCRIPTION:
URL:https://cbcburlingtonnj.org/event/sunday-school/2028-01-30/
LOCATION:Christ Baptist Church Burlington NJ\, 950 Jacksonville Road\, Burlington\, NJ\, 08016\, United States
END:VEVENT
BEGIN:VEVENT
DTSTART;TZID=America/New_York:20280206T090000
DTEND;TZID=America/New_York:20280206T100000
DTSTAMP:20260423T185810
CREATED:20250610T153929Z
LAST-MODIFIED:20250610T153929Z
UID:10002606-1833440400-1833444000@cbcburlingtonnj.org
SUMMARY:Sunday School
DESCRIPTION:
URL:https://cbcburlingtonnj.org/event/sunday-school/2028-02-06/
LOCATION:Christ Baptist Church Burlington NJ\, 950 Jacksonville Road\, Burlington\, NJ\, 08016\, United States
END:VEVENT
BEGIN:VEVENT
DTSTART;TZID=America/New_York:20280213T090000
DTEND;TZID=America/New_York:20280213T100000
DTSTAMP:20260423T185810
CREATED:20250610T153929Z
LAST-MODIFIED:20250610T153929Z
UID:10002607-1834045200-1834048800@cbcburlingtonnj.org
SUMMARY:Sunday School
DESCRIPTION:
URL:https://cbcburlingtonnj.org/event/sunday-school/2028-02-13/
LOCATION:Christ Baptist Church Burlington NJ\, 950 Jacksonville Road\, Burlington\, NJ\, 08016\, United States
END:VEVENT
BEGIN:VEVENT
DTSTART;TZID=America/New_York:20280220T090000
DTEND;TZID=America/New_York:20280220T100000
DTSTAMP:20260423T185810
CREATED:20250610T153929Z
LAST-MODIFIED:20250610T153929Z
UID:10002608-1834650000-1834653600@cbcburlingtonnj.org
SUMMARY:Sunday School
DESCRIPTION:
URL:https://cbcburlingtonnj.org/event/sunday-school/2028-02-20/
LOCATION:Christ Baptist Church Burlington NJ\, 950 Jacksonville Road\, Burlington\, NJ\, 08016\, United States
END:VEVENT
BEGIN:VEVENT
DTSTART;TZID=America/New_York:20280227T090000
DTEND;TZID=America/New_York:20280227T100000
DTSTAMP:20260423T185810
CREATED:20250610T153929Z
LAST-MODIFIED:20250610T153929Z
UID:10002609-1835254800-1835258400@cbcburlingtonnj.org
SUMMARY:Sunday School
DESCRIPTION:
URL:https://cbcburlingtonnj.org/event/sunday-school/2028-02-27/
LOCATION:Christ Baptist Church Burlington NJ\, 950 Jacksonville Road\, Burlington\, NJ\, 08016\, United States
END:VEVENT
BEGIN:VEVENT
DTSTART;TZID=America/New_York:20280305T090000
DTEND;TZID=America/New_York:20280305T100000
DTSTAMP:20260423T185810
CREATED:20250610T153929Z
LAST-MODIFIED:20250610T153929Z
UID:10002610-1835859600-1835863200@cbcburlingtonnj.org
SUMMARY:Sunday School
DESCRIPTION:
URL:https://cbcburlingtonnj.org/event/sunday-school/2028-03-05/
LOCATION:Christ Baptist Church Burlington NJ\, 950 Jacksonville Road\, Burlington\, NJ\, 08016\, United States
END:VEVENT
BEGIN:VEVENT
DTSTART;TZID=America/New_York:20280312T090000
DTEND;TZID=America/New_York:20280312T100000
DTSTAMP:20260423T185810
CREATED:20250610T153929Z
LAST-MODIFIED:20250610T153929Z
UID:10002611-1836464400-1836468000@cbcburlingtonnj.org
SUMMARY:Sunday School
DESCRIPTION:
URL:https://cbcburlingtonnj.org/event/sunday-school/2028-03-12/
LOCATION:Christ Baptist Church Burlington NJ\, 950 Jacksonville Road\, Burlington\, NJ\, 08016\, United States
END:VEVENT
BEGIN:VEVENT
DTSTART;TZID=America/New_York:20280319T090000
DTEND;TZID=America/New_York:20280319T100000
DTSTAMP:20260423T185810
CREATED:20250610T153929Z
LAST-MODIFIED:20250610T153929Z
UID:10002612-1837069200-1837072800@cbcburlingtonnj.org
SUMMARY:Sunday School
DESCRIPTION:
URL:https://cbcburlingtonnj.org/event/sunday-school/2028-03-19/
LOCATION:Christ Baptist Church Burlington NJ\, 950 Jacksonville Road\, Burlington\, NJ\, 08016\, United States
END:VEVENT
BEGIN:VEVENT
DTSTART;TZID=America/New_York:20280326T090000
DTEND;TZID=America/New_York:20280326T100000
DTSTAMP:20260423T185810
CREATED:20250610T153929Z
LAST-MODIFIED:20250610T153929Z
UID:10002613-1837674000-1837677600@cbcburlingtonnj.org
SUMMARY:Sunday School
DESCRIPTION:
URL:https://cbcburlingtonnj.org/event/sunday-school/2028-03-26/
LOCATION:Christ Baptist Church Burlington NJ\, 950 Jacksonville Road\, Burlington\, NJ\, 08016\, United States
END:VEVENT
BEGIN:VEVENT
DTSTART;TZID=America/New_York:20280402T090000
DTEND;TZID=America/New_York:20280402T100000
DTSTAMP:20260423T185810
CREATED:20250610T153929Z
LAST-MODIFIED:20250610T153929Z
UID:10002614-1838278800-1838282400@cbcburlingtonnj.org
SUMMARY:Sunday School
DESCRIPTION:
URL:https://cbcburlingtonnj.org/event/sunday-school/2028-04-02/
LOCATION:Christ Baptist Church Burlington NJ\, 950 Jacksonville Road\, Burlington\, NJ\, 08016\, United States
END:VEVENT
END:VCALENDAR