BEGIN:VCALENDAR
VERSION:2.0
PRODID:-//Christ Baptist Church - Burlington, NJ - ECPv6.15.20//NONSGML v1.0//EN
CALSCALE:GREGORIAN
METHOD:PUBLISH
X-ORIGINAL-URL:https://cbcburlingtonnj.org
X-WR-CALDESC:Events for Christ Baptist Church - Burlington, NJ
REFRESH-INTERVAL;VALUE=DURATION:PT1H
X-Robots-Tag:noindex
X-PUBLISHED-TTL:PT1H
BEGIN:VTIMEZONE
TZID:America/New_York
BEGIN:DAYLIGHT
TZOFFSETFROM:-0500
TZOFFSETTO:-0400
TZNAME:EDT
DTSTART:20240310T070000
END:DAYLIGHT
BEGIN:STANDARD
TZOFFSETFROM:-0400
TZOFFSETTO:-0500
TZNAME:EST
DTSTART:20241103T060000
END:STANDARD
BEGIN:DAYLIGHT
TZOFFSETFROM:-0500
TZOFFSETTO:-0400
TZNAME:EDT
DTSTART:20250309T070000
END:DAYLIGHT
BEGIN:STANDARD
TZOFFSETFROM:-0400
TZOFFSETTO:-0500
TZNAME:EST
DTSTART:20251102T060000
END:STANDARD
BEGIN:DAYLIGHT
TZOFFSETFROM:-0500
TZOFFSETTO:-0400
TZNAME:EDT
DTSTART:20260308T070000
END:DAYLIGHT
BEGIN:STANDARD
TZOFFSETFROM:-0400
TZOFFSETTO:-0500
TZNAME:EST
DTSTART:20261101T060000
END:STANDARD
END:VTIMEZONE
BEGIN:VEVENT
DTSTART;TZID=America/New_York:20250223T150000
DTEND;TZID=America/New_York:20250223T160000
DTSTAMP:20260424T085037
CREATED:20250211T154052Z
LAST-MODIFIED:20250211T154052Z
UID:10001925-1740322800-1740326400@cbcburlingtonnj.org
SUMMARY:CBC's 162nd Church Anniversary
DESCRIPTION:Mark your calendars for February 25 at 3 pm as we celebrate Christ Baptist Church\, The Second Baptist Church of the City of Burlington’s 162nd Anniversary with our Guest Bishop Keith Reed and the Sharon Baptist Church Family. 
URL:https://cbcburlingtonnj.org/event/cbcs-162nd-church-anniversary/
LOCATION:Christ Baptist Church Burlington NJ\, 950 Jacksonville Road\, Burlington\, NJ\, 08016\, United States
ATTACH;FMTTYPE=image/png:https://cbcburlingtonnj.org/wp-content/uploads/2025/02/church-Anniversary-1.png
END:VEVENT
BEGIN:VEVENT
DTSTART;TZID=America/New_York:20250225T190000
DTEND;TZID=America/New_York:20250225T200000
DTSTAMP:20260424T085037
CREATED:20240225T015926Z
LAST-MODIFIED:20240225T015926Z
UID:10001830-1740510000-1740513600@cbcburlingtonnj.org
SUMMARY:Bible Study
DESCRIPTION:
URL:https://cbcburlingtonnj.org/event/bible-study-53/
LOCATION:NJ
CATEGORIES:CBC EVENTS
END:VEVENT
BEGIN:VEVENT
DTSTART;TZID=America/New_York:20250227T190000
DTEND;TZID=America/New_York:20250227T203000
DTSTAMP:20260424T085037
CREATED:20250211T152741Z
LAST-MODIFIED:20250211T153114Z
UID:10001923-1740682800-1740688200@cbcburlingtonnj.org
SUMMARY:Health Care Ministry Cancer Support Meeting
DESCRIPTION:On Thursday (Feb. 27\, Mar. 27\, April 24\, May 22\, June 26\, & July 24) per month from 7:00 – 8:30 PM. \nDoctors will discuss cancer\, nutrition\, genetic counseling\, and heart care. If you or someone you know has had cancer\, you can come and share your story. Let’s be a Circle of Strength With our church and community. \nOnline on Zoom\nMeeting ID: 843 7917 8494\nPasscode: 628429\nDial-In 309-205-3325 \nFor more info\, contact our church.
URL:https://cbcburlingtonnj.org/event/health-care-ministry-cancer-support-meeting-2/2025-02-27/
LOCATION:Virtual
ATTACH;FMTTYPE=image/png:https://cbcburlingtonnj.org/wp-content/uploads/2025/02/CANCER-SUPPORT-1.png
END:VEVENT
END:VCALENDAR