BEGIN:VCALENDAR
VERSION:2.0
PRODID:-//Christ Baptist Church - Burlington, NJ - ECPv6.15.20//NONSGML v1.0//EN
CALSCALE:GREGORIAN
METHOD:PUBLISH
X-WR-CALNAME:Christ Baptist Church - Burlington, NJ
X-ORIGINAL-URL:https://cbcburlingtonnj.org
X-WR-CALDESC:Events for Christ Baptist Church - Burlington, NJ
REFRESH-INTERVAL;VALUE=DURATION:PT1H
X-Robots-Tag:noindex
X-PUBLISHED-TTL:PT1H
BEGIN:VTIMEZONE
TZID:America/New_York
BEGIN:DAYLIGHT
TZOFFSETFROM:-0500
TZOFFSETTO:-0400
TZNAME:EDT
DTSTART:20240310T070000
END:DAYLIGHT
BEGIN:STANDARD
TZOFFSETFROM:-0400
TZOFFSETTO:-0500
TZNAME:EST
DTSTART:20241103T060000
END:STANDARD
BEGIN:DAYLIGHT
TZOFFSETFROM:-0500
TZOFFSETTO:-0400
TZNAME:EDT
DTSTART:20250309T070000
END:DAYLIGHT
BEGIN:STANDARD
TZOFFSETFROM:-0400
TZOFFSETTO:-0500
TZNAME:EST
DTSTART:20251102T060000
END:STANDARD
BEGIN:DAYLIGHT
TZOFFSETFROM:-0500
TZOFFSETTO:-0400
TZNAME:EDT
DTSTART:20260308T070000
END:DAYLIGHT
BEGIN:STANDARD
TZOFFSETFROM:-0400
TZOFFSETTO:-0500
TZNAME:EST
DTSTART:20261101T060000
END:STANDARD
BEGIN:DAYLIGHT
TZOFFSETFROM:-0500
TZOFFSETTO:-0400
TZNAME:EDT
DTSTART:20270314T070000
END:DAYLIGHT
BEGIN:STANDARD
TZOFFSETFROM:-0400
TZOFFSETTO:-0500
TZNAME:EST
DTSTART:20271107T060000
END:STANDARD
END:VTIMEZONE
BEGIN:VEVENT
DTSTART;TZID=America/New_York:20260412T143000
DTEND;TZID=America/New_York:20260412T153000
DTSTAMP:20260423T125440
CREATED:20250610T155220Z
LAST-MODIFIED:20250610T155721Z
UID:10002800-1776004200-1776007800@cbcburlingtonnj.org
SUMMARY:Nursing Home Ministries (Second Sunday)
DESCRIPTION:When: Complete Care @ Burlington Woods\nTime: 2:30 to 3:30 PM \n 
URL:https://cbcburlingtonnj.org/event/nursing-home-ministries-2/2026-04-12/
LOCATION:Complete Care @ Burlington Woods\, 115 Sunset Rd\, Burlington\, 08016\, United States
END:VEVENT
BEGIN:VEVENT
DTSTART;TZID=America/New_York:20260405T143000
DTEND;TZID=America/New_York:20260405T153000
DTSTAMP:20260423T125440
CREATED:20250610T155036Z
LAST-MODIFIED:20250610T160010Z
UID:10002884-1775399400-1775403000@cbcburlingtonnj.org
SUMMARY:Nursing Home Ministries (First Sunday)
DESCRIPTION:When: Complete Care @ Burlington Woods \nTime: 2:30 to 3:30 PM \n  \nWhen: Wynwood Rehab/HealthCare Ctr. \nTime: 2:00 to 3:00 PM.
URL:https://cbcburlingtonnj.org/event/nursing-home-ministries/2026-04-05/
LOCATION:Complete Care @ Burlington Woods\, 115 Sunset Rd\, Burlington\, 08016\, United States
CATEGORIES:CBC EVENTS
END:VEVENT
BEGIN:VEVENT
DTSTART;TZID=America/New_York:20260308T143000
DTEND;TZID=America/New_York:20260308T153000
DTSTAMP:20260423T125440
CREATED:20250610T155220Z
LAST-MODIFIED:20250610T155721Z
UID:10002799-1772980200-1772983800@cbcburlingtonnj.org
SUMMARY:Nursing Home Ministries (Second Sunday)
DESCRIPTION:When: Complete Care @ Burlington Woods\nTime: 2:30 to 3:30 PM \n 
URL:https://cbcburlingtonnj.org/event/nursing-home-ministries-2/2026-03-08/
LOCATION:Complete Care @ Burlington Woods\, 115 Sunset Rd\, Burlington\, 08016\, United States
END:VEVENT
BEGIN:VEVENT
DTSTART;TZID=America/New_York:20260301T143000
DTEND;TZID=America/New_York:20260301T153000
DTSTAMP:20260423T125440
CREATED:20250610T155036Z
LAST-MODIFIED:20250610T160010Z
UID:10002883-1772375400-1772379000@cbcburlingtonnj.org
SUMMARY:Nursing Home Ministries (First Sunday)
DESCRIPTION:When: Complete Care @ Burlington Woods \nTime: 2:30 to 3:30 PM \n  \nWhen: Wynwood Rehab/HealthCare Ctr. \nTime: 2:00 to 3:00 PM.
URL:https://cbcburlingtonnj.org/event/nursing-home-ministries/2026-03-01/
LOCATION:Complete Care @ Burlington Woods\, 115 Sunset Rd\, Burlington\, 08016\, United States
CATEGORIES:CBC EVENTS
END:VEVENT
BEGIN:VEVENT
DTSTART;TZID=America/New_York:20260208T143000
DTEND;TZID=America/New_York:20260208T153000
DTSTAMP:20260423T125440
CREATED:20250610T155220Z
LAST-MODIFIED:20250610T155721Z
UID:10002798-1770561000-1770564600@cbcburlingtonnj.org
SUMMARY:Nursing Home Ministries (Second Sunday)
DESCRIPTION:When: Complete Care @ Burlington Woods\nTime: 2:30 to 3:30 PM \n 
URL:https://cbcburlingtonnj.org/event/nursing-home-ministries-2/2026-02-08/
LOCATION:Complete Care @ Burlington Woods\, 115 Sunset Rd\, Burlington\, 08016\, United States
END:VEVENT
BEGIN:VEVENT
DTSTART;TZID=America/New_York:20260201T143000
DTEND;TZID=America/New_York:20260201T153000
DTSTAMP:20260423T125440
CREATED:20250610T155036Z
LAST-MODIFIED:20250610T160010Z
UID:10002882-1769956200-1769959800@cbcburlingtonnj.org
SUMMARY:Nursing Home Ministries (First Sunday)
DESCRIPTION:When: Complete Care @ Burlington Woods \nTime: 2:30 to 3:30 PM \n  \nWhen: Wynwood Rehab/HealthCare Ctr. \nTime: 2:00 to 3:00 PM.
URL:https://cbcburlingtonnj.org/event/nursing-home-ministries/2026-02-01/
LOCATION:Complete Care @ Burlington Woods\, 115 Sunset Rd\, Burlington\, 08016\, United States
CATEGORIES:CBC EVENTS
END:VEVENT
BEGIN:VEVENT
DTSTART;TZID=America/New_York:20260111T143000
DTEND;TZID=America/New_York:20260111T153000
DTSTAMP:20260423T125440
CREATED:20250610T155220Z
LAST-MODIFIED:20250610T155721Z
UID:10002797-1768141800-1768145400@cbcburlingtonnj.org
SUMMARY:Nursing Home Ministries (Second Sunday)
DESCRIPTION:When: Complete Care @ Burlington Woods\nTime: 2:30 to 3:30 PM \n 
URL:https://cbcburlingtonnj.org/event/nursing-home-ministries-2/2026-01-11/
LOCATION:Complete Care @ Burlington Woods\, 115 Sunset Rd\, Burlington\, 08016\, United States
END:VEVENT
BEGIN:VEVENT
DTSTART;TZID=America/New_York:20260104T143000
DTEND;TZID=America/New_York:20260104T153000
DTSTAMP:20260423T125440
CREATED:20250610T155036Z
LAST-MODIFIED:20250610T160010Z
UID:10002881-1767537000-1767540600@cbcburlingtonnj.org
SUMMARY:Nursing Home Ministries (First Sunday)
DESCRIPTION:When: Complete Care @ Burlington Woods \nTime: 2:30 to 3:30 PM \n  \nWhen: Wynwood Rehab/HealthCare Ctr. \nTime: 2:00 to 3:00 PM.
URL:https://cbcburlingtonnj.org/event/nursing-home-ministries/2026-01-04/
LOCATION:Complete Care @ Burlington Woods\, 115 Sunset Rd\, Burlington\, 08016\, United States
CATEGORIES:CBC EVENTS
END:VEVENT
BEGIN:VEVENT
DTSTART;TZID=America/New_York:20251214T143000
DTEND;TZID=America/New_York:20251214T153000
DTSTAMP:20260423T125440
CREATED:20250610T155220Z
LAST-MODIFIED:20250610T155721Z
UID:10002796-1765722600-1765726200@cbcburlingtonnj.org
SUMMARY:Nursing Home Ministries (Second Sunday)
DESCRIPTION:When: Complete Care @ Burlington Woods\nTime: 2:30 to 3:30 PM \n 
URL:https://cbcburlingtonnj.org/event/nursing-home-ministries-2/2025-12-14/
LOCATION:Complete Care @ Burlington Woods\, 115 Sunset Rd\, Burlington\, 08016\, United States
END:VEVENT
BEGIN:VEVENT
DTSTART;TZID=America/New_York:20251207T143000
DTEND;TZID=America/New_York:20251207T153000
DTSTAMP:20260423T125440
CREATED:20250610T155036Z
LAST-MODIFIED:20250610T160010Z
UID:10002880-1765117800-1765121400@cbcburlingtonnj.org
SUMMARY:Nursing Home Ministries (First Sunday)
DESCRIPTION:When: Complete Care @ Burlington Woods \nTime: 2:30 to 3:30 PM \n  \nWhen: Wynwood Rehab/HealthCare Ctr. \nTime: 2:00 to 3:00 PM.
URL:https://cbcburlingtonnj.org/event/nursing-home-ministries/2025-12-07/
LOCATION:Complete Care @ Burlington Woods\, 115 Sunset Rd\, Burlington\, 08016\, United States
CATEGORIES:CBC EVENTS
END:VEVENT
BEGIN:VEVENT
DTSTART;TZID=America/New_York:20251109T143000
DTEND;TZID=America/New_York:20251109T153000
DTSTAMP:20260423T125440
CREATED:20250610T155220Z
LAST-MODIFIED:20250610T155721Z
UID:10002795-1762698600-1762702200@cbcburlingtonnj.org
SUMMARY:Nursing Home Ministries (Second Sunday)
DESCRIPTION:When: Complete Care @ Burlington Woods\nTime: 2:30 to 3:30 PM \n 
URL:https://cbcburlingtonnj.org/event/nursing-home-ministries-2/2025-11-09/
LOCATION:Complete Care @ Burlington Woods\, 115 Sunset Rd\, Burlington\, 08016\, United States
END:VEVENT
BEGIN:VEVENT
DTSTART;TZID=America/New_York:20251102T143000
DTEND;TZID=America/New_York:20251102T153000
DTSTAMP:20260423T125440
CREATED:20250610T155036Z
LAST-MODIFIED:20250610T160010Z
UID:10002879-1762093800-1762097400@cbcburlingtonnj.org
SUMMARY:Nursing Home Ministries (First Sunday)
DESCRIPTION:When: Complete Care @ Burlington Woods \nTime: 2:30 to 3:30 PM \n  \nWhen: Wynwood Rehab/HealthCare Ctr. \nTime: 2:00 to 3:00 PM.
URL:https://cbcburlingtonnj.org/event/nursing-home-ministries/2025-11-02/
LOCATION:Complete Care @ Burlington Woods\, 115 Sunset Rd\, Burlington\, 08016\, United States
CATEGORIES:CBC EVENTS
END:VEVENT
BEGIN:VEVENT
DTSTART;TZID=America/New_York:20251012T143000
DTEND;TZID=America/New_York:20251012T153000
DTSTAMP:20260423T125440
CREATED:20250610T155220Z
LAST-MODIFIED:20250610T155721Z
UID:10002794-1760279400-1760283000@cbcburlingtonnj.org
SUMMARY:Nursing Home Ministries (Second Sunday)
DESCRIPTION:When: Complete Care @ Burlington Woods\nTime: 2:30 to 3:30 PM \n 
URL:https://cbcburlingtonnj.org/event/nursing-home-ministries-2/2025-10-12/
LOCATION:Complete Care @ Burlington Woods\, 115 Sunset Rd\, Burlington\, 08016\, United States
END:VEVENT
BEGIN:VEVENT
DTSTART;TZID=America/New_York:20251005T143000
DTEND;TZID=America/New_York:20251005T153000
DTSTAMP:20260423T125440
CREATED:20250610T155036Z
LAST-MODIFIED:20250610T160010Z
UID:10002878-1759674600-1759678200@cbcburlingtonnj.org
SUMMARY:Nursing Home Ministries (First Sunday)
DESCRIPTION:When: Complete Care @ Burlington Woods \nTime: 2:30 to 3:30 PM \n  \nWhen: Wynwood Rehab/HealthCare Ctr. \nTime: 2:00 to 3:00 PM.
URL:https://cbcburlingtonnj.org/event/nursing-home-ministries/2025-10-05/
LOCATION:Complete Care @ Burlington Woods\, 115 Sunset Rd\, Burlington\, 08016\, United States
CATEGORIES:CBC EVENTS
END:VEVENT
BEGIN:VEVENT
DTSTART;TZID=America/New_York:20250914T143000
DTEND;TZID=America/New_York:20250914T153000
DTSTAMP:20260423T125440
CREATED:20250610T155220Z
LAST-MODIFIED:20250610T155721Z
UID:10002793-1757860200-1757863800@cbcburlingtonnj.org
SUMMARY:Nursing Home Ministries (Second Sunday)
DESCRIPTION:When: Complete Care @ Burlington Woods\nTime: 2:30 to 3:30 PM \n 
URL:https://cbcburlingtonnj.org/event/nursing-home-ministries-2/2025-09-14/
LOCATION:Complete Care @ Burlington Woods\, 115 Sunset Rd\, Burlington\, 08016\, United States
END:VEVENT
BEGIN:VEVENT
DTSTART;TZID=America/New_York:20250907T143000
DTEND;TZID=America/New_York:20250907T153000
DTSTAMP:20260423T125440
CREATED:20250610T155036Z
LAST-MODIFIED:20250610T160010Z
UID:10002877-1757255400-1757259000@cbcburlingtonnj.org
SUMMARY:Nursing Home Ministries (First Sunday)
DESCRIPTION:When: Complete Care @ Burlington Woods \nTime: 2:30 to 3:30 PM \n  \nWhen: Wynwood Rehab/HealthCare Ctr. \nTime: 2:00 to 3:00 PM.
URL:https://cbcburlingtonnj.org/event/nursing-home-ministries/2025-09-07/
LOCATION:Complete Care @ Burlington Woods\, 115 Sunset Rd\, Burlington\, 08016\, United States
CATEGORIES:CBC EVENTS
END:VEVENT
BEGIN:VEVENT
DTSTART;TZID=America/New_York:20250810T143000
DTEND;TZID=America/New_York:20250810T153000
DTSTAMP:20260423T125440
CREATED:20250610T155220Z
LAST-MODIFIED:20250610T155721Z
UID:10002792-1754836200-1754839800@cbcburlingtonnj.org
SUMMARY:Nursing Home Ministries (Second Sunday)
DESCRIPTION:When: Complete Care @ Burlington Woods\nTime: 2:30 to 3:30 PM \n 
URL:https://cbcburlingtonnj.org/event/nursing-home-ministries-2/2025-08-10/
LOCATION:Complete Care @ Burlington Woods\, 115 Sunset Rd\, Burlington\, 08016\, United States
END:VEVENT
BEGIN:VEVENT
DTSTART;TZID=America/New_York:20250803T143000
DTEND;TZID=America/New_York:20250803T153000
DTSTAMP:20260423T125440
CREATED:20250610T155036Z
LAST-MODIFIED:20250610T160010Z
UID:10002876-1754231400-1754235000@cbcburlingtonnj.org
SUMMARY:Nursing Home Ministries (First Sunday)
DESCRIPTION:When: Complete Care @ Burlington Woods \nTime: 2:30 to 3:30 PM \n  \nWhen: Wynwood Rehab/HealthCare Ctr. \nTime: 2:00 to 3:00 PM.
URL:https://cbcburlingtonnj.org/event/nursing-home-ministries/2025-08-03/
LOCATION:Complete Care @ Burlington Woods\, 115 Sunset Rd\, Burlington\, 08016\, United States
CATEGORIES:CBC EVENTS
END:VEVENT
BEGIN:VEVENT
DTSTART;TZID=America/New_York:20250713T143000
DTEND;TZID=America/New_York:20250713T153000
DTSTAMP:20260423T125440
CREATED:20250610T155220Z
LAST-MODIFIED:20250610T155721Z
UID:10002791-1752417000-1752420600@cbcburlingtonnj.org
SUMMARY:Nursing Home Ministries (Second Sunday)
DESCRIPTION:When: Complete Care @ Burlington Woods\nTime: 2:30 to 3:30 PM \n 
URL:https://cbcburlingtonnj.org/event/nursing-home-ministries-2/2025-07-13/
LOCATION:Complete Care @ Burlington Woods\, 115 Sunset Rd\, Burlington\, 08016\, United States
END:VEVENT
BEGIN:VEVENT
DTSTART;TZID=America/New_York:20250706T143000
DTEND;TZID=America/New_York:20250706T153000
DTSTAMP:20260423T125440
CREATED:20250610T155036Z
LAST-MODIFIED:20250610T160010Z
UID:10002875-1751812200-1751815800@cbcburlingtonnj.org
SUMMARY:Nursing Home Ministries (First Sunday)
DESCRIPTION:When: Complete Care @ Burlington Woods \nTime: 2:30 to 3:30 PM \n  \nWhen: Wynwood Rehab/HealthCare Ctr. \nTime: 2:00 to 3:00 PM.
URL:https://cbcburlingtonnj.org/event/nursing-home-ministries/2025-07-06/
LOCATION:Complete Care @ Burlington Woods\, 115 Sunset Rd\, Burlington\, 08016\, United States
CATEGORIES:CBC EVENTS
END:VEVENT
BEGIN:VEVENT
DTSTART;TZID=America/New_York:20250608T143000
DTEND;TZID=America/New_York:20250608T153000
DTSTAMP:20260423T125440
CREATED:20250610T155220Z
LAST-MODIFIED:20250610T155721Z
UID:10002790-1749393000-1749396600@cbcburlingtonnj.org
SUMMARY:Nursing Home Ministries (Second Sunday)
DESCRIPTION:When: Complete Care @ Burlington Woods\nTime: 2:30 to 3:30 PM \n 
URL:https://cbcburlingtonnj.org/event/nursing-home-ministries-2/2025-06-08/
LOCATION:Complete Care @ Burlington Woods\, 115 Sunset Rd\, Burlington\, 08016\, United States
END:VEVENT
BEGIN:VEVENT
DTSTART;TZID=America/New_York:20250601T143000
DTEND;TZID=America/New_York:20250601T153000
DTSTAMP:20260423T125440
CREATED:20250610T155036Z
LAST-MODIFIED:20250610T160010Z
UID:10002874-1748788200-1748791800@cbcburlingtonnj.org
SUMMARY:Nursing Home Ministries (First Sunday)
DESCRIPTION:When: Complete Care @ Burlington Woods \nTime: 2:30 to 3:30 PM \n  \nWhen: Wynwood Rehab/HealthCare Ctr. \nTime: 2:00 to 3:00 PM.
URL:https://cbcburlingtonnj.org/event/nursing-home-ministries/2025-06-01/2/
LOCATION:Complete Care @ Burlington Woods\, 115 Sunset Rd\, Burlington\, 08016\, United States
CATEGORIES:CBC EVENTS
END:VEVENT
BEGIN:VEVENT
DTSTART;TZID=America/New_York:20250601T140000
DTEND;TZID=America/New_York:20250601T150000
DTSTAMP:20260423T125440
CREATED:20250610T155036Z
LAST-MODIFIED:20250610T160010Z
UID:10002873-1748786400-1748790000@cbcburlingtonnj.org
SUMMARY:Nursing Home Ministries (First Sunday)
DESCRIPTION:When: Complete Care @ Burlington Woods \nTime: 2:30 to 3:30 PM \n  \nWhen: Wynwood Rehab/HealthCare Ctr. \nTime: 2:00 to 3:00 PM.
URL:https://cbcburlingtonnj.org/event/nursing-home-ministries/2025-06-01/1/
LOCATION:Complete Care @ Burlington Woods\, 115 Sunset Rd\, Burlington\, 08016\, United States
CATEGORIES:CBC EVENTS
END:VEVENT
END:VCALENDAR