BEGIN:VCALENDAR
VERSION:2.0
PRODID:-//Christ Baptist Church - Burlington, NJ - ECPv6.15.20//NONSGML v1.0//EN
CALSCALE:GREGORIAN
METHOD:PUBLISH
X-ORIGINAL-URL:https://cbcburlingtonnj.org
X-WR-CALDESC:Events for Christ Baptist Church - Burlington, NJ
REFRESH-INTERVAL;VALUE=DURATION:PT1H
X-Robots-Tag:noindex
X-PUBLISHED-TTL:PT1H
BEGIN:VTIMEZONE
TZID:America/New_York
BEGIN:DAYLIGHT
TZOFFSETFROM:-0500
TZOFFSETTO:-0400
TZNAME:EDT
DTSTART:20280312T070000
END:DAYLIGHT
BEGIN:STANDARD
TZOFFSETFROM:-0400
TZOFFSETTO:-0500
TZNAME:EST
DTSTART:20281105T060000
END:STANDARD
BEGIN:DAYLIGHT
TZOFFSETFROM:-0500
TZOFFSETTO:-0400
TZNAME:EDT
DTSTART:20290311T070000
END:DAYLIGHT
BEGIN:STANDARD
TZOFFSETFROM:-0400
TZOFFSETTO:-0500
TZNAME:EST
DTSTART:20291104T060000
END:STANDARD
BEGIN:DAYLIGHT
TZOFFSETFROM:-0500
TZOFFSETTO:-0400
TZNAME:EDT
DTSTART:20300310T070000
END:DAYLIGHT
BEGIN:STANDARD
TZOFFSETFROM:-0400
TZOFFSETTO:-0500
TZNAME:EST
DTSTART:20301103T060000
END:STANDARD
BEGIN:DAYLIGHT
TZOFFSETFROM:-0500
TZOFFSETTO:-0400
TZNAME:EDT
DTSTART:20310309T070000
END:DAYLIGHT
BEGIN:STANDARD
TZOFFSETFROM:-0400
TZOFFSETTO:-0500
TZNAME:EST
DTSTART:20311102T060000
END:STANDARD
END:VTIMEZONE
BEGIN:VEVENT
DTSTART;TZID=America/New_York:20290506T143000
DTEND;TZID=America/New_York:20290506T153000
DTSTAMP:20260423T214443
CREATED:20250610T155036Z
LAST-MODIFIED:20250610T160010Z
UID:10002921-1872772200-1872775800@cbcburlingtonnj.org
SUMMARY:Nursing Home Ministries (First Sunday)
DESCRIPTION:When: Complete Care @ Burlington Woods \nTime: 2:30 to 3:30 PM \n  \nWhen: Wynwood Rehab/HealthCare Ctr. \nTime: 2:00 to 3:00 PM.
URL:https://cbcburlingtonnj.org/event/nursing-home-ministries/2029-05-06/
LOCATION:Complete Care @ Burlington Woods\, 115 Sunset Rd\, Burlington\, 08016\, United States
CATEGORIES:CBC EVENTS
END:VEVENT
BEGIN:VEVENT
DTSTART;TZID=America/New_York:20290513T143000
DTEND;TZID=America/New_York:20290513T153000
DTSTAMP:20260423T214443
CREATED:20250610T155220Z
LAST-MODIFIED:20250610T155721Z
UID:10002837-1873377000-1873380600@cbcburlingtonnj.org
SUMMARY:Nursing Home Ministries (Second Sunday)
DESCRIPTION:When: Complete Care @ Burlington Woods\nTime: 2:30 to 3:30 PM \n 
URL:https://cbcburlingtonnj.org/event/nursing-home-ministries-2/2029-05-13/
LOCATION:Complete Care @ Burlington Woods\, 115 Sunset Rd\, Burlington\, 08016\, United States
END:VEVENT
BEGIN:VEVENT
DTSTART;TZID=America/New_York:20290603T143000
DTEND;TZID=America/New_York:20290603T153000
DTSTAMP:20260423T214443
CREATED:20250610T155036Z
LAST-MODIFIED:20250610T160010Z
UID:10002922-1875191400-1875195000@cbcburlingtonnj.org
SUMMARY:Nursing Home Ministries (First Sunday)
DESCRIPTION:When: Complete Care @ Burlington Woods \nTime: 2:30 to 3:30 PM \n  \nWhen: Wynwood Rehab/HealthCare Ctr. \nTime: 2:00 to 3:00 PM.
URL:https://cbcburlingtonnj.org/event/nursing-home-ministries/2029-06-03/
LOCATION:Complete Care @ Burlington Woods\, 115 Sunset Rd\, Burlington\, 08016\, United States
CATEGORIES:CBC EVENTS
END:VEVENT
BEGIN:VEVENT
DTSTART;TZID=America/New_York:20290610T143000
DTEND;TZID=America/New_York:20290610T153000
DTSTAMP:20260423T214443
CREATED:20250610T155220Z
LAST-MODIFIED:20250610T155721Z
UID:10002838-1875796200-1875799800@cbcburlingtonnj.org
SUMMARY:Nursing Home Ministries (Second Sunday)
DESCRIPTION:When: Complete Care @ Burlington Woods\nTime: 2:30 to 3:30 PM \n 
URL:https://cbcburlingtonnj.org/event/nursing-home-ministries-2/2029-06-10/
LOCATION:Complete Care @ Burlington Woods\, 115 Sunset Rd\, Burlington\, 08016\, United States
END:VEVENT
BEGIN:VEVENT
DTSTART;TZID=America/New_York:20290701T143000
DTEND;TZID=America/New_York:20290701T153000
DTSTAMP:20260423T214443
CREATED:20250610T155036Z
LAST-MODIFIED:20250610T160010Z
UID:10002923-1877610600-1877614200@cbcburlingtonnj.org
SUMMARY:Nursing Home Ministries (First Sunday)
DESCRIPTION:When: Complete Care @ Burlington Woods \nTime: 2:30 to 3:30 PM \n  \nWhen: Wynwood Rehab/HealthCare Ctr. \nTime: 2:00 to 3:00 PM.
URL:https://cbcburlingtonnj.org/event/nursing-home-ministries/2029-07-01/
LOCATION:Complete Care @ Burlington Woods\, 115 Sunset Rd\, Burlington\, 08016\, United States
CATEGORIES:CBC EVENTS
END:VEVENT
BEGIN:VEVENT
DTSTART;TZID=America/New_York:20290708T143000
DTEND;TZID=America/New_York:20290708T153000
DTSTAMP:20260423T214443
CREATED:20250610T155220Z
LAST-MODIFIED:20250610T155721Z
UID:10002839-1878215400-1878219000@cbcburlingtonnj.org
SUMMARY:Nursing Home Ministries (Second Sunday)
DESCRIPTION:When: Complete Care @ Burlington Woods\nTime: 2:30 to 3:30 PM \n 
URL:https://cbcburlingtonnj.org/event/nursing-home-ministries-2/2029-07-08/
LOCATION:Complete Care @ Burlington Woods\, 115 Sunset Rd\, Burlington\, 08016\, United States
END:VEVENT
BEGIN:VEVENT
DTSTART;TZID=America/New_York:20290805T143000
DTEND;TZID=America/New_York:20290805T153000
DTSTAMP:20260423T214443
CREATED:20250610T155036Z
LAST-MODIFIED:20250610T160010Z
UID:10002924-1880634600-1880638200@cbcburlingtonnj.org
SUMMARY:Nursing Home Ministries (First Sunday)
DESCRIPTION:When: Complete Care @ Burlington Woods \nTime: 2:30 to 3:30 PM \n  \nWhen: Wynwood Rehab/HealthCare Ctr. \nTime: 2:00 to 3:00 PM.
URL:https://cbcburlingtonnj.org/event/nursing-home-ministries/2029-08-05/
LOCATION:Complete Care @ Burlington Woods\, 115 Sunset Rd\, Burlington\, 08016\, United States
CATEGORIES:CBC EVENTS
END:VEVENT
BEGIN:VEVENT
DTSTART;TZID=America/New_York:20290812T143000
DTEND;TZID=America/New_York:20290812T153000
DTSTAMP:20260423T214443
CREATED:20250610T155220Z
LAST-MODIFIED:20250610T155721Z
UID:10002840-1881239400-1881243000@cbcburlingtonnj.org
SUMMARY:Nursing Home Ministries (Second Sunday)
DESCRIPTION:When: Complete Care @ Burlington Woods\nTime: 2:30 to 3:30 PM \n 
URL:https://cbcburlingtonnj.org/event/nursing-home-ministries-2/2029-08-12/
LOCATION:Complete Care @ Burlington Woods\, 115 Sunset Rd\, Burlington\, 08016\, United States
END:VEVENT
BEGIN:VEVENT
DTSTART;TZID=America/New_York:20290902T143000
DTEND;TZID=America/New_York:20290902T153000
DTSTAMP:20260423T214443
CREATED:20250610T155036Z
LAST-MODIFIED:20250610T160010Z
UID:10002925-1883053800-1883057400@cbcburlingtonnj.org
SUMMARY:Nursing Home Ministries (First Sunday)
DESCRIPTION:When: Complete Care @ Burlington Woods \nTime: 2:30 to 3:30 PM \n  \nWhen: Wynwood Rehab/HealthCare Ctr. \nTime: 2:00 to 3:00 PM.
URL:https://cbcburlingtonnj.org/event/nursing-home-ministries/2029-09-02/
LOCATION:Complete Care @ Burlington Woods\, 115 Sunset Rd\, Burlington\, 08016\, United States
CATEGORIES:CBC EVENTS
END:VEVENT
BEGIN:VEVENT
DTSTART;TZID=America/New_York:20290909T143000
DTEND;TZID=America/New_York:20290909T153000
DTSTAMP:20260423T214443
CREATED:20250610T155220Z
LAST-MODIFIED:20250610T155721Z
UID:10002841-1883658600-1883662200@cbcburlingtonnj.org
SUMMARY:Nursing Home Ministries (Second Sunday)
DESCRIPTION:When: Complete Care @ Burlington Woods\nTime: 2:30 to 3:30 PM \n 
URL:https://cbcburlingtonnj.org/event/nursing-home-ministries-2/2029-09-09/
LOCATION:Complete Care @ Burlington Woods\, 115 Sunset Rd\, Burlington\, 08016\, United States
END:VEVENT
BEGIN:VEVENT
DTSTART;TZID=America/New_York:20291007T143000
DTEND;TZID=America/New_York:20291007T153000
DTSTAMP:20260423T214443
CREATED:20250610T155036Z
LAST-MODIFIED:20250610T160010Z
UID:10002926-1886077800-1886081400@cbcburlingtonnj.org
SUMMARY:Nursing Home Ministries (First Sunday)
DESCRIPTION:When: Complete Care @ Burlington Woods \nTime: 2:30 to 3:30 PM \n  \nWhen: Wynwood Rehab/HealthCare Ctr. \nTime: 2:00 to 3:00 PM.
URL:https://cbcburlingtonnj.org/event/nursing-home-ministries/2029-10-07/
LOCATION:Complete Care @ Burlington Woods\, 115 Sunset Rd\, Burlington\, 08016\, United States
CATEGORIES:CBC EVENTS
END:VEVENT
BEGIN:VEVENT
DTSTART;TZID=America/New_York:20291014T143000
DTEND;TZID=America/New_York:20291014T153000
DTSTAMP:20260423T214443
CREATED:20250610T155220Z
LAST-MODIFIED:20250610T155721Z
UID:10002842-1886682600-1886686200@cbcburlingtonnj.org
SUMMARY:Nursing Home Ministries (Second Sunday)
DESCRIPTION:When: Complete Care @ Burlington Woods\nTime: 2:30 to 3:30 PM \n 
URL:https://cbcburlingtonnj.org/event/nursing-home-ministries-2/2029-10-14/
LOCATION:Complete Care @ Burlington Woods\, 115 Sunset Rd\, Burlington\, 08016\, United States
END:VEVENT
BEGIN:VEVENT
DTSTART;TZID=America/New_York:20291104T143000
DTEND;TZID=America/New_York:20291104T153000
DTSTAMP:20260423T214443
CREATED:20250610T155036Z
LAST-MODIFIED:20250610T160010Z
UID:10002927-1888497000-1888500600@cbcburlingtonnj.org
SUMMARY:Nursing Home Ministries (First Sunday)
DESCRIPTION:When: Complete Care @ Burlington Woods \nTime: 2:30 to 3:30 PM \n  \nWhen: Wynwood Rehab/HealthCare Ctr. \nTime: 2:00 to 3:00 PM.
URL:https://cbcburlingtonnj.org/event/nursing-home-ministries/2029-11-04/
LOCATION:Complete Care @ Burlington Woods\, 115 Sunset Rd\, Burlington\, 08016\, United States
CATEGORIES:CBC EVENTS
END:VEVENT
BEGIN:VEVENT
DTSTART;TZID=America/New_York:20291111T143000
DTEND;TZID=America/New_York:20291111T153000
DTSTAMP:20260423T214443
CREATED:20250610T155220Z
LAST-MODIFIED:20250610T155721Z
UID:10002843-1889101800-1889105400@cbcburlingtonnj.org
SUMMARY:Nursing Home Ministries (Second Sunday)
DESCRIPTION:When: Complete Care @ Burlington Woods\nTime: 2:30 to 3:30 PM \n 
URL:https://cbcburlingtonnj.org/event/nursing-home-ministries-2/2029-11-11/
LOCATION:Complete Care @ Burlington Woods\, 115 Sunset Rd\, Burlington\, 08016\, United States
END:VEVENT
BEGIN:VEVENT
DTSTART;TZID=America/New_York:20291202T143000
DTEND;TZID=America/New_York:20291202T153000
DTSTAMP:20260423T214443
CREATED:20250610T155036Z
LAST-MODIFIED:20250610T160010Z
UID:10002928-1890916200-1890919800@cbcburlingtonnj.org
SUMMARY:Nursing Home Ministries (First Sunday)
DESCRIPTION:When: Complete Care @ Burlington Woods \nTime: 2:30 to 3:30 PM \n  \nWhen: Wynwood Rehab/HealthCare Ctr. \nTime: 2:00 to 3:00 PM.
URL:https://cbcburlingtonnj.org/event/nursing-home-ministries/2029-12-02/
LOCATION:Complete Care @ Burlington Woods\, 115 Sunset Rd\, Burlington\, 08016\, United States
CATEGORIES:CBC EVENTS
END:VEVENT
BEGIN:VEVENT
DTSTART;TZID=America/New_York:20291209T143000
DTEND;TZID=America/New_York:20291209T153000
DTSTAMP:20260423T214443
CREATED:20250610T155220Z
LAST-MODIFIED:20250610T155721Z
UID:10002844-1891521000-1891524600@cbcburlingtonnj.org
SUMMARY:Nursing Home Ministries (Second Sunday)
DESCRIPTION:When: Complete Care @ Burlington Woods\nTime: 2:30 to 3:30 PM \n 
URL:https://cbcburlingtonnj.org/event/nursing-home-ministries-2/2029-12-09/
LOCATION:Complete Care @ Burlington Woods\, 115 Sunset Rd\, Burlington\, 08016\, United States
END:VEVENT
BEGIN:VEVENT
DTSTART;TZID=America/New_York:20300106T143000
DTEND;TZID=America/New_York:20300106T153000
DTSTAMP:20260423T214443
CREATED:20250610T155036Z
LAST-MODIFIED:20250610T160010Z
UID:10002929-1893940200-1893943800@cbcburlingtonnj.org
SUMMARY:Nursing Home Ministries (First Sunday)
DESCRIPTION:When: Complete Care @ Burlington Woods \nTime: 2:30 to 3:30 PM \n  \nWhen: Wynwood Rehab/HealthCare Ctr. \nTime: 2:00 to 3:00 PM.
URL:https://cbcburlingtonnj.org/event/nursing-home-ministries/2030-01-06/
LOCATION:Complete Care @ Burlington Woods\, 115 Sunset Rd\, Burlington\, 08016\, United States
CATEGORIES:CBC EVENTS
END:VEVENT
BEGIN:VEVENT
DTSTART;TZID=America/New_York:20300113T143000
DTEND;TZID=America/New_York:20300113T153000
DTSTAMP:20260423T214443
CREATED:20250610T155220Z
LAST-MODIFIED:20250610T155721Z
UID:10002845-1894545000-1894548600@cbcburlingtonnj.org
SUMMARY:Nursing Home Ministries (Second Sunday)
DESCRIPTION:When: Complete Care @ Burlington Woods\nTime: 2:30 to 3:30 PM \n 
URL:https://cbcburlingtonnj.org/event/nursing-home-ministries-2/2030-01-13/
LOCATION:Complete Care @ Burlington Woods\, 115 Sunset Rd\, Burlington\, 08016\, United States
END:VEVENT
BEGIN:VEVENT
DTSTART;TZID=America/New_York:20300203T143000
DTEND;TZID=America/New_York:20300203T153000
DTSTAMP:20260423T214443
CREATED:20250610T155036Z
LAST-MODIFIED:20250610T160010Z
UID:10002930-1896359400-1896363000@cbcburlingtonnj.org
SUMMARY:Nursing Home Ministries (First Sunday)
DESCRIPTION:When: Complete Care @ Burlington Woods \nTime: 2:30 to 3:30 PM \n  \nWhen: Wynwood Rehab/HealthCare Ctr. \nTime: 2:00 to 3:00 PM.
URL:https://cbcburlingtonnj.org/event/nursing-home-ministries/2030-02-03/
LOCATION:Complete Care @ Burlington Woods\, 115 Sunset Rd\, Burlington\, 08016\, United States
CATEGORIES:CBC EVENTS
END:VEVENT
BEGIN:VEVENT
DTSTART;TZID=America/New_York:20300210T143000
DTEND;TZID=America/New_York:20300210T153000
DTSTAMP:20260423T214443
CREATED:20250610T155220Z
LAST-MODIFIED:20250610T155721Z
UID:10002846-1896964200-1896967800@cbcburlingtonnj.org
SUMMARY:Nursing Home Ministries (Second Sunday)
DESCRIPTION:When: Complete Care @ Burlington Woods\nTime: 2:30 to 3:30 PM \n 
URL:https://cbcburlingtonnj.org/event/nursing-home-ministries-2/2030-02-10/
LOCATION:Complete Care @ Burlington Woods\, 115 Sunset Rd\, Burlington\, 08016\, United States
END:VEVENT
BEGIN:VEVENT
DTSTART;TZID=America/New_York:20300303T143000
DTEND;TZID=America/New_York:20300303T153000
DTSTAMP:20260423T214443
CREATED:20250610T155036Z
LAST-MODIFIED:20250610T160010Z
UID:10002931-1898778600-1898782200@cbcburlingtonnj.org
SUMMARY:Nursing Home Ministries (First Sunday)
DESCRIPTION:When: Complete Care @ Burlington Woods \nTime: 2:30 to 3:30 PM \n  \nWhen: Wynwood Rehab/HealthCare Ctr. \nTime: 2:00 to 3:00 PM.
URL:https://cbcburlingtonnj.org/event/nursing-home-ministries/2030-03-03/
LOCATION:Complete Care @ Burlington Woods\, 115 Sunset Rd\, Burlington\, 08016\, United States
CATEGORIES:CBC EVENTS
END:VEVENT
BEGIN:VEVENT
DTSTART;TZID=America/New_York:20300310T143000
DTEND;TZID=America/New_York:20300310T153000
DTSTAMP:20260423T214443
CREATED:20250610T155220Z
LAST-MODIFIED:20250610T155721Z
UID:10002847-1899383400-1899387000@cbcburlingtonnj.org
SUMMARY:Nursing Home Ministries (Second Sunday)
DESCRIPTION:When: Complete Care @ Burlington Woods\nTime: 2:30 to 3:30 PM \n 
URL:https://cbcburlingtonnj.org/event/nursing-home-ministries-2/2030-03-10/
LOCATION:Complete Care @ Burlington Woods\, 115 Sunset Rd\, Burlington\, 08016\, United States
END:VEVENT
BEGIN:VEVENT
DTSTART;TZID=America/New_York:20300407T143000
DTEND;TZID=America/New_York:20300407T153000
DTSTAMP:20260423T214443
CREATED:20250610T155036Z
LAST-MODIFIED:20250610T160010Z
UID:10002932-1901802600-1901806200@cbcburlingtonnj.org
SUMMARY:Nursing Home Ministries (First Sunday)
DESCRIPTION:When: Complete Care @ Burlington Woods \nTime: 2:30 to 3:30 PM \n  \nWhen: Wynwood Rehab/HealthCare Ctr. \nTime: 2:00 to 3:00 PM.
URL:https://cbcburlingtonnj.org/event/nursing-home-ministries/2030-04-07/
LOCATION:Complete Care @ Burlington Woods\, 115 Sunset Rd\, Burlington\, 08016\, United States
CATEGORIES:CBC EVENTS
END:VEVENT
BEGIN:VEVENT
DTSTART;TZID=America/New_York:20300414T143000
DTEND;TZID=America/New_York:20300414T153000
DTSTAMP:20260423T214443
CREATED:20250610T155220Z
LAST-MODIFIED:20250610T155721Z
UID:10002848-1902407400-1902411000@cbcburlingtonnj.org
SUMMARY:Nursing Home Ministries (Second Sunday)
DESCRIPTION:When: Complete Care @ Burlington Woods\nTime: 2:30 to 3:30 PM \n 
URL:https://cbcburlingtonnj.org/event/nursing-home-ministries-2/2030-04-14/
LOCATION:Complete Care @ Burlington Woods\, 115 Sunset Rd\, Burlington\, 08016\, United States
END:VEVENT
BEGIN:VEVENT
DTSTART;TZID=America/New_York:20300505T143000
DTEND;TZID=America/New_York:20300505T153000
DTSTAMP:20260423T214443
CREATED:20250610T155036Z
LAST-MODIFIED:20250610T160010Z
UID:10002933-1904221800-1904225400@cbcburlingtonnj.org
SUMMARY:Nursing Home Ministries (First Sunday)
DESCRIPTION:When: Complete Care @ Burlington Woods \nTime: 2:30 to 3:30 PM \n  \nWhen: Wynwood Rehab/HealthCare Ctr. \nTime: 2:00 to 3:00 PM.
URL:https://cbcburlingtonnj.org/event/nursing-home-ministries/2030-05-05/
LOCATION:Complete Care @ Burlington Woods\, 115 Sunset Rd\, Burlington\, 08016\, United States
CATEGORIES:CBC EVENTS
END:VEVENT
BEGIN:VEVENT
DTSTART;TZID=America/New_York:20300512T143000
DTEND;TZID=America/New_York:20300512T153000
DTSTAMP:20260423T214443
CREATED:20250610T155220Z
LAST-MODIFIED:20250610T155721Z
UID:10002849-1904826600-1904830200@cbcburlingtonnj.org
SUMMARY:Nursing Home Ministries (Second Sunday)
DESCRIPTION:When: Complete Care @ Burlington Woods\nTime: 2:30 to 3:30 PM \n 
URL:https://cbcburlingtonnj.org/event/nursing-home-ministries-2/2030-05-12/
LOCATION:Complete Care @ Burlington Woods\, 115 Sunset Rd\, Burlington\, 08016\, United States
END:VEVENT
BEGIN:VEVENT
DTSTART;TZID=America/New_York:20300602T143000
DTEND;TZID=America/New_York:20300602T153000
DTSTAMP:20260423T214443
CREATED:20250610T155036Z
LAST-MODIFIED:20250610T160010Z
UID:10002934-1906641000-1906644600@cbcburlingtonnj.org
SUMMARY:Nursing Home Ministries (First Sunday)
DESCRIPTION:When: Complete Care @ Burlington Woods \nTime: 2:30 to 3:30 PM \n  \nWhen: Wynwood Rehab/HealthCare Ctr. \nTime: 2:00 to 3:00 PM.
URL:https://cbcburlingtonnj.org/event/nursing-home-ministries/2030-06-02/
LOCATION:Complete Care @ Burlington Woods\, 115 Sunset Rd\, Burlington\, 08016\, United States
CATEGORIES:CBC EVENTS
END:VEVENT
BEGIN:VEVENT
DTSTART;TZID=America/New_York:20300609T143000
DTEND;TZID=America/New_York:20300609T153000
DTSTAMP:20260423T214443
CREATED:20250610T155220Z
LAST-MODIFIED:20250610T155721Z
UID:10002850-1907245800-1907249400@cbcburlingtonnj.org
SUMMARY:Nursing Home Ministries (Second Sunday)
DESCRIPTION:When: Complete Care @ Burlington Woods\nTime: 2:30 to 3:30 PM \n 
URL:https://cbcburlingtonnj.org/event/nursing-home-ministries-2/2030-06-09/
LOCATION:Complete Care @ Burlington Woods\, 115 Sunset Rd\, Burlington\, 08016\, United States
END:VEVENT
END:VCALENDAR