BEGIN:VCALENDAR
VERSION:2.0
PRODID:-//Christ Baptist Church - Burlington, NJ - ECPv6.15.20//NONSGML v1.0//EN
CALSCALE:GREGORIAN
METHOD:PUBLISH
X-ORIGINAL-URL:https://cbcburlingtonnj.org
X-WR-CALDESC:Events for Christ Baptist Church - Burlington, NJ
REFRESH-INTERVAL;VALUE=DURATION:PT1H
X-Robots-Tag:noindex
X-PUBLISHED-TTL:PT1H
BEGIN:VTIMEZONE
TZID:America/New_York
BEGIN:DAYLIGHT
TZOFFSETFROM:-0500
TZOFFSETTO:-0400
TZNAME:EDT
DTSTART:20240310T070000
END:DAYLIGHT
BEGIN:STANDARD
TZOFFSETFROM:-0400
TZOFFSETTO:-0500
TZNAME:EST
DTSTART:20241103T060000
END:STANDARD
BEGIN:DAYLIGHT
TZOFFSETFROM:-0500
TZOFFSETTO:-0400
TZNAME:EDT
DTSTART:20250309T070000
END:DAYLIGHT
BEGIN:STANDARD
TZOFFSETFROM:-0400
TZOFFSETTO:-0500
TZNAME:EST
DTSTART:20251102T060000
END:STANDARD
BEGIN:DAYLIGHT
TZOFFSETFROM:-0500
TZOFFSETTO:-0400
TZNAME:EDT
DTSTART:20260308T070000
END:DAYLIGHT
BEGIN:STANDARD
TZOFFSETFROM:-0400
TZOFFSETTO:-0500
TZNAME:EST
DTSTART:20261101T060000
END:STANDARD
BEGIN:DAYLIGHT
TZOFFSETFROM:-0500
TZOFFSETTO:-0400
TZNAME:EDT
DTSTART:20270314T070000
END:DAYLIGHT
BEGIN:STANDARD
TZOFFSETFROM:-0400
TZOFFSETTO:-0500
TZNAME:EST
DTSTART:20271107T060000
END:STANDARD
END:VTIMEZONE
BEGIN:VEVENT
DTSTART;TZID=America/New_York:20260419T140000
DTEND;TZID=America/New_York:20260419T150000
DTSTAMP:20260423T125452
CREATED:20250610T155413Z
LAST-MODIFIED:20250724T155557Z
UID:10002951-1776607200-1776610800@cbcburlingtonnj.org
SUMMARY:Nursing Home Ministries (Third Sunday)
DESCRIPTION:When: Complete Care @ Marcella Nursing Home\nTime: 2:00 to 3:00 PM.
URL:https://cbcburlingtonnj.org/event/nursing-home-ministries-3/2026-04-19/
LOCATION:Complete Care @ Marcella Nursing Home\, 2305 Rancocas Rd\, Burlington\, 08016\, United States
CATEGORIES:CBC EVENTS
END:VEVENT
BEGIN:VEVENT
DTSTART;TZID=America/New_York:20260315T140000
DTEND;TZID=America/New_York:20260315T150000
DTSTAMP:20260423T125452
CREATED:20250610T155413Z
LAST-MODIFIED:20250724T155557Z
UID:10002950-1773583200-1773586800@cbcburlingtonnj.org
SUMMARY:Nursing Home Ministries (Third Sunday)
DESCRIPTION:When: Complete Care @ Marcella Nursing Home\nTime: 2:00 to 3:00 PM.
URL:https://cbcburlingtonnj.org/event/nursing-home-ministries-3/2026-03-15/
LOCATION:Complete Care @ Marcella Nursing Home\, 2305 Rancocas Rd\, Burlington\, 08016\, United States
CATEGORIES:CBC EVENTS
END:VEVENT
BEGIN:VEVENT
DTSTART;TZID=America/New_York:20260215T140000
DTEND;TZID=America/New_York:20260215T150000
DTSTAMP:20260423T125452
CREATED:20250610T155413Z
LAST-MODIFIED:20250724T155557Z
UID:10002949-1771164000-1771167600@cbcburlingtonnj.org
SUMMARY:Nursing Home Ministries (Third Sunday)
DESCRIPTION:When: Complete Care @ Marcella Nursing Home\nTime: 2:00 to 3:00 PM.
URL:https://cbcburlingtonnj.org/event/nursing-home-ministries-3/2026-02-15/
LOCATION:Complete Care @ Marcella Nursing Home\, 2305 Rancocas Rd\, Burlington\, 08016\, United States
CATEGORIES:CBC EVENTS
END:VEVENT
BEGIN:VEVENT
DTSTART;TZID=America/New_York:20260118T140000
DTEND;TZID=America/New_York:20260118T150000
DTSTAMP:20260423T125452
CREATED:20250610T155413Z
LAST-MODIFIED:20250724T155557Z
UID:10002948-1768744800-1768748400@cbcburlingtonnj.org
SUMMARY:Nursing Home Ministries (Third Sunday)
DESCRIPTION:When: Complete Care @ Marcella Nursing Home\nTime: 2:00 to 3:00 PM.
URL:https://cbcburlingtonnj.org/event/nursing-home-ministries-3/2026-01-18/
LOCATION:Complete Care @ Marcella Nursing Home\, 2305 Rancocas Rd\, Burlington\, 08016\, United States
CATEGORIES:CBC EVENTS
END:VEVENT
BEGIN:VEVENT
DTSTART;TZID=America/New_York:20251221T140000
DTEND;TZID=America/New_York:20251221T150000
DTSTAMP:20260423T125452
CREATED:20250610T155413Z
LAST-MODIFIED:20250724T155557Z
UID:10002947-1766325600-1766329200@cbcburlingtonnj.org
SUMMARY:Nursing Home Ministries (Third Sunday)
DESCRIPTION:When: Complete Care @ Marcella Nursing Home\nTime: 2:00 to 3:00 PM.
URL:https://cbcburlingtonnj.org/event/nursing-home-ministries-3/2025-12-21/
LOCATION:Complete Care @ Marcella Nursing Home\, 2305 Rancocas Rd\, Burlington\, 08016\, United States
CATEGORIES:CBC EVENTS
END:VEVENT
BEGIN:VEVENT
DTSTART;TZID=America/New_York:20251116T140000
DTEND;TZID=America/New_York:20251116T150000
DTSTAMP:20260423T125452
CREATED:20250610T155413Z
LAST-MODIFIED:20250724T155557Z
UID:10002946-1763301600-1763305200@cbcburlingtonnj.org
SUMMARY:Nursing Home Ministries (Third Sunday)
DESCRIPTION:When: Complete Care @ Marcella Nursing Home\nTime: 2:00 to 3:00 PM.
URL:https://cbcburlingtonnj.org/event/nursing-home-ministries-3/2025-11-16/
LOCATION:Complete Care @ Marcella Nursing Home\, 2305 Rancocas Rd\, Burlington\, 08016\, United States
CATEGORIES:CBC EVENTS
END:VEVENT
BEGIN:VEVENT
DTSTART;TZID=America/New_York:20251019T140000
DTEND;TZID=America/New_York:20251019T150000
DTSTAMP:20260423T125452
CREATED:20250610T155413Z
LAST-MODIFIED:20250724T155557Z
UID:10002945-1760882400-1760886000@cbcburlingtonnj.org
SUMMARY:Nursing Home Ministries (Third Sunday)
DESCRIPTION:When: Complete Care @ Marcella Nursing Home\nTime: 2:00 to 3:00 PM.
URL:https://cbcburlingtonnj.org/event/nursing-home-ministries-3/2025-10-19/
LOCATION:Complete Care @ Marcella Nursing Home\, 2305 Rancocas Rd\, Burlington\, 08016\, United States
CATEGORIES:CBC EVENTS
END:VEVENT
BEGIN:VEVENT
DTSTART;TZID=America/New_York:20250921T140000
DTEND;TZID=America/New_York:20250921T150000
DTSTAMP:20260423T125452
CREATED:20250610T155413Z
LAST-MODIFIED:20250724T155557Z
UID:10002944-1758463200-1758466800@cbcburlingtonnj.org
SUMMARY:Nursing Home Ministries (Third Sunday)
DESCRIPTION:When: Complete Care @ Marcella Nursing Home\nTime: 2:00 to 3:00 PM.
URL:https://cbcburlingtonnj.org/event/nursing-home-ministries-3/2025-09-21/
LOCATION:Complete Care @ Marcella Nursing Home\, 2305 Rancocas Rd\, Burlington\, 08016\, United States
CATEGORIES:CBC EVENTS
END:VEVENT
BEGIN:VEVENT
DTSTART;TZID=America/New_York:20250817T140000
DTEND;TZID=America/New_York:20250817T150000
DTSTAMP:20260423T125452
CREATED:20250610T155413Z
LAST-MODIFIED:20250724T155557Z
UID:10002943-1755439200-1755442800@cbcburlingtonnj.org
SUMMARY:Nursing Home Ministries (Third Sunday)
DESCRIPTION:When: Complete Care @ Marcella Nursing Home\nTime: 2:00 to 3:00 PM.
URL:https://cbcburlingtonnj.org/event/nursing-home-ministries-3/2025-08-17/
LOCATION:Complete Care @ Marcella Nursing Home\, 2305 Rancocas Rd\, Burlington\, 08016\, United States
CATEGORIES:CBC EVENTS
END:VEVENT
BEGIN:VEVENT
DTSTART;TZID=America/New_York:20250720T140000
DTEND;TZID=America/New_York:20250720T150000
DTSTAMP:20260423T125452
CREATED:20250610T155413Z
LAST-MODIFIED:20250724T155557Z
UID:10002942-1753020000-1753023600@cbcburlingtonnj.org
SUMMARY:Nursing Home Ministries (Third Sunday)
DESCRIPTION:When: Complete Care @ Marcella Nursing Home\nTime: 2:00 to 3:00 PM.
URL:https://cbcburlingtonnj.org/event/nursing-home-ministries-3/2025-07-20/
LOCATION:Complete Care @ Marcella Nursing Home\, 2305 Rancocas Rd\, Burlington\, 08016\, United States
CATEGORIES:CBC EVENTS
END:VEVENT
BEGIN:VEVENT
DTSTART;TZID=America/New_York:20250615T140000
DTEND;TZID=America/New_York:20250615T150000
DTSTAMP:20260423T125452
CREATED:20250610T155413Z
LAST-MODIFIED:20250724T155557Z
UID:10002851-1749996000-1749999600@cbcburlingtonnj.org
SUMMARY:Nursing Home Ministries (Third Sunday)
DESCRIPTION:When: Complete Care @ Marcella Nursing Home\nTime: 2:00 to 3:00 PM.
URL:https://cbcburlingtonnj.org/event/nursing-home-ministries-3/2025-06-15/
LOCATION:Complete Care @ Marcella Nursing Home\, 2305 Rancocas Rd\, Burlington\, 08016\, United States
CATEGORIES:CBC EVENTS
END:VEVENT
END:VCALENDAR