BEGIN:VCALENDAR
VERSION:2.0
PRODID:-//Christ Baptist Church - Burlington, NJ - ECPv6.15.20//NONSGML v1.0//EN
CALSCALE:GREGORIAN
METHOD:PUBLISH
X-ORIGINAL-URL:https://cbcburlingtonnj.org
X-WR-CALDESC:Events for Christ Baptist Church - Burlington, NJ
REFRESH-INTERVAL;VALUE=DURATION:PT1H
X-Robots-Tag:noindex
X-PUBLISHED-TTL:PT1H
BEGIN:VTIMEZONE
TZID:America/New_York
BEGIN:DAYLIGHT
TZOFFSETFROM:-0500
TZOFFSETTO:-0400
TZNAME:EDT
DTSTART:20250309T070000
END:DAYLIGHT
BEGIN:STANDARD
TZOFFSETFROM:-0400
TZOFFSETTO:-0500
TZNAME:EST
DTSTART:20251102T060000
END:STANDARD
BEGIN:DAYLIGHT
TZOFFSETFROM:-0500
TZOFFSETTO:-0400
TZNAME:EDT
DTSTART:20260308T070000
END:DAYLIGHT
BEGIN:STANDARD
TZOFFSETFROM:-0400
TZOFFSETTO:-0500
TZNAME:EST
DTSTART:20261101T060000
END:STANDARD
BEGIN:DAYLIGHT
TZOFFSETFROM:-0500
TZOFFSETTO:-0400
TZNAME:EDT
DTSTART:20270314T070000
END:DAYLIGHT
BEGIN:STANDARD
TZOFFSETFROM:-0400
TZOFFSETTO:-0500
TZNAME:EST
DTSTART:20271107T060000
END:STANDARD
END:VTIMEZONE
BEGIN:VEVENT
DTSTART;TZID=America/New_York:20260426T190000
DTEND;TZID=America/New_York:20260426T200000
DTSTAMP:20260423T113912
CREATED:20251013T165115Z
LAST-MODIFIED:20251013T165115Z
UID:10003050-1777230000-1777233600@cbcburlingtonnj.org
SUMMARY:Fuel for Courage
DESCRIPTION:Join Us Every Sunday at 7:00 p.m. You may participate on a “phone only” basis by calling 1 929 205 6099. Then\, when prompted\, enter the same I.D. number and access code listed above. \nZoom Meeting ID: 538 277 6972\nPasscode 160051
URL:https://cbcburlingtonnj.org/event/fuel-for-courage/2026-04-26/
LOCATION:Virtual
CATEGORIES:Bible Study
END:VEVENT
BEGIN:VEVENT
DTSTART;TZID=America/New_York:20260429T190000
DTEND;TZID=America/New_York:20260429T200000
DTSTAMP:20260423T113912
CREATED:20250610T153513Z
LAST-MODIFIED:20250610T153513Z
UID:10002247-1777489200-1777492800@cbcburlingtonnj.org
SUMMARY:Prayer Meeting
DESCRIPTION:Join us every Wednesday at 7:00 p.m. for our Prayer Meeting.\nCALL-IN NUMBER: 605 472 5657\nWhen prompted\, enter access code 2833791\nPLEASE NOTE that it is important to mute your phones when you are not praying.
URL:https://cbcburlingtonnj.org/event/prayer-meeting/2026-04-29/
LOCATION:Virtual
END:VEVENT
BEGIN:VEVENT
DTSTART;TZID=America/New_York:20260503T190000
DTEND;TZID=America/New_York:20260503T200000
DTSTAMP:20260423T113912
CREATED:20251013T165115Z
LAST-MODIFIED:20251013T165115Z
UID:10003051-1777834800-1777838400@cbcburlingtonnj.org
SUMMARY:Fuel for Courage
DESCRIPTION:Join Us Every Sunday at 7:00 p.m. You may participate on a “phone only” basis by calling 1 929 205 6099. Then\, when prompted\, enter the same I.D. number and access code listed above. \nZoom Meeting ID: 538 277 6972\nPasscode 160051
URL:https://cbcburlingtonnj.org/event/fuel-for-courage/2026-05-03/
LOCATION:Virtual
CATEGORIES:Bible Study
END:VEVENT
BEGIN:VEVENT
DTSTART;TZID=America/New_York:20260506T190000
DTEND;TZID=America/New_York:20260506T200000
DTSTAMP:20260423T113912
CREATED:20250610T153513Z
LAST-MODIFIED:20250610T153513Z
UID:10002248-1778094000-1778097600@cbcburlingtonnj.org
SUMMARY:Prayer Meeting
DESCRIPTION:Join us every Wednesday at 7:00 p.m. for our Prayer Meeting.\nCALL-IN NUMBER: 605 472 5657\nWhen prompted\, enter access code 2833791\nPLEASE NOTE that it is important to mute your phones when you are not praying.
URL:https://cbcburlingtonnj.org/event/prayer-meeting/2026-05-06/
LOCATION:Virtual
END:VEVENT
BEGIN:VEVENT
DTSTART;TZID=America/New_York:20260510T190000
DTEND;TZID=America/New_York:20260510T200000
DTSTAMP:20260423T113912
CREATED:20251013T165115Z
LAST-MODIFIED:20251013T165115Z
UID:10003052-1778439600-1778443200@cbcburlingtonnj.org
SUMMARY:Fuel for Courage
DESCRIPTION:Join Us Every Sunday at 7:00 p.m. You may participate on a “phone only” basis by calling 1 929 205 6099. Then\, when prompted\, enter the same I.D. number and access code listed above. \nZoom Meeting ID: 538 277 6972\nPasscode 160051
URL:https://cbcburlingtonnj.org/event/fuel-for-courage/2026-05-10/
LOCATION:Virtual
CATEGORIES:Bible Study
END:VEVENT
BEGIN:VEVENT
DTSTART;TZID=America/New_York:20260513T190000
DTEND;TZID=America/New_York:20260513T200000
DTSTAMP:20260423T113912
CREATED:20250610T153513Z
LAST-MODIFIED:20250610T153513Z
UID:10002249-1778698800-1778702400@cbcburlingtonnj.org
SUMMARY:Prayer Meeting
DESCRIPTION:Join us every Wednesday at 7:00 p.m. for our Prayer Meeting.\nCALL-IN NUMBER: 605 472 5657\nWhen prompted\, enter access code 2833791\nPLEASE NOTE that it is important to mute your phones when you are not praying.
URL:https://cbcburlingtonnj.org/event/prayer-meeting/2026-05-13/
LOCATION:Virtual
END:VEVENT
BEGIN:VEVENT
DTSTART;TZID=America/New_York:20260517T190000
DTEND;TZID=America/New_York:20260517T200000
DTSTAMP:20260423T113912
CREATED:20251013T165115Z
LAST-MODIFIED:20251013T165115Z
UID:10003053-1779044400-1779048000@cbcburlingtonnj.org
SUMMARY:Fuel for Courage
DESCRIPTION:Join Us Every Sunday at 7:00 p.m. You may participate on a “phone only” basis by calling 1 929 205 6099. Then\, when prompted\, enter the same I.D. number and access code listed above. \nZoom Meeting ID: 538 277 6972\nPasscode 160051
URL:https://cbcburlingtonnj.org/event/fuel-for-courage/2026-05-17/
LOCATION:Virtual
CATEGORIES:Bible Study
END:VEVENT
BEGIN:VEVENT
DTSTART;TZID=America/New_York:20260520T190000
DTEND;TZID=America/New_York:20260520T200000
DTSTAMP:20260423T113912
CREATED:20250610T153513Z
LAST-MODIFIED:20250610T153513Z
UID:10002250-1779303600-1779307200@cbcburlingtonnj.org
SUMMARY:Prayer Meeting
DESCRIPTION:Join us every Wednesday at 7:00 p.m. for our Prayer Meeting.\nCALL-IN NUMBER: 605 472 5657\nWhen prompted\, enter access code 2833791\nPLEASE NOTE that it is important to mute your phones when you are not praying.
URL:https://cbcburlingtonnj.org/event/prayer-meeting/2026-05-20/
LOCATION:Virtual
END:VEVENT
BEGIN:VEVENT
DTSTART;TZID=America/New_York:20260524T190000
DTEND;TZID=America/New_York:20260524T200000
DTSTAMP:20260423T113912
CREATED:20251013T165115Z
LAST-MODIFIED:20251013T165115Z
UID:10003054-1779649200-1779652800@cbcburlingtonnj.org
SUMMARY:Fuel for Courage
DESCRIPTION:Join Us Every Sunday at 7:00 p.m. You may participate on a “phone only” basis by calling 1 929 205 6099. Then\, when prompted\, enter the same I.D. number and access code listed above. \nZoom Meeting ID: 538 277 6972\nPasscode 160051
URL:https://cbcburlingtonnj.org/event/fuel-for-courage/2026-05-24/
LOCATION:Virtual
CATEGORIES:Bible Study
END:VEVENT
BEGIN:VEVENT
DTSTART;TZID=America/New_York:20260527T190000
DTEND;TZID=America/New_York:20260527T200000
DTSTAMP:20260423T113912
CREATED:20250610T153513Z
LAST-MODIFIED:20250610T153513Z
UID:10002251-1779908400-1779912000@cbcburlingtonnj.org
SUMMARY:Prayer Meeting
DESCRIPTION:Join us every Wednesday at 7:00 p.m. for our Prayer Meeting.\nCALL-IN NUMBER: 605 472 5657\nWhen prompted\, enter access code 2833791\nPLEASE NOTE that it is important to mute your phones when you are not praying.
URL:https://cbcburlingtonnj.org/event/prayer-meeting/2026-05-27/
LOCATION:Virtual
END:VEVENT
BEGIN:VEVENT
DTSTART;TZID=America/New_York:20260531T190000
DTEND;TZID=America/New_York:20260531T200000
DTSTAMP:20260423T113912
CREATED:20251013T165115Z
LAST-MODIFIED:20251013T165115Z
UID:10003055-1780254000-1780257600@cbcburlingtonnj.org
SUMMARY:Fuel for Courage
DESCRIPTION:Join Us Every Sunday at 7:00 p.m. You may participate on a “phone only” basis by calling 1 929 205 6099. Then\, when prompted\, enter the same I.D. number and access code listed above. \nZoom Meeting ID: 538 277 6972\nPasscode 160051
URL:https://cbcburlingtonnj.org/event/fuel-for-courage/2026-05-31/
LOCATION:Virtual
CATEGORIES:Bible Study
END:VEVENT
BEGIN:VEVENT
DTSTART;TZID=America/New_York:20260603T190000
DTEND;TZID=America/New_York:20260603T200000
DTSTAMP:20260423T113912
CREATED:20250610T153513Z
LAST-MODIFIED:20250610T153513Z
UID:10002252-1780513200-1780516800@cbcburlingtonnj.org
SUMMARY:Prayer Meeting
DESCRIPTION:Join us every Wednesday at 7:00 p.m. for our Prayer Meeting.\nCALL-IN NUMBER: 605 472 5657\nWhen prompted\, enter access code 2833791\nPLEASE NOTE that it is important to mute your phones when you are not praying.
URL:https://cbcburlingtonnj.org/event/prayer-meeting/2026-06-03/
LOCATION:Virtual
END:VEVENT
BEGIN:VEVENT
DTSTART;TZID=America/New_York:20260607T190000
DTEND;TZID=America/New_York:20260607T200000
DTSTAMP:20260423T113912
CREATED:20251013T165115Z
LAST-MODIFIED:20251013T165115Z
UID:10003056-1780858800-1780862400@cbcburlingtonnj.org
SUMMARY:Fuel for Courage
DESCRIPTION:Join Us Every Sunday at 7:00 p.m. You may participate on a “phone only” basis by calling 1 929 205 6099. Then\, when prompted\, enter the same I.D. number and access code listed above. \nZoom Meeting ID: 538 277 6972\nPasscode 160051
URL:https://cbcburlingtonnj.org/event/fuel-for-courage/2026-06-07/
LOCATION:Virtual
CATEGORIES:Bible Study
END:VEVENT
BEGIN:VEVENT
DTSTART;TZID=America/New_York:20260610T190000
DTEND;TZID=America/New_York:20260610T200000
DTSTAMP:20260423T113912
CREATED:20250610T153513Z
LAST-MODIFIED:20250610T153513Z
UID:10002253-1781118000-1781121600@cbcburlingtonnj.org
SUMMARY:Prayer Meeting
DESCRIPTION:Join us every Wednesday at 7:00 p.m. for our Prayer Meeting.\nCALL-IN NUMBER: 605 472 5657\nWhen prompted\, enter access code 2833791\nPLEASE NOTE that it is important to mute your phones when you are not praying.
URL:https://cbcburlingtonnj.org/event/prayer-meeting/2026-06-10/
LOCATION:Virtual
END:VEVENT
BEGIN:VEVENT
DTSTART;TZID=America/New_York:20260614T190000
DTEND;TZID=America/New_York:20260614T200000
DTSTAMP:20260423T113912
CREATED:20251013T165115Z
LAST-MODIFIED:20251013T165115Z
UID:10003057-1781463600-1781467200@cbcburlingtonnj.org
SUMMARY:Fuel for Courage
DESCRIPTION:Join Us Every Sunday at 7:00 p.m. You may participate on a “phone only” basis by calling 1 929 205 6099. Then\, when prompted\, enter the same I.D. number and access code listed above. \nZoom Meeting ID: 538 277 6972\nPasscode 160051
URL:https://cbcburlingtonnj.org/event/fuel-for-courage/2026-06-14/
LOCATION:Virtual
CATEGORIES:Bible Study
END:VEVENT
BEGIN:VEVENT
DTSTART;TZID=America/New_York:20260617T190000
DTEND;TZID=America/New_York:20260617T200000
DTSTAMP:20260423T113912
CREATED:20250610T153513Z
LAST-MODIFIED:20250610T153513Z
UID:10002254-1781722800-1781726400@cbcburlingtonnj.org
SUMMARY:Prayer Meeting
DESCRIPTION:Join us every Wednesday at 7:00 p.m. for our Prayer Meeting.\nCALL-IN NUMBER: 605 472 5657\nWhen prompted\, enter access code 2833791\nPLEASE NOTE that it is important to mute your phones when you are not praying.
URL:https://cbcburlingtonnj.org/event/prayer-meeting/2026-06-17/
LOCATION:Virtual
END:VEVENT
BEGIN:VEVENT
DTSTART;TZID=America/New_York:20260621T190000
DTEND;TZID=America/New_York:20260621T200000
DTSTAMP:20260423T113912
CREATED:20251013T165115Z
LAST-MODIFIED:20251013T165115Z
UID:10003058-1782068400-1782072000@cbcburlingtonnj.org
SUMMARY:Fuel for Courage
DESCRIPTION:Join Us Every Sunday at 7:00 p.m. You may participate on a “phone only” basis by calling 1 929 205 6099. Then\, when prompted\, enter the same I.D. number and access code listed above. \nZoom Meeting ID: 538 277 6972\nPasscode 160051
URL:https://cbcburlingtonnj.org/event/fuel-for-courage/2026-06-21/
LOCATION:Virtual
CATEGORIES:Bible Study
END:VEVENT
BEGIN:VEVENT
DTSTART;TZID=America/New_York:20260624T190000
DTEND;TZID=America/New_York:20260624T200000
DTSTAMP:20260423T113912
CREATED:20250610T153513Z
LAST-MODIFIED:20250610T153513Z
UID:10002255-1782327600-1782331200@cbcburlingtonnj.org
SUMMARY:Prayer Meeting
DESCRIPTION:Join us every Wednesday at 7:00 p.m. for our Prayer Meeting.\nCALL-IN NUMBER: 605 472 5657\nWhen prompted\, enter access code 2833791\nPLEASE NOTE that it is important to mute your phones when you are not praying.
URL:https://cbcburlingtonnj.org/event/prayer-meeting/2026-06-24/
LOCATION:Virtual
END:VEVENT
BEGIN:VEVENT
DTSTART;TZID=America/New_York:20260628T190000
DTEND;TZID=America/New_York:20260628T200000
DTSTAMP:20260423T113912
CREATED:20251013T165115Z
LAST-MODIFIED:20251013T165115Z
UID:10003059-1782673200-1782676800@cbcburlingtonnj.org
SUMMARY:Fuel for Courage
DESCRIPTION:Join Us Every Sunday at 7:00 p.m. You may participate on a “phone only” basis by calling 1 929 205 6099. Then\, when prompted\, enter the same I.D. number and access code listed above. \nZoom Meeting ID: 538 277 6972\nPasscode 160051
URL:https://cbcburlingtonnj.org/event/fuel-for-courage/2026-06-28/
LOCATION:Virtual
CATEGORIES:Bible Study
END:VEVENT
BEGIN:VEVENT
DTSTART;TZID=America/New_York:20260701T190000
DTEND;TZID=America/New_York:20260701T200000
DTSTAMP:20260423T113912
CREATED:20250610T153513Z
LAST-MODIFIED:20250610T153513Z
UID:10002256-1782932400-1782936000@cbcburlingtonnj.org
SUMMARY:Prayer Meeting
DESCRIPTION:Join us every Wednesday at 7:00 p.m. for our Prayer Meeting.\nCALL-IN NUMBER: 605 472 5657\nWhen prompted\, enter access code 2833791\nPLEASE NOTE that it is important to mute your phones when you are not praying.
URL:https://cbcburlingtonnj.org/event/prayer-meeting/2026-07-01/
LOCATION:Virtual
END:VEVENT
BEGIN:VEVENT
DTSTART;TZID=America/New_York:20260705T190000
DTEND;TZID=America/New_York:20260705T200000
DTSTAMP:20260423T113912
CREATED:20251013T165115Z
LAST-MODIFIED:20251013T165115Z
UID:10003060-1783278000-1783281600@cbcburlingtonnj.org
SUMMARY:Fuel for Courage
DESCRIPTION:Join Us Every Sunday at 7:00 p.m. You may participate on a “phone only” basis by calling 1 929 205 6099. Then\, when prompted\, enter the same I.D. number and access code listed above. \nZoom Meeting ID: 538 277 6972\nPasscode 160051
URL:https://cbcburlingtonnj.org/event/fuel-for-courage/2026-07-05/
LOCATION:Virtual
CATEGORIES:Bible Study
END:VEVENT
BEGIN:VEVENT
DTSTART;TZID=America/New_York:20260708T190000
DTEND;TZID=America/New_York:20260708T200000
DTSTAMP:20260423T113912
CREATED:20250610T153513Z
LAST-MODIFIED:20250610T153513Z
UID:10002257-1783537200-1783540800@cbcburlingtonnj.org
SUMMARY:Prayer Meeting
DESCRIPTION:Join us every Wednesday at 7:00 p.m. for our Prayer Meeting.\nCALL-IN NUMBER: 605 472 5657\nWhen prompted\, enter access code 2833791\nPLEASE NOTE that it is important to mute your phones when you are not praying.
URL:https://cbcburlingtonnj.org/event/prayer-meeting/2026-07-08/
LOCATION:Virtual
END:VEVENT
BEGIN:VEVENT
DTSTART;TZID=America/New_York:20260712T190000
DTEND;TZID=America/New_York:20260712T200000
DTSTAMP:20260423T113912
CREATED:20251013T165115Z
LAST-MODIFIED:20251013T165115Z
UID:10003061-1783882800-1783886400@cbcburlingtonnj.org
SUMMARY:Fuel for Courage
DESCRIPTION:Join Us Every Sunday at 7:00 p.m. You may participate on a “phone only” basis by calling 1 929 205 6099. Then\, when prompted\, enter the same I.D. number and access code listed above. \nZoom Meeting ID: 538 277 6972\nPasscode 160051
URL:https://cbcburlingtonnj.org/event/fuel-for-courage/2026-07-12/
LOCATION:Virtual
CATEGORIES:Bible Study
END:VEVENT
BEGIN:VEVENT
DTSTART;TZID=America/New_York:20260715T190000
DTEND;TZID=America/New_York:20260715T200000
DTSTAMP:20260423T113912
CREATED:20250610T153513Z
LAST-MODIFIED:20250610T153513Z
UID:10002258-1784142000-1784145600@cbcburlingtonnj.org
SUMMARY:Prayer Meeting
DESCRIPTION:Join us every Wednesday at 7:00 p.m. for our Prayer Meeting.\nCALL-IN NUMBER: 605 472 5657\nWhen prompted\, enter access code 2833791\nPLEASE NOTE that it is important to mute your phones when you are not praying.
URL:https://cbcburlingtonnj.org/event/prayer-meeting/2026-07-15/
LOCATION:Virtual
END:VEVENT
BEGIN:VEVENT
DTSTART;TZID=America/New_York:20260719T190000
DTEND;TZID=America/New_York:20260719T200000
DTSTAMP:20260423T113912
CREATED:20251013T165115Z
LAST-MODIFIED:20251013T165115Z
UID:10003062-1784487600-1784491200@cbcburlingtonnj.org
SUMMARY:Fuel for Courage
DESCRIPTION:Join Us Every Sunday at 7:00 p.m. You may participate on a “phone only” basis by calling 1 929 205 6099. Then\, when prompted\, enter the same I.D. number and access code listed above. \nZoom Meeting ID: 538 277 6972\nPasscode 160051
URL:https://cbcburlingtonnj.org/event/fuel-for-courage/2026-07-19/
LOCATION:Virtual
CATEGORIES:Bible Study
END:VEVENT
BEGIN:VEVENT
DTSTART;TZID=America/New_York:20260722T190000
DTEND;TZID=America/New_York:20260722T200000
DTSTAMP:20260423T113912
CREATED:20250610T153513Z
LAST-MODIFIED:20250610T153513Z
UID:10002259-1784746800-1784750400@cbcburlingtonnj.org
SUMMARY:Prayer Meeting
DESCRIPTION:Join us every Wednesday at 7:00 p.m. for our Prayer Meeting.\nCALL-IN NUMBER: 605 472 5657\nWhen prompted\, enter access code 2833791\nPLEASE NOTE that it is important to mute your phones when you are not praying.
URL:https://cbcburlingtonnj.org/event/prayer-meeting/2026-07-22/
LOCATION:Virtual
END:VEVENT
BEGIN:VEVENT
DTSTART;TZID=America/New_York:20260726T190000
DTEND;TZID=America/New_York:20260726T200000
DTSTAMP:20260423T113912
CREATED:20251013T165115Z
LAST-MODIFIED:20251013T165115Z
UID:10003063-1785092400-1785096000@cbcburlingtonnj.org
SUMMARY:Fuel for Courage
DESCRIPTION:Join Us Every Sunday at 7:00 p.m. You may participate on a “phone only” basis by calling 1 929 205 6099. Then\, when prompted\, enter the same I.D. number and access code listed above. \nZoom Meeting ID: 538 277 6972\nPasscode 160051
URL:https://cbcburlingtonnj.org/event/fuel-for-courage/2026-07-26/
LOCATION:Virtual
CATEGORIES:Bible Study
END:VEVENT
BEGIN:VEVENT
DTSTART;TZID=America/New_York:20260729T190000
DTEND;TZID=America/New_York:20260729T200000
DTSTAMP:20260423T113912
CREATED:20250610T153513Z
LAST-MODIFIED:20250610T153513Z
UID:10002260-1785351600-1785355200@cbcburlingtonnj.org
SUMMARY:Prayer Meeting
DESCRIPTION:Join us every Wednesday at 7:00 p.m. for our Prayer Meeting.\nCALL-IN NUMBER: 605 472 5657\nWhen prompted\, enter access code 2833791\nPLEASE NOTE that it is important to mute your phones when you are not praying.
URL:https://cbcburlingtonnj.org/event/prayer-meeting/2026-07-29/
LOCATION:Virtual
END:VEVENT
BEGIN:VEVENT
DTSTART;TZID=America/New_York:20260802T190000
DTEND;TZID=America/New_York:20260802T200000
DTSTAMP:20260423T113912
CREATED:20251013T165115Z
LAST-MODIFIED:20251013T165115Z
UID:10003064-1785697200-1785700800@cbcburlingtonnj.org
SUMMARY:Fuel for Courage
DESCRIPTION:Join Us Every Sunday at 7:00 p.m. You may participate on a “phone only” basis by calling 1 929 205 6099. Then\, when prompted\, enter the same I.D. number and access code listed above. \nZoom Meeting ID: 538 277 6972\nPasscode 160051
URL:https://cbcburlingtonnj.org/event/fuel-for-courage/2026-08-02/
LOCATION:Virtual
CATEGORIES:Bible Study
END:VEVENT
BEGIN:VEVENT
DTSTART;TZID=America/New_York:20260805T190000
DTEND;TZID=America/New_York:20260805T200000
DTSTAMP:20260423T113912
CREATED:20250610T153513Z
LAST-MODIFIED:20250610T153513Z
UID:10002261-1785956400-1785960000@cbcburlingtonnj.org
SUMMARY:Prayer Meeting
DESCRIPTION:Join us every Wednesday at 7:00 p.m. for our Prayer Meeting.\nCALL-IN NUMBER: 605 472 5657\nWhen prompted\, enter access code 2833791\nPLEASE NOTE that it is important to mute your phones when you are not praying.
URL:https://cbcburlingtonnj.org/event/prayer-meeting/2026-08-05/
LOCATION:Virtual
END:VEVENT
END:VCALENDAR