BEGIN:VCALENDAR
VERSION:2.0
PRODID:-//Christ Baptist Church - Burlington, NJ - ECPv6.15.20//NONSGML v1.0//EN
CALSCALE:GREGORIAN
METHOD:PUBLISH
X-WR-CALNAME:Christ Baptist Church - Burlington, NJ
X-ORIGINAL-URL:https://cbcburlingtonnj.org
X-WR-CALDESC:Events for Christ Baptist Church - Burlington, NJ
REFRESH-INTERVAL;VALUE=DURATION:PT1H
X-Robots-Tag:noindex
X-PUBLISHED-TTL:PT1H
BEGIN:VTIMEZONE
TZID:America/New_York
BEGIN:DAYLIGHT
TZOFFSETFROM:-0500
TZOFFSETTO:-0400
TZNAME:EDT
DTSTART:20240310T070000
END:DAYLIGHT
BEGIN:STANDARD
TZOFFSETFROM:-0400
TZOFFSETTO:-0500
TZNAME:EST
DTSTART:20241103T060000
END:STANDARD
BEGIN:DAYLIGHT
TZOFFSETFROM:-0500
TZOFFSETTO:-0400
TZNAME:EDT
DTSTART:20250309T070000
END:DAYLIGHT
BEGIN:STANDARD
TZOFFSETFROM:-0400
TZOFFSETTO:-0500
TZNAME:EST
DTSTART:20251102T060000
END:STANDARD
BEGIN:DAYLIGHT
TZOFFSETFROM:-0500
TZOFFSETTO:-0400
TZNAME:EDT
DTSTART:20260308T070000
END:DAYLIGHT
BEGIN:STANDARD
TZOFFSETFROM:-0400
TZOFFSETTO:-0500
TZNAME:EST
DTSTART:20261101T060000
END:STANDARD
END:VTIMEZONE
BEGIN:VEVENT
DTSTART;TZID=America/New_York:20251008T190000
DTEND;TZID=America/New_York:20251008T200000
DTSTAMP:20260423T213138
CREATED:20250610T153513Z
LAST-MODIFIED:20250610T153513Z
UID:10002218-1759950000-1759953600@cbcburlingtonnj.org
SUMMARY:Prayer Meeting
DESCRIPTION:Join us every Wednesday at 7:00 p.m. for our Prayer Meeting.\nCALL-IN NUMBER: 605 472 5657\nWhen prompted\, enter access code 2833791\nPLEASE NOTE that it is important to mute your phones when you are not praying.
URL:https://cbcburlingtonnj.org/event/prayer-meeting/2025-10-08/
LOCATION:Virtual
END:VEVENT
BEGIN:VEVENT
DTSTART;TZID=America/New_York:20251001T190000
DTEND;TZID=America/New_York:20251001T200000
DTSTAMP:20260423T213138
CREATED:20250610T153513Z
LAST-MODIFIED:20250610T153513Z
UID:10002217-1759345200-1759348800@cbcburlingtonnj.org
SUMMARY:Prayer Meeting
DESCRIPTION:Join us every Wednesday at 7:00 p.m. for our Prayer Meeting.\nCALL-IN NUMBER: 605 472 5657\nWhen prompted\, enter access code 2833791\nPLEASE NOTE that it is important to mute your phones when you are not praying.
URL:https://cbcburlingtonnj.org/event/prayer-meeting/2025-10-01/
LOCATION:Virtual
END:VEVENT
BEGIN:VEVENT
DTSTART;TZID=America/New_York:20250925T080000
DTEND;TZID=America/New_York:20250925T170000
DTSTAMP:20260423T213138
CREATED:20250910T151841Z
LAST-MODIFIED:20251109T152538Z
UID:10003006-1758787200-1758819600@cbcburlingtonnj.org
SUMMARY:Health Care Ministry Cancer Support Meeting
DESCRIPTION:On Thursday (Sept. 25\, Oct. 23\, Nov. 13\, Dec. 11\, and Jan. 22) per month from 7:00 – 8:30 PM. \nDoctors will discuss cancer\, nutrition\, genetic counseling\, and heart care. If you or someone you know has had cancer\, you can come and share your story. Let’s be a Circle of Strength with our church and community. \nOnline on Zoom\nMeeting ID: 843 7917 8494\nPasscode: 628429\nDial-In 309-205-3325 \nFor more info\, contact our church.
URL:https://cbcburlingtonnj.org/event/health-care-ministry-cancer-support-meeting-3/2025-09-25/
LOCATION:Virtual
CATEGORIES:CBC Health Care Ministry
ATTACH;FMTTYPE=image/webp:https://cbcburlingtonnj.org/wp-content/uploads/2025/09/CANCER-SUPPORT-2-1.webp
END:VEVENT
BEGIN:VEVENT
DTSTART;TZID=America/New_York:20250924T190000
DTEND;TZID=America/New_York:20250924T200000
DTSTAMP:20260423T213138
CREATED:20250610T153513Z
LAST-MODIFIED:20250610T153513Z
UID:10002216-1758740400-1758744000@cbcburlingtonnj.org
SUMMARY:Prayer Meeting
DESCRIPTION:Join us every Wednesday at 7:00 p.m. for our Prayer Meeting.\nCALL-IN NUMBER: 605 472 5657\nWhen prompted\, enter access code 2833791\nPLEASE NOTE that it is important to mute your phones when you are not praying.
URL:https://cbcburlingtonnj.org/event/prayer-meeting/2025-09-24/
LOCATION:Virtual
END:VEVENT
BEGIN:VEVENT
DTSTART;TZID=America/New_York:20250917T190000
DTEND;TZID=America/New_York:20250917T200000
DTSTAMP:20260423T213138
CREATED:20250610T153513Z
LAST-MODIFIED:20250610T153513Z
UID:10002215-1758135600-1758139200@cbcburlingtonnj.org
SUMMARY:Prayer Meeting
DESCRIPTION:Join us every Wednesday at 7:00 p.m. for our Prayer Meeting.\nCALL-IN NUMBER: 605 472 5657\nWhen prompted\, enter access code 2833791\nPLEASE NOTE that it is important to mute your phones when you are not praying.
URL:https://cbcburlingtonnj.org/event/prayer-meeting/2025-09-17/
LOCATION:Virtual
END:VEVENT
BEGIN:VEVENT
DTSTART;TZID=America/New_York:20250910T190000
DTEND;TZID=America/New_York:20250910T200000
DTSTAMP:20260423T213138
CREATED:20250610T153513Z
LAST-MODIFIED:20250610T153513Z
UID:10002214-1757530800-1757534400@cbcburlingtonnj.org
SUMMARY:Prayer Meeting
DESCRIPTION:Join us every Wednesday at 7:00 p.m. for our Prayer Meeting.\nCALL-IN NUMBER: 605 472 5657\nWhen prompted\, enter access code 2833791\nPLEASE NOTE that it is important to mute your phones when you are not praying.
URL:https://cbcburlingtonnj.org/event/prayer-meeting/2025-09-10/
LOCATION:Virtual
END:VEVENT
BEGIN:VEVENT
DTSTART;TZID=America/New_York:20250903T190000
DTEND;TZID=America/New_York:20250903T200000
DTSTAMP:20260423T213138
CREATED:20250610T153513Z
LAST-MODIFIED:20250610T153513Z
UID:10002213-1756926000-1756929600@cbcburlingtonnj.org
SUMMARY:Prayer Meeting
DESCRIPTION:Join us every Wednesday at 7:00 p.m. for our Prayer Meeting.\nCALL-IN NUMBER: 605 472 5657\nWhen prompted\, enter access code 2833791\nPLEASE NOTE that it is important to mute your phones when you are not praying.
URL:https://cbcburlingtonnj.org/event/prayer-meeting/2025-09-03/
LOCATION:Virtual
END:VEVENT
BEGIN:VEVENT
DTSTART;TZID=America/New_York:20250827T190000
DTEND;TZID=America/New_York:20250827T200000
DTSTAMP:20260423T213138
CREATED:20250610T153513Z
LAST-MODIFIED:20250610T153513Z
UID:10002212-1756321200-1756324800@cbcburlingtonnj.org
SUMMARY:Prayer Meeting
DESCRIPTION:Join us every Wednesday at 7:00 p.m. for our Prayer Meeting.\nCALL-IN NUMBER: 605 472 5657\nWhen prompted\, enter access code 2833791\nPLEASE NOTE that it is important to mute your phones when you are not praying.
URL:https://cbcburlingtonnj.org/event/prayer-meeting/2025-08-27/
LOCATION:Virtual
END:VEVENT
BEGIN:VEVENT
DTSTART;TZID=America/New_York:20250822T190000
DTEND;TZID=America/New_York:20250822T203000
DTSTAMP:20260423T213138
CREATED:20250211T152741Z
LAST-MODIFIED:20250211T153114Z
UID:10001922-1755889200-1755894600@cbcburlingtonnj.org
SUMMARY:Health Care Ministry Cancer Support Meeting
DESCRIPTION:On Thursday (Feb. 27\, Mar. 27\, April 24\, May 22\, June 26\, & July 24) per month from 7:00 – 8:30 PM. \nDoctors will discuss cancer\, nutrition\, genetic counseling\, and heart care. If you or someone you know has had cancer\, you can come and share your story. Let’s be a Circle of Strength With our church and community. \nOnline on Zoom\nMeeting ID: 843 7917 8494\nPasscode: 628429\nDial-In 309-205-3325 \nFor more info\, contact our church.
URL:https://cbcburlingtonnj.org/event/health-care-ministry-cancer-support-meeting-2/2025-08-22/
LOCATION:Virtual
ATTACH;FMTTYPE=image/png:https://cbcburlingtonnj.org/wp-content/uploads/2025/02/CANCER-SUPPORT-1.png
END:VEVENT
BEGIN:VEVENT
DTSTART;TZID=America/New_York:20250820T190000
DTEND;TZID=America/New_York:20250820T200000
DTSTAMP:20260423T213138
CREATED:20250610T153513Z
LAST-MODIFIED:20250610T153513Z
UID:10002211-1755716400-1755720000@cbcburlingtonnj.org
SUMMARY:Prayer Meeting
DESCRIPTION:Join us every Wednesday at 7:00 p.m. for our Prayer Meeting.\nCALL-IN NUMBER: 605 472 5657\nWhen prompted\, enter access code 2833791\nPLEASE NOTE that it is important to mute your phones when you are not praying.
URL:https://cbcburlingtonnj.org/event/prayer-meeting/2025-08-20/
LOCATION:Virtual
END:VEVENT
BEGIN:VEVENT
DTSTART;TZID=America/New_York:20250813T190000
DTEND;TZID=America/New_York:20250813T200000
DTSTAMP:20260423T213138
CREATED:20250610T153513Z
LAST-MODIFIED:20250610T153513Z
UID:10002210-1755111600-1755115200@cbcburlingtonnj.org
SUMMARY:Prayer Meeting
DESCRIPTION:Join us every Wednesday at 7:00 p.m. for our Prayer Meeting.\nCALL-IN NUMBER: 605 472 5657\nWhen prompted\, enter access code 2833791\nPLEASE NOTE that it is important to mute your phones when you are not praying.
URL:https://cbcburlingtonnj.org/event/prayer-meeting/2025-08-13/
LOCATION:Virtual
END:VEVENT
BEGIN:VEVENT
DTSTART;TZID=America/New_York:20250806T190000
DTEND;TZID=America/New_York:20250806T200000
DTSTAMP:20260423T213138
CREATED:20250610T153513Z
LAST-MODIFIED:20250610T153513Z
UID:10002209-1754506800-1754510400@cbcburlingtonnj.org
SUMMARY:Prayer Meeting
DESCRIPTION:Join us every Wednesday at 7:00 p.m. for our Prayer Meeting.\nCALL-IN NUMBER: 605 472 5657\nWhen prompted\, enter access code 2833791\nPLEASE NOTE that it is important to mute your phones when you are not praying.
URL:https://cbcburlingtonnj.org/event/prayer-meeting/2025-08-06/
LOCATION:Virtual
END:VEVENT
BEGIN:VEVENT
DTSTART;TZID=America/New_York:20250730T190000
DTEND;TZID=America/New_York:20250730T200000
DTSTAMP:20260423T213138
CREATED:20250610T153513Z
LAST-MODIFIED:20250610T153513Z
UID:10002208-1753902000-1753905600@cbcburlingtonnj.org
SUMMARY:Prayer Meeting
DESCRIPTION:Join us every Wednesday at 7:00 p.m. for our Prayer Meeting.\nCALL-IN NUMBER: 605 472 5657\nWhen prompted\, enter access code 2833791\nPLEASE NOTE that it is important to mute your phones when you are not praying.
URL:https://cbcburlingtonnj.org/event/prayer-meeting/2025-07-30/
LOCATION:Virtual
END:VEVENT
BEGIN:VEVENT
DTSTART;TZID=America/New_York:20250724T190000
DTEND;TZID=America/New_York:20250724T203000
DTSTAMP:20260423T213138
CREATED:20250211T152741Z
LAST-MODIFIED:20250211T153114Z
UID:10001921-1753383600-1753389000@cbcburlingtonnj.org
SUMMARY:Health Care Ministry Cancer Support Meeting
DESCRIPTION:On Thursday (Feb. 27\, Mar. 27\, April 24\, May 22\, June 26\, & July 24) per month from 7:00 – 8:30 PM. \nDoctors will discuss cancer\, nutrition\, genetic counseling\, and heart care. If you or someone you know has had cancer\, you can come and share your story. Let’s be a Circle of Strength With our church and community. \nOnline on Zoom\nMeeting ID: 843 7917 8494\nPasscode: 628429\nDial-In 309-205-3325 \nFor more info\, contact our church.
URL:https://cbcburlingtonnj.org/event/health-care-ministry-cancer-support-meeting-2/2025-07-24/
LOCATION:Virtual
ATTACH;FMTTYPE=image/png:https://cbcburlingtonnj.org/wp-content/uploads/2025/02/CANCER-SUPPORT-1.png
END:VEVENT
BEGIN:VEVENT
DTSTART;TZID=America/New_York:20250723T190000
DTEND;TZID=America/New_York:20250723T200000
DTSTAMP:20260423T213138
CREATED:20250610T153513Z
LAST-MODIFIED:20250610T153513Z
UID:10002207-1753297200-1753300800@cbcburlingtonnj.org
SUMMARY:Prayer Meeting
DESCRIPTION:Join us every Wednesday at 7:00 p.m. for our Prayer Meeting.\nCALL-IN NUMBER: 605 472 5657\nWhen prompted\, enter access code 2833791\nPLEASE NOTE that it is important to mute your phones when you are not praying.
URL:https://cbcburlingtonnj.org/event/prayer-meeting/2025-07-23/
LOCATION:Virtual
END:VEVENT
BEGIN:VEVENT
DTSTART;TZID=America/New_York:20250716T190000
DTEND;TZID=America/New_York:20250716T200000
DTSTAMP:20260423T213138
CREATED:20250610T153513Z
LAST-MODIFIED:20250610T153513Z
UID:10002206-1752692400-1752696000@cbcburlingtonnj.org
SUMMARY:Prayer Meeting
DESCRIPTION:Join us every Wednesday at 7:00 p.m. for our Prayer Meeting.\nCALL-IN NUMBER: 605 472 5657\nWhen prompted\, enter access code 2833791\nPLEASE NOTE that it is important to mute your phones when you are not praying.
URL:https://cbcburlingtonnj.org/event/prayer-meeting/2025-07-16/
LOCATION:Virtual
END:VEVENT
BEGIN:VEVENT
DTSTART;TZID=America/New_York:20250709T190000
DTEND;TZID=America/New_York:20250709T200000
DTSTAMP:20260423T213138
CREATED:20250610T153513Z
LAST-MODIFIED:20250610T153513Z
UID:10002205-1752087600-1752091200@cbcburlingtonnj.org
SUMMARY:Prayer Meeting
DESCRIPTION:Join us every Wednesday at 7:00 p.m. for our Prayer Meeting.\nCALL-IN NUMBER: 605 472 5657\nWhen prompted\, enter access code 2833791\nPLEASE NOTE that it is important to mute your phones when you are not praying.
URL:https://cbcburlingtonnj.org/event/prayer-meeting/2025-07-09/
LOCATION:Virtual
END:VEVENT
BEGIN:VEVENT
DTSTART;TZID=America/New_York:20250702T190000
DTEND;TZID=America/New_York:20250702T200000
DTSTAMP:20260423T213138
CREATED:20250610T153513Z
LAST-MODIFIED:20250610T153513Z
UID:10002204-1751482800-1751486400@cbcburlingtonnj.org
SUMMARY:Prayer Meeting
DESCRIPTION:Join us every Wednesday at 7:00 p.m. for our Prayer Meeting.\nCALL-IN NUMBER: 605 472 5657\nWhen prompted\, enter access code 2833791\nPLEASE NOTE that it is important to mute your phones when you are not praying.
URL:https://cbcburlingtonnj.org/event/prayer-meeting/2025-07-02/
LOCATION:Virtual
END:VEVENT
BEGIN:VEVENT
DTSTART;TZID=America/New_York:20250626T190000
DTEND;TZID=America/New_York:20250626T203000
DTSTAMP:20260423T213138
CREATED:20250211T152741Z
LAST-MODIFIED:20250211T153114Z
UID:10001920-1750964400-1750969800@cbcburlingtonnj.org
SUMMARY:Health Care Ministry Cancer Support Meeting
DESCRIPTION:On Thursday (Feb. 27\, Mar. 27\, April 24\, May 22\, June 26\, & July 24) per month from 7:00 – 8:30 PM. \nDoctors will discuss cancer\, nutrition\, genetic counseling\, and heart care. If you or someone you know has had cancer\, you can come and share your story. Let’s be a Circle of Strength With our church and community. \nOnline on Zoom\nMeeting ID: 843 7917 8494\nPasscode: 628429\nDial-In 309-205-3325 \nFor more info\, contact our church.
URL:https://cbcburlingtonnj.org/event/health-care-ministry-cancer-support-meeting-2/2025-06-26/
LOCATION:Virtual
ATTACH;FMTTYPE=image/png:https://cbcburlingtonnj.org/wp-content/uploads/2025/02/CANCER-SUPPORT-1.png
END:VEVENT
BEGIN:VEVENT
DTSTART;TZID=America/New_York:20250625T190000
DTEND;TZID=America/New_York:20250625T200000
DTSTAMP:20260423T213138
CREATED:20250610T153513Z
LAST-MODIFIED:20250610T153513Z
UID:10002203-1750878000-1750881600@cbcburlingtonnj.org
SUMMARY:Prayer Meeting
DESCRIPTION:Join us every Wednesday at 7:00 p.m. for our Prayer Meeting.\nCALL-IN NUMBER: 605 472 5657\nWhen prompted\, enter access code 2833791\nPLEASE NOTE that it is important to mute your phones when you are not praying.
URL:https://cbcburlingtonnj.org/event/prayer-meeting/2025-06-25/
LOCATION:Virtual
END:VEVENT
BEGIN:VEVENT
DTSTART;TZID=America/New_York:20250618T190000
DTEND;TZID=America/New_York:20250618T200000
DTSTAMP:20260423T213138
CREATED:20250610T153513Z
LAST-MODIFIED:20250610T153513Z
UID:10002202-1750273200-1750276800@cbcburlingtonnj.org
SUMMARY:Prayer Meeting
DESCRIPTION:Join us every Wednesday at 7:00 p.m. for our Prayer Meeting.\nCALL-IN NUMBER: 605 472 5657\nWhen prompted\, enter access code 2833791\nPLEASE NOTE that it is important to mute your phones when you are not praying.
URL:https://cbcburlingtonnj.org/event/prayer-meeting/2025-06-18/
LOCATION:Virtual
END:VEVENT
BEGIN:VEVENT
DTSTART;TZID=America/New_York:20250611T190000
DTEND;TZID=America/New_York:20250611T200000
DTSTAMP:20260423T213138
CREATED:20250610T153513Z
LAST-MODIFIED:20250610T153513Z
UID:10002201-1749668400-1749672000@cbcburlingtonnj.org
SUMMARY:Prayer Meeting
DESCRIPTION:Join us every Wednesday at 7:00 p.m. for our Prayer Meeting.\nCALL-IN NUMBER: 605 472 5657\nWhen prompted\, enter access code 2833791\nPLEASE NOTE that it is important to mute your phones when you are not praying.
URL:https://cbcburlingtonnj.org/event/prayer-meeting/2025-06-11/
LOCATION:Virtual
END:VEVENT
BEGIN:VEVENT
DTSTART;TZID=America/New_York:20250604T190000
DTEND;TZID=America/New_York:20250604T200000
DTSTAMP:20260423T213138
CREATED:20250610T153513Z
LAST-MODIFIED:20250610T153513Z
UID:10002200-1749063600-1749067200@cbcburlingtonnj.org
SUMMARY:Prayer Meeting
DESCRIPTION:Join us every Wednesday at 7:00 p.m. for our Prayer Meeting.\nCALL-IN NUMBER: 605 472 5657\nWhen prompted\, enter access code 2833791\nPLEASE NOTE that it is important to mute your phones when you are not praying.
URL:https://cbcburlingtonnj.org/event/prayer-meeting/2025-06-04/
LOCATION:Virtual
END:VEVENT
BEGIN:VEVENT
DTSTART;TZID=America/New_York:20250528T190000
DTEND;TZID=America/New_York:20250528T200000
DTSTAMP:20260423T213138
CREATED:20250610T153513Z
LAST-MODIFIED:20250610T153513Z
UID:10002199-1748458800-1748462400@cbcburlingtonnj.org
SUMMARY:Prayer Meeting
DESCRIPTION:Join us every Wednesday at 7:00 p.m. for our Prayer Meeting.\nCALL-IN NUMBER: 605 472 5657\nWhen prompted\, enter access code 2833791\nPLEASE NOTE that it is important to mute your phones when you are not praying.
URL:https://cbcburlingtonnj.org/event/prayer-meeting/2025-05-28/
LOCATION:Virtual
END:VEVENT
BEGIN:VEVENT
DTSTART;TZID=America/New_York:20250522T190000
DTEND;TZID=America/New_York:20250522T203000
DTSTAMP:20260423T213138
CREATED:20250211T152741Z
LAST-MODIFIED:20250211T153114Z
UID:10001918-1747940400-1747945800@cbcburlingtonnj.org
SUMMARY:Health Care Ministry Cancer Support Meeting
DESCRIPTION:On Thursday (Feb. 27\, Mar. 27\, April 24\, May 22\, June 26\, & July 24) per month from 7:00 – 8:30 PM. \nDoctors will discuss cancer\, nutrition\, genetic counseling\, and heart care. If you or someone you know has had cancer\, you can come and share your story. Let’s be a Circle of Strength With our church and community. \nOnline on Zoom\nMeeting ID: 843 7917 8494\nPasscode: 628429\nDial-In 309-205-3325 \nFor more info\, contact our church.
URL:https://cbcburlingtonnj.org/event/health-care-ministry-cancer-support-meeting-2/2025-05-22/
LOCATION:Virtual
ATTACH;FMTTYPE=image/png:https://cbcburlingtonnj.org/wp-content/uploads/2025/02/CANCER-SUPPORT-1.png
END:VEVENT
BEGIN:VEVENT
DTSTART;TZID=America/New_York:20250521T190000
DTEND;TZID=America/New_York:20250521T200000
DTSTAMP:20260423T213138
CREATED:20250610T153513Z
LAST-MODIFIED:20250610T153513Z
UID:10002198-1747854000-1747857600@cbcburlingtonnj.org
SUMMARY:Prayer Meeting
DESCRIPTION:Join us every Wednesday at 7:00 p.m. for our Prayer Meeting.\nCALL-IN NUMBER: 605 472 5657\nWhen prompted\, enter access code 2833791\nPLEASE NOTE that it is important to mute your phones when you are not praying.
URL:https://cbcburlingtonnj.org/event/prayer-meeting/2025-05-21/
LOCATION:Virtual
END:VEVENT
BEGIN:VEVENT
DTSTART;TZID=America/New_York:20250514T190000
DTEND;TZID=America/New_York:20250514T200000
DTSTAMP:20260423T213138
CREATED:20250610T153513Z
LAST-MODIFIED:20250610T153513Z
UID:10002197-1747249200-1747252800@cbcburlingtonnj.org
SUMMARY:Prayer Meeting
DESCRIPTION:Join us every Wednesday at 7:00 p.m. for our Prayer Meeting.\nCALL-IN NUMBER: 605 472 5657\nWhen prompted\, enter access code 2833791\nPLEASE NOTE that it is important to mute your phones when you are not praying.
URL:https://cbcburlingtonnj.org/event/prayer-meeting/2025-05-14/
LOCATION:Virtual
END:VEVENT
BEGIN:VEVENT
DTSTART;TZID=America/New_York:20250507T190000
DTEND;TZID=America/New_York:20250507T200000
DTSTAMP:20260423T213138
CREATED:20250610T153513Z
LAST-MODIFIED:20250610T153513Z
UID:10002196-1746644400-1746648000@cbcburlingtonnj.org
SUMMARY:Prayer Meeting
DESCRIPTION:Join us every Wednesday at 7:00 p.m. for our Prayer Meeting.\nCALL-IN NUMBER: 605 472 5657\nWhen prompted\, enter access code 2833791\nPLEASE NOTE that it is important to mute your phones when you are not praying.
URL:https://cbcburlingtonnj.org/event/prayer-meeting/2025-05-07/
LOCATION:Virtual
END:VEVENT
BEGIN:VEVENT
DTSTART;TZID=America/New_York:20250424T190000
DTEND;TZID=America/New_York:20250424T203000
DTSTAMP:20260423T213138
CREATED:20250211T152741Z
LAST-MODIFIED:20250211T153114Z
UID:10001917-1745521200-1745526600@cbcburlingtonnj.org
SUMMARY:Health Care Ministry Cancer Support Meeting
DESCRIPTION:On Thursday (Feb. 27\, Mar. 27\, April 24\, May 22\, June 26\, & July 24) per month from 7:00 – 8:30 PM. \nDoctors will discuss cancer\, nutrition\, genetic counseling\, and heart care. If you or someone you know has had cancer\, you can come and share your story. Let’s be a Circle of Strength With our church and community. \nOnline on Zoom\nMeeting ID: 843 7917 8494\nPasscode: 628429\nDial-In 309-205-3325 \nFor more info\, contact our church.
URL:https://cbcburlingtonnj.org/event/health-care-ministry-cancer-support-meeting-2/2025-04-24/
LOCATION:Virtual
ATTACH;FMTTYPE=image/png:https://cbcburlingtonnj.org/wp-content/uploads/2025/02/CANCER-SUPPORT-1.png
END:VEVENT
BEGIN:VEVENT
DTSTART;TZID=America/New_York:20250327T190000
DTEND;TZID=America/New_York:20250327T203000
DTSTAMP:20260423T213138
CREATED:20250211T152741Z
LAST-MODIFIED:20250211T153114Z
UID:10001916-1743102000-1743107400@cbcburlingtonnj.org
SUMMARY:Health Care Ministry Cancer Support Meeting
DESCRIPTION:On Thursday (Feb. 27\, Mar. 27\, April 24\, May 22\, June 26\, & July 24) per month from 7:00 – 8:30 PM. \nDoctors will discuss cancer\, nutrition\, genetic counseling\, and heart care. If you or someone you know has had cancer\, you can come and share your story. Let’s be a Circle of Strength With our church and community. \nOnline on Zoom\nMeeting ID: 843 7917 8494\nPasscode: 628429\nDial-In 309-205-3325 \nFor more info\, contact our church.
URL:https://cbcburlingtonnj.org/event/health-care-ministry-cancer-support-meeting-2/2025-03-27/
LOCATION:Virtual
ATTACH;FMTTYPE=image/png:https://cbcburlingtonnj.org/wp-content/uploads/2025/02/CANCER-SUPPORT-1.png
END:VEVENT
END:VCALENDAR