BEGIN:VCALENDAR
VERSION:2.0
PRODID:-//Christ Baptist Church - Burlington, NJ - ECPv6.15.20//NONSGML v1.0//EN
CALSCALE:GREGORIAN
METHOD:PUBLISH
X-WR-CALNAME:Christ Baptist Church - Burlington, NJ
X-ORIGINAL-URL:https://cbcburlingtonnj.org
X-WR-CALDESC:Events for Christ Baptist Church - Burlington, NJ
REFRESH-INTERVAL;VALUE=DURATION:PT1H
X-Robots-Tag:noindex
X-PUBLISHED-TTL:PT1H
BEGIN:VTIMEZONE
TZID:America/New_York
BEGIN:DAYLIGHT
TZOFFSETFROM:-0500
TZOFFSETTO:-0400
TZNAME:EDT
DTSTART:20260308T070000
END:DAYLIGHT
BEGIN:STANDARD
TZOFFSETFROM:-0400
TZOFFSETTO:-0500
TZNAME:EST
DTSTART:20261101T060000
END:STANDARD
BEGIN:DAYLIGHT
TZOFFSETFROM:-0500
TZOFFSETTO:-0400
TZNAME:EDT
DTSTART:20270314T070000
END:DAYLIGHT
BEGIN:STANDARD
TZOFFSETFROM:-0400
TZOFFSETTO:-0500
TZNAME:EST
DTSTART:20271107T060000
END:STANDARD
BEGIN:DAYLIGHT
TZOFFSETFROM:-0500
TZOFFSETTO:-0400
TZNAME:EDT
DTSTART:20280312T070000
END:DAYLIGHT
BEGIN:STANDARD
TZOFFSETFROM:-0400
TZOFFSETTO:-0500
TZNAME:EST
DTSTART:20281105T060000
END:STANDARD
BEGIN:DAYLIGHT
TZOFFSETFROM:-0500
TZOFFSETTO:-0400
TZNAME:EDT
DTSTART:20290311T070000
END:DAYLIGHT
BEGIN:STANDARD
TZOFFSETFROM:-0400
TZOFFSETTO:-0500
TZNAME:EST
DTSTART:20291104T060000
END:STANDARD
BEGIN:DAYLIGHT
TZOFFSETFROM:-0500
TZOFFSETTO:-0400
TZNAME:EDT
DTSTART:20300310T070000
END:DAYLIGHT
BEGIN:STANDARD
TZOFFSETFROM:-0400
TZOFFSETTO:-0500
TZNAME:EST
DTSTART:20301103T060000
END:STANDARD
END:VTIMEZONE
BEGIN:VEVENT
DTSTART;TZID=America/New_York:20271031T140000
DTEND;TZID=America/New_York:20271031T150000
DTSTAMP:20260423T141424
CREATED:20250610T155527Z
LAST-MODIFIED:20250610T155551Z
UID:10002862-1824991200-1824994800@cbcburlingtonnj.org
SUMMARY:Nursing Home Ministries (Fifth Sunday)
DESCRIPTION:When: Wynwood Rehab/HealthCare Ctr\nTime: 2:00 to 3:00 PM
URL:https://cbcburlingtonnj.org/event/nursing-home-ministries-4/2027-10-31/
LOCATION:Wynwood Rehabilitation and Healthcare Center\, 1700 Wynwood Dr\, Cinnaminson\, 08077\, United States
END:VEVENT
BEGIN:VEVENT
DTSTART;TZID=America/New_York:20271107T143000
DTEND;TZID=America/New_York:20271107T153000
DTSTAMP:20260423T141424
CREATED:20250610T155036Z
LAST-MODIFIED:20250610T160010Z
UID:10002903-1825597800-1825601400@cbcburlingtonnj.org
SUMMARY:Nursing Home Ministries (First Sunday)
DESCRIPTION:When: Complete Care @ Burlington Woods \nTime: 2:30 to 3:30 PM \n  \nWhen: Wynwood Rehab/HealthCare Ctr. \nTime: 2:00 to 3:00 PM.
URL:https://cbcburlingtonnj.org/event/nursing-home-ministries/2027-11-07/
LOCATION:Complete Care @ Burlington Woods\, 115 Sunset Rd\, Burlington\, 08016\, United States
CATEGORIES:CBC EVENTS
END:VEVENT
BEGIN:VEVENT
DTSTART;TZID=America/New_York:20271205T143000
DTEND;TZID=America/New_York:20271205T153000
DTSTAMP:20260423T141424
CREATED:20250610T155036Z
LAST-MODIFIED:20250610T160010Z
UID:10002904-1828017000-1828020600@cbcburlingtonnj.org
SUMMARY:Nursing Home Ministries (First Sunday)
DESCRIPTION:When: Complete Care @ Burlington Woods \nTime: 2:30 to 3:30 PM \n  \nWhen: Wynwood Rehab/HealthCare Ctr. \nTime: 2:00 to 3:00 PM.
URL:https://cbcburlingtonnj.org/event/nursing-home-ministries/2027-12-05/
LOCATION:Complete Care @ Burlington Woods\, 115 Sunset Rd\, Burlington\, 08016\, United States
CATEGORIES:CBC EVENTS
END:VEVENT
BEGIN:VEVENT
DTSTART;TZID=America/New_York:20280102T143000
DTEND;TZID=America/New_York:20280102T153000
DTSTAMP:20260423T141424
CREATED:20250610T155036Z
LAST-MODIFIED:20250610T160010Z
UID:10002905-1830436200-1830439800@cbcburlingtonnj.org
SUMMARY:Nursing Home Ministries (First Sunday)
DESCRIPTION:When: Complete Care @ Burlington Woods \nTime: 2:30 to 3:30 PM \n  \nWhen: Wynwood Rehab/HealthCare Ctr. \nTime: 2:00 to 3:00 PM.
URL:https://cbcburlingtonnj.org/event/nursing-home-ministries/2028-01-02/
LOCATION:Complete Care @ Burlington Woods\, 115 Sunset Rd\, Burlington\, 08016\, United States
CATEGORIES:CBC EVENTS
END:VEVENT
BEGIN:VEVENT
DTSTART;TZID=America/New_York:20280130T140000
DTEND;TZID=America/New_York:20280130T150000
DTSTAMP:20260423T141424
CREATED:20250610T155527Z
LAST-MODIFIED:20250610T155551Z
UID:10002863-1832853600-1832857200@cbcburlingtonnj.org
SUMMARY:Nursing Home Ministries (Fifth Sunday)
DESCRIPTION:When: Wynwood Rehab/HealthCare Ctr\nTime: 2:00 to 3:00 PM
URL:https://cbcburlingtonnj.org/event/nursing-home-ministries-4/2028-01-30/
LOCATION:Wynwood Rehabilitation and Healthcare Center\, 1700 Wynwood Dr\, Cinnaminson\, 08077\, United States
END:VEVENT
BEGIN:VEVENT
DTSTART;TZID=America/New_York:20280206T143000
DTEND;TZID=America/New_York:20280206T153000
DTSTAMP:20260423T141424
CREATED:20250610T155036Z
LAST-MODIFIED:20250610T160010Z
UID:10002906-1833460200-1833463800@cbcburlingtonnj.org
SUMMARY:Nursing Home Ministries (First Sunday)
DESCRIPTION:When: Complete Care @ Burlington Woods \nTime: 2:30 to 3:30 PM \n  \nWhen: Wynwood Rehab/HealthCare Ctr. \nTime: 2:00 to 3:00 PM.
URL:https://cbcburlingtonnj.org/event/nursing-home-ministries/2028-02-06/
LOCATION:Complete Care @ Burlington Woods\, 115 Sunset Rd\, Burlington\, 08016\, United States
CATEGORIES:CBC EVENTS
END:VEVENT
BEGIN:VEVENT
DTSTART;TZID=America/New_York:20280305T143000
DTEND;TZID=America/New_York:20280305T153000
DTSTAMP:20260423T141424
CREATED:20250610T155036Z
LAST-MODIFIED:20250610T160010Z
UID:10002907-1835879400-1835883000@cbcburlingtonnj.org
SUMMARY:Nursing Home Ministries (First Sunday)
DESCRIPTION:When: Complete Care @ Burlington Woods \nTime: 2:30 to 3:30 PM \n  \nWhen: Wynwood Rehab/HealthCare Ctr. \nTime: 2:00 to 3:00 PM.
URL:https://cbcburlingtonnj.org/event/nursing-home-ministries/2028-03-05/
LOCATION:Complete Care @ Burlington Woods\, 115 Sunset Rd\, Burlington\, 08016\, United States
CATEGORIES:CBC EVENTS
END:VEVENT
BEGIN:VEVENT
DTSTART;TZID=America/New_York:20280402T143000
DTEND;TZID=America/New_York:20280402T153000
DTSTAMP:20260423T141424
CREATED:20250610T155036Z
LAST-MODIFIED:20250610T160010Z
UID:10002908-1838298600-1838302200@cbcburlingtonnj.org
SUMMARY:Nursing Home Ministries (First Sunday)
DESCRIPTION:When: Complete Care @ Burlington Woods \nTime: 2:30 to 3:30 PM \n  \nWhen: Wynwood Rehab/HealthCare Ctr. \nTime: 2:00 to 3:00 PM.
URL:https://cbcburlingtonnj.org/event/nursing-home-ministries/2028-04-02/
LOCATION:Complete Care @ Burlington Woods\, 115 Sunset Rd\, Burlington\, 08016\, United States
CATEGORIES:CBC EVENTS
END:VEVENT
BEGIN:VEVENT
DTSTART;TZID=America/New_York:20280430T140000
DTEND;TZID=America/New_York:20280430T150000
DTSTAMP:20260423T141424
CREATED:20250610T155527Z
LAST-MODIFIED:20250610T155551Z
UID:10002864-1840716000-1840719600@cbcburlingtonnj.org
SUMMARY:Nursing Home Ministries (Fifth Sunday)
DESCRIPTION:When: Wynwood Rehab/HealthCare Ctr\nTime: 2:00 to 3:00 PM
URL:https://cbcburlingtonnj.org/event/nursing-home-ministries-4/2028-04-30/
LOCATION:Wynwood Rehabilitation and Healthcare Center\, 1700 Wynwood Dr\, Cinnaminson\, 08077\, United States
END:VEVENT
BEGIN:VEVENT
DTSTART;TZID=America/New_York:20280507T143000
DTEND;TZID=America/New_York:20280507T153000
DTSTAMP:20260423T141424
CREATED:20250610T155036Z
LAST-MODIFIED:20250610T160010Z
UID:10002909-1841322600-1841326200@cbcburlingtonnj.org
SUMMARY:Nursing Home Ministries (First Sunday)
DESCRIPTION:When: Complete Care @ Burlington Woods \nTime: 2:30 to 3:30 PM \n  \nWhen: Wynwood Rehab/HealthCare Ctr. \nTime: 2:00 to 3:00 PM.
URL:https://cbcburlingtonnj.org/event/nursing-home-ministries/2028-05-07/
LOCATION:Complete Care @ Burlington Woods\, 115 Sunset Rd\, Burlington\, 08016\, United States
CATEGORIES:CBC EVENTS
END:VEVENT
BEGIN:VEVENT
DTSTART;TZID=America/New_York:20280604T143000
DTEND;TZID=America/New_York:20280604T153000
DTSTAMP:20260423T141424
CREATED:20250610T155036Z
LAST-MODIFIED:20250610T160010Z
UID:10002910-1843741800-1843745400@cbcburlingtonnj.org
SUMMARY:Nursing Home Ministries (First Sunday)
DESCRIPTION:When: Complete Care @ Burlington Woods \nTime: 2:30 to 3:30 PM \n  \nWhen: Wynwood Rehab/HealthCare Ctr. \nTime: 2:00 to 3:00 PM.
URL:https://cbcburlingtonnj.org/event/nursing-home-ministries/2028-06-04/
LOCATION:Complete Care @ Burlington Woods\, 115 Sunset Rd\, Burlington\, 08016\, United States
CATEGORIES:CBC EVENTS
END:VEVENT
BEGIN:VEVENT
DTSTART;TZID=America/New_York:20280702T143000
DTEND;TZID=America/New_York:20280702T153000
DTSTAMP:20260423T141424
CREATED:20250610T155036Z
LAST-MODIFIED:20250610T160010Z
UID:10002911-1846161000-1846164600@cbcburlingtonnj.org
SUMMARY:Nursing Home Ministries (First Sunday)
DESCRIPTION:When: Complete Care @ Burlington Woods \nTime: 2:30 to 3:30 PM \n  \nWhen: Wynwood Rehab/HealthCare Ctr. \nTime: 2:00 to 3:00 PM.
URL:https://cbcburlingtonnj.org/event/nursing-home-ministries/2028-07-02/
LOCATION:Complete Care @ Burlington Woods\, 115 Sunset Rd\, Burlington\, 08016\, United States
CATEGORIES:CBC EVENTS
END:VEVENT
BEGIN:VEVENT
DTSTART;TZID=America/New_York:20280730T140000
DTEND;TZID=America/New_York:20280730T150000
DTSTAMP:20260423T141424
CREATED:20250610T155527Z
LAST-MODIFIED:20250610T155551Z
UID:10002865-1848578400-1848582000@cbcburlingtonnj.org
SUMMARY:Nursing Home Ministries (Fifth Sunday)
DESCRIPTION:When: Wynwood Rehab/HealthCare Ctr\nTime: 2:00 to 3:00 PM
URL:https://cbcburlingtonnj.org/event/nursing-home-ministries-4/2028-07-30/
LOCATION:Wynwood Rehabilitation and Healthcare Center\, 1700 Wynwood Dr\, Cinnaminson\, 08077\, United States
END:VEVENT
BEGIN:VEVENT
DTSTART;TZID=America/New_York:20280806T143000
DTEND;TZID=America/New_York:20280806T153000
DTSTAMP:20260423T141424
CREATED:20250610T155036Z
LAST-MODIFIED:20250610T160010Z
UID:10002912-1849185000-1849188600@cbcburlingtonnj.org
SUMMARY:Nursing Home Ministries (First Sunday)
DESCRIPTION:When: Complete Care @ Burlington Woods \nTime: 2:30 to 3:30 PM \n  \nWhen: Wynwood Rehab/HealthCare Ctr. \nTime: 2:00 to 3:00 PM.
URL:https://cbcburlingtonnj.org/event/nursing-home-ministries/2028-08-06/
LOCATION:Complete Care @ Burlington Woods\, 115 Sunset Rd\, Burlington\, 08016\, United States
CATEGORIES:CBC EVENTS
END:VEVENT
BEGIN:VEVENT
DTSTART;TZID=America/New_York:20280903T143000
DTEND;TZID=America/New_York:20280903T153000
DTSTAMP:20260423T141424
CREATED:20250610T155036Z
LAST-MODIFIED:20250610T160010Z
UID:10002913-1851604200-1851607800@cbcburlingtonnj.org
SUMMARY:Nursing Home Ministries (First Sunday)
DESCRIPTION:When: Complete Care @ Burlington Woods \nTime: 2:30 to 3:30 PM \n  \nWhen: Wynwood Rehab/HealthCare Ctr. \nTime: 2:00 to 3:00 PM.
URL:https://cbcburlingtonnj.org/event/nursing-home-ministries/2028-09-03/
LOCATION:Complete Care @ Burlington Woods\, 115 Sunset Rd\, Burlington\, 08016\, United States
CATEGORIES:CBC EVENTS
END:VEVENT
BEGIN:VEVENT
DTSTART;TZID=America/New_York:20281001T143000
DTEND;TZID=America/New_York:20281001T153000
DTSTAMP:20260423T141424
CREATED:20250610T155036Z
LAST-MODIFIED:20250610T160010Z
UID:10002914-1854023400-1854027000@cbcburlingtonnj.org
SUMMARY:Nursing Home Ministries (First Sunday)
DESCRIPTION:When: Complete Care @ Burlington Woods \nTime: 2:30 to 3:30 PM \n  \nWhen: Wynwood Rehab/HealthCare Ctr. \nTime: 2:00 to 3:00 PM.
URL:https://cbcburlingtonnj.org/event/nursing-home-ministries/2028-10-01/
LOCATION:Complete Care @ Burlington Woods\, 115 Sunset Rd\, Burlington\, 08016\, United States
CATEGORIES:CBC EVENTS
END:VEVENT
BEGIN:VEVENT
DTSTART;TZID=America/New_York:20281029T140000
DTEND;TZID=America/New_York:20281029T150000
DTSTAMP:20260423T141424
CREATED:20250610T155527Z
LAST-MODIFIED:20250610T155551Z
UID:10002866-1856440800-1856444400@cbcburlingtonnj.org
SUMMARY:Nursing Home Ministries (Fifth Sunday)
DESCRIPTION:When: Wynwood Rehab/HealthCare Ctr\nTime: 2:00 to 3:00 PM
URL:https://cbcburlingtonnj.org/event/nursing-home-ministries-4/2028-10-29/
LOCATION:Wynwood Rehabilitation and Healthcare Center\, 1700 Wynwood Dr\, Cinnaminson\, 08077\, United States
END:VEVENT
BEGIN:VEVENT
DTSTART;TZID=America/New_York:20281105T143000
DTEND;TZID=America/New_York:20281105T153000
DTSTAMP:20260423T141424
CREATED:20250610T155036Z
LAST-MODIFIED:20250610T160010Z
UID:10002915-1857047400-1857051000@cbcburlingtonnj.org
SUMMARY:Nursing Home Ministries (First Sunday)
DESCRIPTION:When: Complete Care @ Burlington Woods \nTime: 2:30 to 3:30 PM \n  \nWhen: Wynwood Rehab/HealthCare Ctr. \nTime: 2:00 to 3:00 PM.
URL:https://cbcburlingtonnj.org/event/nursing-home-ministries/2028-11-05/
LOCATION:Complete Care @ Burlington Woods\, 115 Sunset Rd\, Burlington\, 08016\, United States
CATEGORIES:CBC EVENTS
END:VEVENT
BEGIN:VEVENT
DTSTART;TZID=America/New_York:20281203T143000
DTEND;TZID=America/New_York:20281203T153000
DTSTAMP:20260423T141424
CREATED:20250610T155036Z
LAST-MODIFIED:20250610T160010Z
UID:10002916-1859466600-1859470200@cbcburlingtonnj.org
SUMMARY:Nursing Home Ministries (First Sunday)
DESCRIPTION:When: Complete Care @ Burlington Woods \nTime: 2:30 to 3:30 PM \n  \nWhen: Wynwood Rehab/HealthCare Ctr. \nTime: 2:00 to 3:00 PM.
URL:https://cbcburlingtonnj.org/event/nursing-home-ministries/2028-12-03/
LOCATION:Complete Care @ Burlington Woods\, 115 Sunset Rd\, Burlington\, 08016\, United States
CATEGORIES:CBC EVENTS
END:VEVENT
BEGIN:VEVENT
DTSTART;TZID=America/New_York:20281231T140000
DTEND;TZID=America/New_York:20281231T150000
DTSTAMP:20260423T141424
CREATED:20250610T155527Z
LAST-MODIFIED:20250610T155551Z
UID:10002867-1861884000-1861887600@cbcburlingtonnj.org
SUMMARY:Nursing Home Ministries (Fifth Sunday)
DESCRIPTION:When: Wynwood Rehab/HealthCare Ctr\nTime: 2:00 to 3:00 PM
URL:https://cbcburlingtonnj.org/event/nursing-home-ministries-4/2028-12-31/
LOCATION:Wynwood Rehabilitation and Healthcare Center\, 1700 Wynwood Dr\, Cinnaminson\, 08077\, United States
END:VEVENT
BEGIN:VEVENT
DTSTART;TZID=America/New_York:20290107T143000
DTEND;TZID=America/New_York:20290107T153000
DTSTAMP:20260423T141424
CREATED:20250610T155036Z
LAST-MODIFIED:20250610T160010Z
UID:10002917-1862490600-1862494200@cbcburlingtonnj.org
SUMMARY:Nursing Home Ministries (First Sunday)
DESCRIPTION:When: Complete Care @ Burlington Woods \nTime: 2:30 to 3:30 PM \n  \nWhen: Wynwood Rehab/HealthCare Ctr. \nTime: 2:00 to 3:00 PM.
URL:https://cbcburlingtonnj.org/event/nursing-home-ministries/2029-01-07/
LOCATION:Complete Care @ Burlington Woods\, 115 Sunset Rd\, Burlington\, 08016\, United States
CATEGORIES:CBC EVENTS
END:VEVENT
BEGIN:VEVENT
DTSTART;TZID=America/New_York:20290204T143000
DTEND;TZID=America/New_York:20290204T153000
DTSTAMP:20260423T141424
CREATED:20250610T155036Z
LAST-MODIFIED:20250610T160010Z
UID:10002918-1864909800-1864913400@cbcburlingtonnj.org
SUMMARY:Nursing Home Ministries (First Sunday)
DESCRIPTION:When: Complete Care @ Burlington Woods \nTime: 2:30 to 3:30 PM \n  \nWhen: Wynwood Rehab/HealthCare Ctr. \nTime: 2:00 to 3:00 PM.
URL:https://cbcburlingtonnj.org/event/nursing-home-ministries/2029-02-04/
LOCATION:Complete Care @ Burlington Woods\, 115 Sunset Rd\, Burlington\, 08016\, United States
CATEGORIES:CBC EVENTS
END:VEVENT
BEGIN:VEVENT
DTSTART;TZID=America/New_York:20290304T143000
DTEND;TZID=America/New_York:20290304T153000
DTSTAMP:20260423T141424
CREATED:20250610T155036Z
LAST-MODIFIED:20250610T160010Z
UID:10002919-1867329000-1867332600@cbcburlingtonnj.org
SUMMARY:Nursing Home Ministries (First Sunday)
DESCRIPTION:When: Complete Care @ Burlington Woods \nTime: 2:30 to 3:30 PM \n  \nWhen: Wynwood Rehab/HealthCare Ctr. \nTime: 2:00 to 3:00 PM.
URL:https://cbcburlingtonnj.org/event/nursing-home-ministries/2029-03-04/
LOCATION:Complete Care @ Burlington Woods\, 115 Sunset Rd\, Burlington\, 08016\, United States
CATEGORIES:CBC EVENTS
END:VEVENT
BEGIN:VEVENT
DTSTART;TZID=America/New_York:20290401T143000
DTEND;TZID=America/New_York:20290401T153000
DTSTAMP:20260423T141424
CREATED:20250610T155036Z
LAST-MODIFIED:20250610T160010Z
UID:10002920-1869748200-1869751800@cbcburlingtonnj.org
SUMMARY:Nursing Home Ministries (First Sunday)
DESCRIPTION:When: Complete Care @ Burlington Woods \nTime: 2:30 to 3:30 PM \n  \nWhen: Wynwood Rehab/HealthCare Ctr. \nTime: 2:00 to 3:00 PM.
URL:https://cbcburlingtonnj.org/event/nursing-home-ministries/2029-04-01/
LOCATION:Complete Care @ Burlington Woods\, 115 Sunset Rd\, Burlington\, 08016\, United States
CATEGORIES:CBC EVENTS
END:VEVENT
BEGIN:VEVENT
DTSTART;TZID=America/New_York:20290429T140000
DTEND;TZID=America/New_York:20290429T150000
DTSTAMP:20260423T141424
CREATED:20250610T155527Z
LAST-MODIFIED:20250610T155551Z
UID:10002868-1872165600-1872169200@cbcburlingtonnj.org
SUMMARY:Nursing Home Ministries (Fifth Sunday)
DESCRIPTION:When: Wynwood Rehab/HealthCare Ctr\nTime: 2:00 to 3:00 PM
URL:https://cbcburlingtonnj.org/event/nursing-home-ministries-4/2029-04-29/
LOCATION:Wynwood Rehabilitation and Healthcare Center\, 1700 Wynwood Dr\, Cinnaminson\, 08077\, United States
END:VEVENT
BEGIN:VEVENT
DTSTART;TZID=America/New_York:20290506T143000
DTEND;TZID=America/New_York:20290506T153000
DTSTAMP:20260423T141424
CREATED:20250610T155036Z
LAST-MODIFIED:20250610T160010Z
UID:10002921-1872772200-1872775800@cbcburlingtonnj.org
SUMMARY:Nursing Home Ministries (First Sunday)
DESCRIPTION:When: Complete Care @ Burlington Woods \nTime: 2:30 to 3:30 PM \n  \nWhen: Wynwood Rehab/HealthCare Ctr. \nTime: 2:00 to 3:00 PM.
URL:https://cbcburlingtonnj.org/event/nursing-home-ministries/2029-05-06/
LOCATION:Complete Care @ Burlington Woods\, 115 Sunset Rd\, Burlington\, 08016\, United States
CATEGORIES:CBC EVENTS
END:VEVENT
BEGIN:VEVENT
DTSTART;TZID=America/New_York:20290603T143000
DTEND;TZID=America/New_York:20290603T153000
DTSTAMP:20260423T141424
CREATED:20250610T155036Z
LAST-MODIFIED:20250610T160010Z
UID:10002922-1875191400-1875195000@cbcburlingtonnj.org
SUMMARY:Nursing Home Ministries (First Sunday)
DESCRIPTION:When: Complete Care @ Burlington Woods \nTime: 2:30 to 3:30 PM \n  \nWhen: Wynwood Rehab/HealthCare Ctr. \nTime: 2:00 to 3:00 PM.
URL:https://cbcburlingtonnj.org/event/nursing-home-ministries/2029-06-03/
LOCATION:Complete Care @ Burlington Woods\, 115 Sunset Rd\, Burlington\, 08016\, United States
CATEGORIES:CBC EVENTS
END:VEVENT
BEGIN:VEVENT
DTSTART;TZID=America/New_York:20290701T143000
DTEND;TZID=America/New_York:20290701T153000
DTSTAMP:20260423T141424
CREATED:20250610T155036Z
LAST-MODIFIED:20250610T160010Z
UID:10002923-1877610600-1877614200@cbcburlingtonnj.org
SUMMARY:Nursing Home Ministries (First Sunday)
DESCRIPTION:When: Complete Care @ Burlington Woods \nTime: 2:30 to 3:30 PM \n  \nWhen: Wynwood Rehab/HealthCare Ctr. \nTime: 2:00 to 3:00 PM.
URL:https://cbcburlingtonnj.org/event/nursing-home-ministries/2029-07-01/
LOCATION:Complete Care @ Burlington Woods\, 115 Sunset Rd\, Burlington\, 08016\, United States
CATEGORIES:CBC EVENTS
END:VEVENT
BEGIN:VEVENT
DTSTART;TZID=America/New_York:20290729T140000
DTEND;TZID=America/New_York:20290729T150000
DTSTAMP:20260423T141424
CREATED:20250610T155527Z
LAST-MODIFIED:20250610T155551Z
UID:10002869-1880028000-1880031600@cbcburlingtonnj.org
SUMMARY:Nursing Home Ministries (Fifth Sunday)
DESCRIPTION:When: Wynwood Rehab/HealthCare Ctr\nTime: 2:00 to 3:00 PM
URL:https://cbcburlingtonnj.org/event/nursing-home-ministries-4/2029-07-29/
LOCATION:Wynwood Rehabilitation and Healthcare Center\, 1700 Wynwood Dr\, Cinnaminson\, 08077\, United States
END:VEVENT
BEGIN:VEVENT
DTSTART;TZID=America/New_York:20290805T143000
DTEND;TZID=America/New_York:20290805T153000
DTSTAMP:20260423T141424
CREATED:20250610T155036Z
LAST-MODIFIED:20250610T160010Z
UID:10002924-1880634600-1880638200@cbcburlingtonnj.org
SUMMARY:Nursing Home Ministries (First Sunday)
DESCRIPTION:When: Complete Care @ Burlington Woods \nTime: 2:30 to 3:30 PM \n  \nWhen: Wynwood Rehab/HealthCare Ctr. \nTime: 2:00 to 3:00 PM.
URL:https://cbcburlingtonnj.org/event/nursing-home-ministries/2029-08-05/
LOCATION:Complete Care @ Burlington Woods\, 115 Sunset Rd\, Burlington\, 08016\, United States
CATEGORIES:CBC EVENTS
END:VEVENT
END:VCALENDAR